BEGIN:VCALENDAR
VERSION:2.0
PRODID:-//Beulah Baptist Church - ECPv6.15.20//NONSGML v1.0//EN
CALSCALE:GREGORIAN
METHOD:PUBLISH
X-ORIGINAL-URL:https://beulahbaptistva.com
X-WR-CALDESC:Events for Beulah Baptist Church
REFRESH-INTERVAL;VALUE=DURATION:PT1H
X-Robots-Tag:noindex
X-PUBLISHED-TTL:PT1H
BEGIN:VTIMEZONE
TZID:America/New_York
BEGIN:DAYLIGHT
TZOFFSETFROM:-0500
TZOFFSETTO:-0400
TZNAME:EDT
DTSTART:20230312T070000
END:DAYLIGHT
BEGIN:STANDARD
TZOFFSETFROM:-0400
TZOFFSETTO:-0500
TZNAME:EST
DTSTART:20231105T060000
END:STANDARD
BEGIN:DAYLIGHT
TZOFFSETFROM:-0500
TZOFFSETTO:-0400
TZNAME:EDT
DTSTART:20240310T070000
END:DAYLIGHT
BEGIN:STANDARD
TZOFFSETFROM:-0400
TZOFFSETTO:-0500
TZNAME:EST
DTSTART:20241103T060000
END:STANDARD
BEGIN:DAYLIGHT
TZOFFSETFROM:-0500
TZOFFSETTO:-0400
TZNAME:EDT
DTSTART:20250309T070000
END:DAYLIGHT
BEGIN:STANDARD
TZOFFSETFROM:-0400
TZOFFSETTO:-0500
TZNAME:EST
DTSTART:20251102T060000
END:STANDARD
END:VTIMEZONE
BEGIN:VEVENT
DTSTART;TZID=America/New_York:20241105T000000
DTEND;TZID=America/New_York:20241105T235900
DTSTAMP:20260419T101846
CREATED:20241103T005547Z
LAST-MODIFIED:20241103T005547Z
UID:11420-1730764800-1730851140@beulahbaptistva.com
SUMMARY:Daily Scripture For Spiritual Growth & Outreach
DESCRIPTION:TUESDAY:  Isaiah 61:1-4 – \n\nThe Spirit of the Sovereign Lord is on me\,\n    because the Lord has anointed me\n    to proclaim good news to the poor.\nHe has sent me to bind up the brokenhearted\,\n    to proclaim freedom for the captives\n    and release from darkness for the prisoners\,\n2 to proclaim the year of the Lord’s favor\n    and the day of vengeance of our God\,\nto comfort all who mourn\,\n3     and provide for those who grieve in Zion—\nto bestow on them a crown of beauty\n    instead of ashes\,\nthe oil of joy\n    instead of mourning\,\nand a garment of praise\n    instead of a spirit of despair.\nThey will be called oaks of righteousness\,\n    a planting of the Lord\n    for the display of his splendor. \n\n\n4 They will rebuild the ancient ruins\n    and restore the places long devastated;\nthey will renew the ruined cities\n    that have been devastated for generations.
URL:https://beulahbaptistva.com/event/daily-scripture-for-spiritual-growth-outreach-1811/
LOCATION:Beulah Baptist Church\, 320 South Washington Street\, Alexandria\, VA\, 22314
CATEGORIES:Community,Daily Scriptures,Outreach
ATTACH;FMTTYPE=image/jpeg:https://beulahbaptistva.com/wp-content/uploads/2018/07/cropped-Beulah-Crown.jpg
END:VEVENT
BEGIN:VEVENT
DTSTART;TZID=America/New_York:20241106T000000
DTEND;TZID=America/New_York:20241106T235900
DTSTAMP:20260419T101846
CREATED:20241103T005855Z
LAST-MODIFIED:20241103T005855Z
UID:11422-1730851200-1730937540@beulahbaptistva.com
SUMMARY:Daily Scripture For Spiritual Growth & Outreach
DESCRIPTION:WEDNESDAY:  Luke 14:13-14 – 13 But when you give a banquet\, invite the poor\, the crippled\, the lame\, the blind\, 14 and you will be blessed. Although they cannot repay you\, you will be repaid at the resurrection of the righteous.”
URL:https://beulahbaptistva.com/event/daily-scripture-for-spiritual-growth-outreach-1812/
LOCATION:Beulah Baptist Church\, 320 South Washington Street\, Alexandria\, VA\, 22314
CATEGORIES:Community,Daily Scriptures,Outreach
ATTACH;FMTTYPE=image/jpeg:https://beulahbaptistva.com/wp-content/uploads/2018/07/cropped-Beulah-Crown.jpg
END:VEVENT
BEGIN:VEVENT
DTSTART;TZID=America/New_York:20241107T000000
DTEND;TZID=America/New_York:20241107T235900
DTSTAMP:20260419T101846
CREATED:20241103T010141Z
LAST-MODIFIED:20241103T010141Z
UID:11424-1730937600-1731023940@beulahbaptistva.com
SUMMARY:Daily Scripture For Spiritual Growth & Outreach
DESCRIPTION:THURSDAY:  Luke 6:38 – Give\, and it will be given to you. A good measure\, pressed down\, shaken together and running over\, will be poured into your lap. For with the measure you use\, it will be measured to you.”
URL:https://beulahbaptistva.com/event/daily-scripture-for-spiritual-growth-outreach-1813/
LOCATION:Beulah Baptist Church\, 320 South Washington Street\, Alexandria\, VA\, 22314
CATEGORIES:Community,Daily Scriptures,Outreach
ATTACH;FMTTYPE=image/jpeg:https://beulahbaptistva.com/wp-content/uploads/2018/07/cropped-Beulah-Crown.jpg
END:VEVENT
BEGIN:VEVENT
DTSTART;TZID=America/New_York:20241108T000000
DTEND;TZID=America/New_York:20241108T235900
DTSTAMP:20260419T101846
CREATED:20241103T010417Z
LAST-MODIFIED:20241103T010417Z
UID:11426-1731024000-1731110340@beulahbaptistva.com
SUMMARY:Daily Scripture for Spiritual Growth & Outreach
DESCRIPTION:FRIDAY:  James 1:27 – Religion that God our Father accepts as pure and faultless is this: to look after orphans and widows in their distress and to keep oneself from being polluted by the world.
URL:https://beulahbaptistva.com/event/daily-scripture-for-spiritual-growth-outreach-1814/
LOCATION:Beulah Baptist Church\, 320 South Washington Street\, Alexandria\, VA\, 22314
CATEGORIES:Community,Daily Scriptures,Outreach
ATTACH;FMTTYPE=image/jpeg:https://beulahbaptistva.com/wp-content/uploads/2018/07/cropped-Beulah-Crown.jpg
END:VEVENT
BEGIN:VEVENT
DTSTART;TZID=America/New_York:20241109T000000
DTEND;TZID=America/New_York:20241109T235900
DTSTAMP:20260419T101846
CREATED:20241103T010818Z
LAST-MODIFIED:20241103T010818Z
UID:11428-1731110400-1731196740@beulahbaptistva.com
SUMMARY:Daily Scripture For Spiritual Growth & Outreach
DESCRIPTION:SATURDAY:  Ephesians 5:18-21 – 18 Do not get drunk on wine\, which leads to debauchery. Instead\, be filled with the Spirit\, 19 speaking to one another with psalms\, hymns\, and songs from the Spirit. Sing and make music from your heart to the Lord\, 20 always giving thanks to God the Father for everything\, in the name of our Lord Jesus Christ.  21 Submit to one another out of reverence for Christ.
URL:https://beulahbaptistva.com/event/daily-scripture-for-spiritual-growth-outreach-1815/
LOCATION:Beulah Baptist Church\, 320 South Washington Street\, Alexandria\, VA\, 22314
CATEGORIES:Community,Daily Scriptures,Outreach
ATTACH;FMTTYPE=image/jpeg:https://beulahbaptistva.com/wp-content/uploads/2018/07/cropped-Beulah-Crown.jpg
END:VEVENT
BEGIN:VEVENT
DTSTART;TZID=America/New_York:20241109T110000
DTEND;TZID=America/New_York:20241109T123000
DTSTAMP:20260419T101846
CREATED:20241025T181239Z
LAST-MODIFIED:20241027T015427Z
UID:11397-1731150000-1731155400@beulahbaptistva.com
SUMMARY:Beulah's Inspirational Journeys
DESCRIPTION:Join US Today\, as we conclude our reading of\, “More Than I Imagined” by Author John Blake.  Read  Chapters 7-9 & Epilogue for our discussion via Zoom. \nZoom Info: \nID:  472 121 0453 \nDial In:  (415) 762-9988 or (646) 568-7788 (Use ID above)
URL:https://beulahbaptistva.com/event/beulahs-inspirational-journeys-29/
LOCATION:Beulah Baptist Church\, 320 South Washington Street\, Alexandria\, VA\, 22314
CATEGORIES:Meeting
ATTACH;FMTTYPE=image/jpeg:https://beulahbaptistva.com/wp-content/uploads/2023/12/More-Than-I-Imagined.jpg
END:VEVENT
BEGIN:VEVENT
DTSTART;TZID=America/New_York:20241110T000000
DTEND;TZID=America/New_York:20241110T235900
DTSTAMP:20260419T101846
CREATED:20241110T024428Z
LAST-MODIFIED:20241110T024428Z
UID:11437-1731196800-1731283140@beulahbaptistva.com
SUMMARY:Daily Scripture For Spiritual Growth & Outreach
DESCRIPTION:SUNDAY:  2 Thessalonians 2:14 – He called you to this through our gospel\, that you might share in the glory of our Lord Jesus Christ.
URL:https://beulahbaptistva.com/event/daily-scripture-for-spiritual-growth-outreach-1816/
LOCATION:Beulah Baptist Church\, 320 South Washington Street\, Alexandria\, VA\, 22314
CATEGORIES:Community,Daily Scriptures,Outreach
ATTACH;FMTTYPE=image/jpeg:https://beulahbaptistva.com/wp-content/uploads/2018/07/cropped-Beulah-Crown.jpg
END:VEVENT
BEGIN:VEVENT
DTSTART;TZID=America/New_York:20241110T103000
DTEND;TZID=America/New_York:20241110T123000
DTSTAMP:20260419T101846
CREATED:20240706T142807Z
LAST-MODIFIED:20241110T032117Z
UID:11054-1731234600-1731241800@beulahbaptistva.com
SUMMARY:Sunday Morning Worship
DESCRIPTION:Join Us Today for Worship!     View on https://www.facebook.com/beulahbaptistva  – Or on Beulah’s Official YouTube Channel 
URL:https://beulahbaptistva.com/event/sunday-morning-worship-2024-11-10/
LOCATION:Beulah Baptist Church\, 320 South Washington Street\, Alexandria\, VA\, 22314
CATEGORIES:Community,Outreach,Service
ATTACH;FMTTYPE=image/jpeg:https://beulahbaptistva.com/wp-content/uploads/2018/07/cropped-Beulah-Crown.jpg
END:VEVENT
BEGIN:VEVENT
DTSTART;TZID=America/New_York:20241110T103100
DTEND;TZID=America/New_York:20241110T123000
DTSTAMP:20260419T101846
CREATED:20241110T030920Z
LAST-MODIFIED:20241110T030920Z
UID:11451-1731234660-1731241800@beulahbaptistva.com
SUMMARY:Sunday Bulletin
DESCRIPTION:Bulletin for Sunday Morning Service for November 10\, 2024.
URL:https://beulahbaptistva.com/event/sunday-bulletin-129/
LOCATION:Beulah Baptist Church\, 320 South Washington Street\, Alexandria\, VA\, 22314
CATEGORIES:Community,Outreach,Service
ATTACH;FMTTYPE=image/jpeg:https://beulahbaptistva.com/wp-content/uploads/2024/11/Bulletin-11.10.24-scaled.jpg
END:VEVENT
BEGIN:VEVENT
DTSTART;TZID=America/New_York:20241110T150000
DTEND;TZID=America/New_York:20241110T150000
DTSTAMP:20260419T101846
CREATED:20241103T013102Z
LAST-MODIFIED:20241103T013102Z
UID:11433-1731250800-1731250800@beulahbaptistva.com
SUMMARY:Community Event
DESCRIPTION:Roberts Memorial UMC Men’s Day.  Guest Speaker:  Rev. Quardricos B. Driskell\, Senior Pastor\, Beulah Baptist Church.
URL:https://beulahbaptistva.com/event/community-event-13/
LOCATION:Roberts Memorial UMC\, 606 South Washington Street\, Alexandria\, VA\, 22314\, United States
CATEGORIES:Community,Service
ATTACH;FMTTYPE=image/png:https://beulahbaptistva.com/wp-content/uploads/2024/11/Updated-2024-Mens-Day-Flyer-Poster.png
END:VEVENT
BEGIN:VEVENT
DTSTART;TZID=America/New_York:20241111T000000
DTEND;TZID=America/New_York:20241111T235900
DTSTAMP:20260419T101846
CREATED:20241110T024820Z
LAST-MODIFIED:20241110T024820Z
UID:11439-1731283200-1731369540@beulahbaptistva.com
SUMMARY:Daily Scripture For Spiritual Growth & Outreach
DESCRIPTION:MONDAY:  Galatians 6:10 – Therefore\, as we have opportunity\, let us do good to all people\, especially to those who belong to the family of believers.
URL:https://beulahbaptistva.com/event/daily-scripture-for-spiritual-growth-outreach-1817/
LOCATION:Beulah Baptist Church\, 320 South Washington Street\, Alexandria\, VA\, 22314
CATEGORIES:Community,Daily Scriptures,Outreach
ATTACH;FMTTYPE=image/jpeg:https://beulahbaptistva.com/wp-content/uploads/2018/07/cropped-Beulah-Crown.jpg
END:VEVENT
BEGIN:VEVENT
DTSTART;TZID=America/New_York:20241112T000000
DTEND;TZID=America/New_York:20241112T235900
DTSTAMP:20260419T101846
CREATED:20241110T025135Z
LAST-MODIFIED:20241110T025135Z
UID:11441-1731369600-1731455940@beulahbaptistva.com
SUMMARY:Daily Scripture For Spiritual Growth & Outreach
DESCRIPTION:TUESDAY:  Mark 16:15 – He said to them\, “Go into all the world and preach the gospel to all creation.
URL:https://beulahbaptistva.com/event/daily-scripture-for-spiritual-growth-outreach-1818/
LOCATION:Beulah Baptist Church\, 320 South Washington Street\, Alexandria\, VA\, 22314
CATEGORIES:Community,Daily Scriptures,Outreach
ATTACH;FMTTYPE=image/jpeg:https://beulahbaptistva.com/wp-content/uploads/2018/07/cropped-Beulah-Crown.jpg
END:VEVENT
BEGIN:VEVENT
DTSTART;TZID=America/New_York:20241113T080000
DTEND;TZID=America/New_York:20241113T170000
DTSTAMP:20260419T101846
CREATED:20241110T025429Z
LAST-MODIFIED:20241110T025429Z
UID:11443-1731484800-1731517200@beulahbaptistva.com
SUMMARY:Daily Scripture For Spiritual Growth & Outreach
DESCRIPTION:WEDNESDAY:  Jeremiah 1:7 – But the Lord said to me\, “Do not say\, ‘I am too young.’ You must go to everyone I send you to and say whatever I command you.
URL:https://beulahbaptistva.com/event/daily-scripture-for-spiritual-growth-outreach-1819/
LOCATION:Beulah Baptist Church\, 320 South Washington Street\, Alexandria\, VA\, 22314
CATEGORIES:Community,Daily Scriptures,Outreach
ATTACH;FMTTYPE=image/jpeg:https://beulahbaptistva.com/wp-content/uploads/2018/07/cropped-Beulah-Crown.jpg
END:VEVENT
BEGIN:VEVENT
DTSTART;TZID=America/New_York:20241114T000000
DTEND;TZID=America/New_York:20241114T235900
DTSTAMP:20260419T101846
CREATED:20241110T025823Z
LAST-MODIFIED:20241110T025823Z
UID:11445-1731542400-1731628740@beulahbaptistva.com
SUMMARY:Daily Scripture For Spiritual Growth & Outreach
DESCRIPTION:THURSDAY:  Romans 10:14 – How\, then\, can they call on the one they have not believed in? And how can they believe in the one of whom they have not heard? And how can they hear without someone preaching to them?
URL:https://beulahbaptistva.com/event/daily-scripture-for-spiritual-growth-outreach-1820/
LOCATION:Beulah Baptist Church\, 320 South Washington Street\, Alexandria\, VA\, 22314
CATEGORIES:Community,Daily Scriptures,Outreach
ATTACH;FMTTYPE=image/jpeg:https://beulahbaptistva.com/wp-content/uploads/2018/07/cropped-Beulah-Crown.jpg
END:VEVENT
BEGIN:VEVENT
DTSTART;TZID=America/New_York:20241115T000000
DTEND;TZID=America/New_York:20241115T235900
DTSTAMP:20260419T101846
CREATED:20241110T030216Z
LAST-MODIFIED:20241110T030216Z
UID:11447-1731628800-1731715140@beulahbaptistva.com
SUMMARY:Daily Scripture For Spiritual Growth & Outreach
DESCRIPTION:FRIDAY:  Matthew 28:19 – Therefore go and make disciples of all nations\, baptizing them in the name of the Father and of the Son and of the Holy Spirit\,
URL:https://beulahbaptistva.com/event/daily-scripture-for-spiritual-growth-outreach-1821/
LOCATION:Beulah Baptist Church\, 320 South Washington Street\, Alexandria\, VA\, 22314
CATEGORIES:Community,Daily Scriptures,Outreach
ATTACH;FMTTYPE=image/jpeg:https://beulahbaptistva.com/wp-content/uploads/2018/07/cropped-Beulah-Crown.jpg
END:VEVENT
BEGIN:VEVENT
DTSTART;TZID=America/New_York:20241116T000000
DTEND;TZID=America/New_York:20241116T235900
DTSTAMP:20260419T101846
CREATED:20241110T030510Z
LAST-MODIFIED:20241110T030510Z
UID:11449-1731715200-1731801540@beulahbaptistva.com
SUMMARY:Daily Scripture For Spiritual Growth & Outreach
DESCRIPTION:SATURDAY:  2 Timothy 4:2 – Preach the word; be prepared in season and out of season; correct\, rebuke and encourage—with great patience and careful instruction.
URL:https://beulahbaptistva.com/event/daily-scripture-for-spiritual-growth-outreach-1822/
LOCATION:Beulah Baptist Church\, 320 South Washington Street\, Alexandria\, VA\, 22314
CATEGORIES:Community,Daily Scriptures,Outreach
ATTACH;FMTTYPE=image/jpeg:https://beulahbaptistva.com/wp-content/uploads/2018/07/cropped-Beulah-Crown.jpg
END:VEVENT
BEGIN:VEVENT
DTSTART;TZID=America/New_York:20241117T000000
DTEND;TZID=America/New_York:20241117T235900
DTSTAMP:20260419T101846
CREATED:20241117T013151Z
LAST-MODIFIED:20241117T013151Z
UID:11649-1731801600-1731887940@beulahbaptistva.com
SUMMARY:Daily Scripture For Spiritual Growth & Outreach
DESCRIPTION:SUNDAY:  Luke 1:80 – And the child grew and became strong in spirit; and he lived in the wilderness until he appeared publicly to Israel.
URL:https://beulahbaptistva.com/event/daily-scripture-for-spiritual-growth-outreach-1823/
LOCATION:Beulah Baptist Church\, 320 South Washington Street\, Alexandria\, VA\, 22314
CATEGORIES:Community,Daily Scriptures,Outreach
ATTACH;FMTTYPE=image/jpeg:https://beulahbaptistva.com/wp-content/uploads/2018/07/cropped-Beulah-Crown.jpg
END:VEVENT
BEGIN:VEVENT
DTSTART;TZID=America/New_York:20241117T103000
DTEND;TZID=America/New_York:20241117T123000
DTSTAMP:20260419T101846
CREATED:20240706T142807Z
LAST-MODIFIED:20241110T032515Z
UID:11055-1731839400-1731846600@beulahbaptistva.com
SUMMARY:Sunday Morning Worship
DESCRIPTION:Join Us Today for Family & Friends Day!     View on https://www.facebook.com/beulahbaptistva  – Or on Beulah’s Official YouTube Channel 
URL:https://beulahbaptistva.com/event/sunday-morning-worship-2024-11-17/
LOCATION:Beulah Baptist Church\, 320 South Washington Street\, Alexandria\, VA\, 22314
CATEGORIES:Community,Outreach,Service
ATTACH;FMTTYPE=application/pdf:https://beulahbaptistva.com/wp-content/uploads/2024/07/Family.Friends-Day3-1.pdf
END:VEVENT
BEGIN:VEVENT
DTSTART;TZID=America/New_York:20241117T103100
DTEND;TZID=America/New_York:20241117T123000
DTSTAMP:20260419T101846
CREATED:20241117T020336Z
LAST-MODIFIED:20241117T020632Z
UID:11663-1731839460-1731846600@beulahbaptistva.com
SUMMARY:Sunday Bulletin
DESCRIPTION:Bulletin for Morning Worship on November 17\, 2024.  Today is Family & Friends Day – Join us for Worship!
URL:https://beulahbaptistva.com/event/sunday-bulletin-130/
LOCATION:Beulah Baptist Church\, 320 South Washington Street\, Alexandria\, VA\, 22314
CATEGORIES:Community,Outreach,Service
ATTACH;FMTTYPE=image/jpeg:https://beulahbaptistva.com/wp-content/uploads/2024/11/Bulletin-11.17.24-scaled.jpg
END:VEVENT
BEGIN:VEVENT
DTSTART;TZID=America/New_York:20241118T000000
DTEND;TZID=America/New_York:20241118T235900
DTSTAMP:20260419T101846
CREATED:20241117T013454Z
LAST-MODIFIED:20241117T013454Z
UID:11651-1731888000-1731974340@beulahbaptistva.com
SUMMARY:Daily Scripture For Spiritual Growth & Outreach
DESCRIPTION:MONDAY:  Acts 2:42-47 – 42 They devoted themselves to the apostles’ teaching and to fellowship\, to the breaking of bread and to prayer. 43 Everyone was filled with awe at the many wonders and signs performed by the apostles. 44 All the believers were together and had everything in common. 45 They sold property and possessions to give to anyone who had need. 46 Every day they continued to meet together in the temple courts. They broke bread in their homes and ate together with glad and sincere hearts\, 47 praising God and enjoying the favor of all the people. And the Lord added to their number daily those who were being saved.
URL:https://beulahbaptistva.com/event/daily-scripture-for-spiritual-growth-outreach-1824/
LOCATION:Beulah Baptist Church\, 320 South Washington Street\, Alexandria\, VA\, 22314
CATEGORIES:Community,Daily Scriptures,Outreach
ATTACH;FMTTYPE=image/jpeg:https://beulahbaptistva.com/wp-content/uploads/2018/07/cropped-Beulah-Crown.jpg
END:VEVENT
BEGIN:VEVENT
DTSTART;TZID=America/New_York:20241119T000000
DTEND;TZID=America/New_York:20241119T235900
DTSTAMP:20260419T101846
CREATED:20241117T014016Z
LAST-MODIFIED:20241117T014016Z
UID:11653-1731974400-1732060740@beulahbaptistva.com
SUMMARY:Daily Scripture For Spiritual Growth & Outreach
DESCRIPTION:TUESDAY:  Hebrews 13:5-6 –  5 Keep your lives free from the love of money and be content with what you have\, because God has said\, “Never will I leave you; never will I forsake you.”  6 So we say with confidence\, “The Lord is my helper; I will not be afraid.  What can mere mortals do to me?”
URL:https://beulahbaptistva.com/event/daily-scripture-for-spiritual-growth-outreach-1825/
LOCATION:Beulah Baptist Church\, 320 South Washington Street\, Alexandria\, VA\, 22314
CATEGORIES:Community,Daily Scriptures,Outreach
ATTACH;FMTTYPE=image/jpeg:https://beulahbaptistva.com/wp-content/uploads/2018/07/cropped-Beulah-Crown.jpg
END:VEVENT
BEGIN:VEVENT
DTSTART;TZID=America/New_York:20241120T000000
DTEND;TZID=America/New_York:20241120T235900
DTSTAMP:20260419T101846
CREATED:20241117T014351Z
LAST-MODIFIED:20241117T014351Z
UID:11655-1732060800-1732147140@beulahbaptistva.com
SUMMARY:Daily Scripture For Spiritual Growth & Outreach
DESCRIPTION:WEDNESDAY:  1 Corinthians 2:6 – We do\, however\, speak a message of wisdom among the mature\, but not the wisdom of this age or of the rulers of this age\, who are coming to nothing.
URL:https://beulahbaptistva.com/event/daily-scripture-for-spiritual-growth-outreach-1826/
LOCATION:Beulah Baptist Church\, 320 South Washington Street\, Alexandria\, VA\, 22314
CATEGORIES:Community,Daily Scriptures,Outreach
ATTACH;FMTTYPE=image/jpeg:https://beulahbaptistva.com/wp-content/uploads/2018/07/cropped-Beulah-Crown.jpg
END:VEVENT
BEGIN:VEVENT
DTSTART;TZID=America/New_York:20241121T000000
DTEND;TZID=America/New_York:20241121T235900
DTSTAMP:20260419T101846
CREATED:20241117T014831Z
LAST-MODIFIED:20241117T014831Z
UID:11657-1732147200-1732233540@beulahbaptistva.com
SUMMARY:Daily Scripture For Spiritual Growth & Outreach
DESCRIPTION:THURSDAY:  Colossians 3:1-17 –  Since\, then\, you have been raised with Christ\, set your hearts on things above\, where Christ is\, seated at the right hand of God. 2 Set your minds on things above\, not on earthly things. 3 For you died\, and your life is now hidden with Christ in God. 4 When Christ\, who is your life\, appears\, then you also will appear with him in glory. \n5 Put to death\, therefore\, whatever belongs to your earthly nature: sexual immorality\, impurity\, lust\, evil desires and greed\, which is idolatry. 6 Because of these\, the wrath of God is coming. 7 You used to walk in these ways\, in the life you once lived. 8 But now you must also rid yourselves of all such things as these: anger\, rage\, malice\, slander\, and filthy language from your lips. 9 Do not lie to each other\, since you have taken off your old self with its practices 10 and have put on the new self\, which is being renewed in knowledge in the image of its Creator. 11 Here there is no Gentile or Jew\, circumcised or uncircumcised\, barbarian\, Scythian\, slave or free\, but Christ is all\, and is in all. \n12 Therefore\, as God’s chosen people\, holy and dearly loved\, clothe yourselves with compassion\, kindness\, humility\, gentleness and patience. 13 Bear with each other and forgive one another if any of you has a grievance against someone. Forgive as the Lord forgave you. 14 And over all these virtues put on love\, which binds them all together in perfect unity. \n15 Let the peace of Christ rule in your hearts\, since as members of one body you were called to peace. And be thankful. 16 Let the message of Christ dwell among you richly as you teach and admonish one another with all wisdom through psalms\, hymns\, and songs from the Spirit\, singing to God with gratitude in your hearts. 17 And whatever you do\, whether in word or deed\, do it all in the name of the Lord Jesus\, giving thanks to God the Father through him.
URL:https://beulahbaptistva.com/event/daily-scripture-for-spiritual-growth-outreach-1827/
LOCATION:Beulah Baptist Church\, 320 South Washington Street\, Alexandria\, VA\, 22314
CATEGORIES:Community,Daily Scriptures,Outreach
ATTACH;FMTTYPE=image/jpeg:https://beulahbaptistva.com/wp-content/uploads/2018/07/cropped-Beulah-Crown.jpg
END:VEVENT
BEGIN:VEVENT
DTSTART;TZID=America/New_York:20241122T000000
DTEND;TZID=America/New_York:20241122T235900
DTSTAMP:20260419T101846
CREATED:20241117T015219Z
LAST-MODIFIED:20241117T015219Z
UID:11659-1732233600-1732319940@beulahbaptistva.com
SUMMARY:Daily Scripture For Spiritual Growth & Outreach
DESCRIPTION:FRIDAY:  Psalm 119:105 – Your word is a lamp for my feet\, a light on my path.
URL:https://beulahbaptistva.com/event/daily-scripture-for-spiritual-growth-outreach-1828/
LOCATION:Beulah Baptist Church\, 320 South Washington Street\, Alexandria\, VA\, 22314
CATEGORIES:Community,Daily Scriptures,Outreach
ATTACH;FMTTYPE=image/jpeg:https://beulahbaptistva.com/wp-content/uploads/2018/07/cropped-Beulah-Crown.jpg
END:VEVENT
BEGIN:VEVENT
DTSTART;TZID=America/New_York:20241123T000000
DTEND;TZID=America/New_York:20241123T235900
DTSTAMP:20260419T101846
CREATED:20241117T015649Z
LAST-MODIFIED:20241117T015649Z
UID:11661-1732320000-1732406340@beulahbaptistva.com
SUMMARY:Daily Scripture For Spiritual Growth & Outreach
DESCRIPTION:SATURDAY:  John 14:16-17 – 16 And I will ask the Father\, and he will give you another advocate to help you and be with you forever— 17 the Spirit of truth. The world cannot accept him\, because it neither sees him nor knows him. But you know him\, for he lives with you and will be in you.
URL:https://beulahbaptistva.com/event/daily-scripture-for-spiritual-growth-outreach-1829/
LOCATION:Beulah Baptist Church\, 320 South Washington Street\, Alexandria\, VA\, 22314
CATEGORIES:Community,Daily Scriptures,Outreach
ATTACH;FMTTYPE=image/jpeg:https://beulahbaptistva.com/wp-content/uploads/2018/07/cropped-Beulah-Crown.jpg
END:VEVENT
BEGIN:VEVENT
DTSTART;TZID=America/New_York:20241124T000000
DTEND;TZID=America/New_York:20241124T235900
DTSTAMP:20260419T101846
CREATED:20241124T020722Z
LAST-MODIFIED:20241124T020722Z
UID:11670-1732406400-1732492740@beulahbaptistva.com
SUMMARY:Daily Scripture For Spiritual Growth & Outreach
DESCRIPTION:SUNDAY:  Psalm 23:1-6 – 1 The Lord is my shepherd\, I lack nothing.  2     He makes me lie down in green pastures\, he leads me beside quiet waters\, 3     he refreshes my soul.  He guides me along the right paths for his name’s sake.  4 Even though I walk through the darkest valley\, I will fear no evil\, for you are with me; your rod and your staff\, they comfort me.  5 You prepare a table before me in the presence of my enemies.  You anoint my head with oil; my cup overflows.  6 Surely your goodness and love will follow me all the days of my life\, and I will dwell in the house of the Lord forever.
URL:https://beulahbaptistva.com/event/daily-scripture-for-spiritual-growth-outreach-1830/
LOCATION:Beulah Baptist Church\, 320 South Washington Street\, Alexandria\, VA\, 22314
CATEGORIES:Community,Daily Scriptures,Outreach
ATTACH;FMTTYPE=image/jpeg:https://beulahbaptistva.com/wp-content/uploads/2018/07/cropped-Beulah-Crown.jpg
END:VEVENT
BEGIN:VEVENT
DTSTART;TZID=America/New_York:20241124T103000
DTEND;TZID=America/New_York:20241124T123000
DTSTAMP:20260419T101846
CREATED:20240706T142807Z
LAST-MODIFIED:20241110T032119Z
UID:11056-1732444200-1732451400@beulahbaptistva.com
SUMMARY:Sunday Morning Worship
DESCRIPTION:Join Us Today for Worship!     View on https://www.facebook.com/beulahbaptistva  – Or on Beulah’s Official YouTube Channel 
URL:https://beulahbaptistva.com/event/sunday-morning-worship-2024-11-24/
LOCATION:Beulah Baptist Church\, 320 South Washington Street\, Alexandria\, VA\, 22314
CATEGORIES:Community,Outreach,Service
ATTACH;FMTTYPE=image/jpeg:https://beulahbaptistva.com/wp-content/uploads/2018/07/cropped-Beulah-Crown.jpg
END:VEVENT
BEGIN:VEVENT
DTSTART;TZID=America/New_York:20241124T103100
DTEND;TZID=America/New_York:20241124T123000
DTSTAMP:20260419T101846
CREATED:20241124T024141Z
LAST-MODIFIED:20241124T024141Z
UID:11684-1732444260-1732451400@beulahbaptistva.com
SUMMARY:Sunday Bulletin
DESCRIPTION:Bulletin for Morning Worship for November 24\, 2024.  Join Us for Worship!
URL:https://beulahbaptistva.com/event/sunday-bulletin-131/
LOCATION:Beulah Baptist Church\, 320 South Washington Street\, Alexandria\, VA\, 22314
CATEGORIES:Community,Outreach,Service
ATTACH;FMTTYPE=image/jpeg:https://beulahbaptistva.com/wp-content/uploads/2024/11/Bulletin-11.24.24-scaled.jpg
END:VEVENT
BEGIN:VEVENT
DTSTART;TZID=America/New_York:20241124T123000
DTEND;TZID=America/New_York:20241124T133000
DTSTAMP:20260419T101846
CREATED:20240622T195750Z
LAST-MODIFIED:20240622T201026Z
UID:10990-1732451400-1732455000@beulahbaptistva.com
SUMMARY:Bible Study
DESCRIPTION:Join Us for Bible Study immediately following the Morning Worship Service.
URL:https://beulahbaptistva.com/event/bible-study-29-3-2024-11-24/
LOCATION:Beulah Baptist Church\, 320 South Washington Street\, Alexandria\, VA\, 22314
CATEGORIES:Meeting,Training
ATTACH;FMTTYPE=image/jpeg:https://beulahbaptistva.com/wp-content/uploads/2018/07/Experience-Beulah-bible.jpg
END:VEVENT
BEGIN:VEVENT
DTSTART;TZID=America/New_York:20241125T000000
DTEND;TZID=America/New_York:20241125T235900
DTSTAMP:20260419T101846
CREATED:20241124T021043Z
LAST-MODIFIED:20241124T021043Z
UID:11672-1732492800-1732579140@beulahbaptistva.com
SUMMARY:Daily Scripture For Spiritual Growth & Outreach
DESCRIPTION:MONDAY:  1 Corinthians 3:16 – Don’t you know that you yourselves are God’s temple and that God’s Spirit dwells in your midst?
URL:https://beulahbaptistva.com/event/daily-scripture-for-spiritual-growth-outreach-1831/
LOCATION:Beulah Baptist Church\, 320 South Washington Street\, Alexandria\, VA\, 22314
CATEGORIES:Community,Daily Scriptures,Outreach
ATTACH;FMTTYPE=image/jpeg:https://beulahbaptistva.com/wp-content/uploads/2018/07/cropped-Beulah-Crown.jpg
END:VEVENT
END:VCALENDAR