BEGIN:VCALENDAR
VERSION:2.0
PRODID:-//Beulah Baptist Church - ECPv6.15.20//NONSGML v1.0//EN
CALSCALE:GREGORIAN
METHOD:PUBLISH
X-ORIGINAL-URL:https://beulahbaptistva.com
X-WR-CALDESC:Events for Beulah Baptist Church
REFRESH-INTERVAL;VALUE=DURATION:PT1H
X-Robots-Tag:noindex
X-PUBLISHED-TTL:PT1H
BEGIN:VTIMEZONE
TZID:America/New_York
BEGIN:DAYLIGHT
TZOFFSETFROM:-0500
TZOFFSETTO:-0400
TZNAME:EDT
DTSTART:20240310T070000
END:DAYLIGHT
BEGIN:STANDARD
TZOFFSETFROM:-0400
TZOFFSETTO:-0500
TZNAME:EST
DTSTART:20241103T060000
END:STANDARD
BEGIN:DAYLIGHT
TZOFFSETFROM:-0500
TZOFFSETTO:-0400
TZNAME:EDT
DTSTART:20250309T070000
END:DAYLIGHT
BEGIN:STANDARD
TZOFFSETFROM:-0400
TZOFFSETTO:-0500
TZNAME:EST
DTSTART:20251102T060000
END:STANDARD
BEGIN:DAYLIGHT
TZOFFSETFROM:-0500
TZOFFSETTO:-0400
TZNAME:EDT
DTSTART:20260308T070000
END:DAYLIGHT
BEGIN:STANDARD
TZOFFSETFROM:-0400
TZOFFSETTO:-0500
TZNAME:EST
DTSTART:20261101T060000
END:STANDARD
END:VTIMEZONE
BEGIN:VEVENT
DTSTART;TZID=America/New_York:20250111T000000
DTEND;TZID=America/New_York:20250111T235900
DTSTAMP:20260419T224100
CREATED:20250105T053033Z
LAST-MODIFIED:20250105T053033Z
UID:11785-1736553600-1736639940@beulahbaptistva.com
SUMMARY:Daily Scripture For Spiritual Growth & Outreach
DESCRIPTION:SATURDAY:  Matthew 18:20 – For where two or three gather in my name\, there am I with them.”
URL:https://beulahbaptistva.com/event/daily-scripture-for-spiritual-growth-outreach-1871/
LOCATION:Beulah Baptist Church\, 320 South Washington Street\, Alexandria\, VA\, 22314
CATEGORIES:Community,Daily Scriptures,Outreach
ATTACH;FMTTYPE=image/jpeg:https://beulahbaptistva.com/wp-content/uploads/2018/07/cropped-Beulah-Crown.jpg
END:VEVENT
BEGIN:VEVENT
DTSTART;TZID=America/New_York:20250111T110000
DTEND;TZID=America/New_York:20250111T123000
DTSTAMP:20260419T224100
CREATED:20250105T054500Z
LAST-MODIFIED:20250105T054500Z
UID:11817-1736593200-1736598600@beulahbaptistva.com
SUMMARY:Beulah's Inspirational Journeys
DESCRIPTION:Join US Today\, as we start our new read\, “Eve” by Author Wm. Paul Young.  Read  Chapters 1-4 for our discussion via Zoom. \nZoom Info: \nMeeting ID:  472 121 0453 \nDial In:  (415) 762-9988 or (646) 568-7788 (Use Meeting ID above)
URL:https://beulahbaptistva.com/event/beulahs-inspirational-journeys-31/
LOCATION:Beulah Baptist Church\, 320 South Washington Street\, Alexandria\, VA\, 22314
CATEGORIES:Meeting
ATTACH;FMTTYPE=image/jpeg:https://beulahbaptistva.com/wp-content/uploads/2024/10/Eve-Book-Cover.jpg
END:VEVENT
BEGIN:VEVENT
DTSTART;TZID=America/New_York:20250112T000000
DTEND;TZID=America/New_York:20250112T235900
DTSTAMP:20260419T224100
CREATED:20250112T052139Z
LAST-MODIFIED:20250112T052139Z
UID:11881-1736640000-1736726340@beulahbaptistva.com
SUMMARY:Daily Scripture For Spiritual Growth & Outreach
DESCRIPTION:SUNDAY:  Hebrews 12:2 – 2 fixing our eyes on Jesus\, the pioneer and perfecter of faith. For the joy set before him he endured the cross\, scorning its shame\, and sat down at the right hand of the throne of God.
URL:https://beulahbaptistva.com/event/daily-scripture-for-spiritual-growth-outreach-1872/
LOCATION:Beulah Baptist Church\, 320 South Washington Street\, Alexandria\, VA\, 22314
CATEGORIES:Community,Daily Scriptures,Outreach
ATTACH;FMTTYPE=image/jpeg:https://beulahbaptistva.com/wp-content/uploads/2018/07/cropped-Beulah-Crown.jpg
END:VEVENT
BEGIN:VEVENT
DTSTART;TZID=America/New_York:20250112T103000
DTEND;TZID=America/New_York:20250112T123000
DTSTAMP:20260419T224100
CREATED:20240706T142807Z
LAST-MODIFIED:20241110T032126Z
UID:11061-1736677800-1736685000@beulahbaptistva.com
SUMMARY:Sunday Morning Worship
DESCRIPTION:Join Us Today for Worship!     View on https://www.facebook.com/beulahbaptistva  – Or on Beulah’s Official YouTube Channel 
URL:https://beulahbaptistva.com/event/sunday-morning-worship-2025-01-12/
LOCATION:Beulah Baptist Church\, 320 South Washington Street\, Alexandria\, VA\, 22314
CATEGORIES:Community,Outreach,Service
ATTACH;FMTTYPE=image/jpeg:https://beulahbaptistva.com/wp-content/uploads/2018/07/cropped-Beulah-Crown.jpg
END:VEVENT
BEGIN:VEVENT
DTSTART;TZID=America/New_York:20250112T103100
DTEND;TZID=America/New_York:20250112T123000
DTSTAMP:20260419T224100
CREATED:20250112T054833Z
LAST-MODIFIED:20250112T054833Z
UID:11895-1736677860-1736685000@beulahbaptistva.com
SUMMARY:Sunday Bulletin
DESCRIPTION:
URL:https://beulahbaptistva.com/event/sunday-bulletin-137/
LOCATION:Beulah Baptist Church\, 320 South Washington Street\, Alexandria\, VA\, 22314
CATEGORIES:Community,Outreach,Service
ATTACH;FMTTYPE=image/jpeg:https://beulahbaptistva.com/wp-content/uploads/2025/01/Bulletin-1.12.25-scaled.jpg
END:VEVENT
BEGIN:VEVENT
DTSTART;TZID=America/New_York:20250113T000000
DTEND;TZID=America/New_York:20250113T235900
DTSTAMP:20260419T224100
CREATED:20250112T052424Z
LAST-MODIFIED:20250112T052424Z
UID:11883-1736726400-1736812740@beulahbaptistva.com
SUMMARY:Daily Scripture For Spiritual Growth & Outreach
DESCRIPTION:MONDAY:  Mark 16:10-16 – \n10 She went and told those who had been with him and who were mourning and weeping. 11 When they heard that Jesus was alive and that she had seen him\, they did not believe it. \n12 Afterward Jesus appeared in a different form to two of them while they were walking in the country. 13 These returned and reported it to the rest; but they did not believe them either. \n14 Later Jesus appeared to the Eleven as they were eating; he rebuked them for their lack of faith and their stubborn refusal to believe those who had seen him after he had risen. \n15 He said to them\, “Go into all the world and preach the gospel to all creation. 16 Whoever believes and is baptized will be saved\, but whoever does not believe will be condemned.
URL:https://beulahbaptistva.com/event/daily-scripture-for-spiritual-growth-outreach-1873/
LOCATION:Beulah Baptist Church\, 320 South Washington Street\, Alexandria\, VA\, 22314
CATEGORIES:Community,Daily Scriptures,Outreach
ATTACH;FMTTYPE=image/jpeg:https://beulahbaptistva.com/wp-content/uploads/2018/07/cropped-Beulah-Crown.jpg
END:VEVENT
BEGIN:VEVENT
DTSTART;TZID=America/New_York:20250114T000000
DTEND;TZID=America/New_York:20250114T235900
DTSTAMP:20260419T224100
CREATED:20250112T052655Z
LAST-MODIFIED:20250112T052655Z
UID:11885-1736812800-1736899140@beulahbaptistva.com
SUMMARY:Daily Scripture For Spiritual Growth & Outreach
DESCRIPTION:TUESDAY:  Matthew 5:13 – 13 “You are the salt of the earth. But if the salt loses its saltiness\, how can it be made salty again? It is no longer good for anything\, except to be thrown out and trampled underfoot.
URL:https://beulahbaptistva.com/event/daily-scripture-for-spiritual-growth-outreach-1874/
LOCATION:Beulah Baptist Church\, 320 South Washington Street\, Alexandria\, VA\, 22314
CATEGORIES:Community,Daily Scriptures,Outreach
ATTACH;FMTTYPE=image/jpeg:https://beulahbaptistva.com/wp-content/uploads/2018/07/cropped-Beulah-Crown.jpg
END:VEVENT
BEGIN:VEVENT
DTSTART;TZID=America/New_York:20250115T000000
DTEND;TZID=America/New_York:20250115T235900
DTSTAMP:20260419T224100
CREATED:20250112T053249Z
LAST-MODIFIED:20250112T053249Z
UID:11887-1736899200-1736985540@beulahbaptistva.com
SUMMARY:Daily Scripture For Spiritual Growth & Outreach
DESCRIPTION:WEDNESDAY:  Isaiah 54:1-17 – \n\n“Sing\, barren woman\,\n    you who never bore a child;\nburst into song\, shout for joy\,\n    you who were never in labor;\nbecause more are the children of the desolate woman\n    than of her who has a husband\,”\nsays the Lord.\n2 “Enlarge the place of your tent\,\n    stretch your tent curtains wide\,\n    do not hold back;\nlengthen your cords\,\n    strengthen your stakes.\n3 For you will spread out to the right and to the left;\n    your descendants will dispossess nations\n    and settle in their desolate cities. \n\n\n4 “Do not be afraid; you will not be put to shame.\n    Do not fear disgrace; you will not be humiliated.\nYou will forget the shame of your youth\n    and remember no more the reproach of your widowhood.\n5 For your Maker is your husband—\n    the Lord Almighty is his name—\nthe Holy One of Israel is your Redeemer;\n    he is called the God of all the earth.\n6 The Lord will call you back\n    as if you were a wife deserted and distressed in spirit—\na wife who married young\,\n    only to be rejected\,” says your God.\n7 “For a brief moment I abandoned you\,\n    but with deep compassion I will bring you back.\n8 In a surge of anger\n    I hid my face from you for a moment\,\nbut with everlasting kindness\n    I will have compassion on you\,”\n    says the Lord your Redeemer. \n\n\n9 “To me this is like the days of Noah\,\n    when I swore that the waters of Noah would never again cover the earth.\nSo now I have sworn not to be angry with you\,\n    never to rebuke you again.\n10 Though the mountains be shaken\n    and the hills be removed\,\nyet my unfailing love for you will not be shaken\n    nor my covenant of peace be removed\,”\n    says the Lord\, who has compassion on you. \n\n\n11 “Afflicted city\, lashed by storms and not comforted\,\n    I will rebuild you with stones of turquoise\,\n    your foundations with lapis lazuli.\n12 I will make your battlements of rubies\,\n    your gates of sparkling jewels\,\n    and all your walls of precious stones.\n13 All your children will be taught by the Lord\,\n    and great will be their peace.\n14 In righteousness you will be established:\nTyranny will be far from you;\n    you will have nothing to fear.\nTerror will be far removed;\n    it will not come near you.\n15 If anyone does attack you\, it will not be my doing;\n    whoever attacks you will surrender to you. \n\n\n16 “See\, it is I who created the blacksmith\n    who fans the coals into flame\n    and forges a weapon fit for its work.\nAnd it is I who have created the destroyer to wreak havoc;\n17     no weapon forged against you will prevail\,\n    and you will refute every tongue that accuses you.\nThis is the heritage of the servants of the Lord\,\n    and this is their vindication from me\,”\ndeclares the Lord.
URL:https://beulahbaptistva.com/event/daily-scripture-for-spiritual-growth-outreach-1875/
LOCATION:Beulah Baptist Church\, 320 South Washington Street\, Alexandria\, VA\, 22314
CATEGORIES:Community,Daily Scriptures,Outreach
ATTACH;FMTTYPE=image/jpeg:https://beulahbaptistva.com/wp-content/uploads/2018/07/cropped-Beulah-Crown.jpg
END:VEVENT
BEGIN:VEVENT
DTSTART;TZID=America/New_York:20250115T120000
DTEND;TZID=America/New_York:20250115T130000
DTSTAMP:20260419T224100
CREATED:20250105T055656Z
LAST-MODIFIED:20250105T055656Z
UID:11822-1736942400-1736946000@beulahbaptistva.com
SUMMARY:Noonday Prayer Service
DESCRIPTION:Join Us Every Wednesday for our Dial-In Noonday Prayer Service – 1-267- 807-9605 & Enter Access Code:  647404.
URL:https://beulahbaptistva.com/event/noonday-prayer-service-115-2025-01-15/
LOCATION:Beulah Baptist Church\, 320 South Washington Street\, Alexandria\, VA\, 22314
CATEGORIES:Community,Outreach,Service
ATTACH;FMTTYPE=image/png:https://beulahbaptistva.com/wp-content/uploads/2023/12/Screenshot-2023-12-16-at-4.10.02 PM-6.png
END:VEVENT
BEGIN:VEVENT
DTSTART;TZID=America/New_York:20250116T000000
DTEND;TZID=America/New_York:20250116T235900
DTSTAMP:20260419T224100
CREATED:20250112T053546Z
LAST-MODIFIED:20250112T053546Z
UID:11889-1736985600-1737071940@beulahbaptistva.com
SUMMARY:Daily Scripture For Spiritual Growth & Outreach
DESCRIPTION:THURSDAY:  Matthew 28:19-20 – 19 Therefore go and make disciples of all nations\, baptizing them in the name of the Father and of the Son and of the Holy Spirit\, 20 and teaching them to obey everything I have commanded you. And surely I am with you always\, to the very end of the age.”
URL:https://beulahbaptistva.com/event/daily-scripture-for-spiritual-growth-outreach-1876/
LOCATION:Beulah Baptist Church\, 320 South Washington Street\, Alexandria\, VA\, 22314
CATEGORIES:Community,Daily Scriptures,Outreach
ATTACH;FMTTYPE=image/jpeg:https://beulahbaptistva.com/wp-content/uploads/2018/07/cropped-Beulah-Crown.jpg
END:VEVENT
BEGIN:VEVENT
DTSTART;TZID=America/New_York:20250117T000000
DTEND;TZID=America/New_York:20250117T235900
DTSTAMP:20260419T224100
CREATED:20250112T053833Z
LAST-MODIFIED:20250112T053833Z
UID:11891-1737072000-1737158340@beulahbaptistva.com
SUMMARY:Daily Scripture for Spiritual Growth & Outreach
DESCRIPTION:FRIDAY:  Revelation 1:1 – The revelation from Jesus Christ\, which God gave him to show his servants what must soon take place. He made it known by sending his angel to his servant John\,
URL:https://beulahbaptistva.com/event/daily-scripture-for-spiritual-growth-outreach-1877/
LOCATION:Beulah Baptist Church\, 320 South Washington Street\, Alexandria\, VA\, 22314
CATEGORIES:Community,Daily Scriptures,Outreach
ATTACH;FMTTYPE=image/jpeg:https://beulahbaptistva.com/wp-content/uploads/2018/07/cropped-Beulah-Crown.jpg
END:VEVENT
BEGIN:VEVENT
DTSTART;TZID=America/New_York:20250118T000000
DTEND;TZID=America/New_York:20250118T235900
DTSTAMP:20260419T224100
CREATED:20250112T054056Z
LAST-MODIFIED:20250112T054056Z
UID:11893-1737158400-1737244740@beulahbaptistva.com
SUMMARY:Daily Scripture For Spiritual Growth & Outreach
DESCRIPTION:SATURDAY:  John 3:16 – 16 For God so loved the world that he gave his one and only Son\, that whoever believes in him shall not perish but have eternal life.
URL:https://beulahbaptistva.com/event/daily-scripture-for-spiritual-growth-outreach-1878/
LOCATION:Beulah Baptist Church\, 320 South Washington Street\, Alexandria\, VA\, 22314
CATEGORIES:Community,Daily Scriptures,Outreach
ATTACH;FMTTYPE=image/jpeg:https://beulahbaptistva.com/wp-content/uploads/2018/07/cropped-Beulah-Crown.jpg
END:VEVENT
BEGIN:VEVENT
DTSTART;TZID=America/New_York:20250119T000000
DTEND;TZID=America/New_York:20250119T235900
DTSTAMP:20260419T224100
CREATED:20250119T053100Z
LAST-MODIFIED:20250119T053100Z
UID:11899-1737244800-1737331140@beulahbaptistva.com
SUMMARY:Daily Scripture For Spiritual Growth & Outreach
DESCRIPTION:SUNDAY:  1 Peter 2:1 – Therefore\, rid yourselves of all malice and all deceit\, hypocrisy\, envy\, and slander of every kind.
URL:https://beulahbaptistva.com/event/daily-scripture-for-spiritual-growth-outreach-1879/
LOCATION:Beulah Baptist Church\, 320 South Washington Street\, Alexandria\, VA\, 22314
CATEGORIES:Community,Daily Scriptures,Outreach
ATTACH;FMTTYPE=image/jpeg:https://beulahbaptistva.com/wp-content/uploads/2018/07/cropped-Beulah-Crown.jpg
END:VEVENT
BEGIN:VEVENT
DTSTART;TZID=America/New_York:20250119T103000
DTEND;TZID=America/New_York:20250119T123000
DTSTAMP:20260419T224100
CREATED:20240706T142807Z
LAST-MODIFIED:20250119T060844Z
UID:11062-1737282600-1737289800@beulahbaptistva.com
SUMMARY:Sunday Morning Worship - Cancelled Due to Inclement Weather
DESCRIPTION:Due to forecast for inclement weather our Sunday Worship Service is Cancelled for January 19\, 2025.  Join Us Next Sunday!     View previously recorded sermons on https://www.facebook.com/beulahbaptistva  – Or on Beulah’s Official YouTube Channel 
URL:https://beulahbaptistva.com/event/sunday-morning-worship-2025-01-19/
LOCATION:Beulah Baptist Church\, 320 South Washington Street\, Alexandria\, VA\, 22314
CATEGORIES:Community,Outreach,Service
ATTACH;FMTTYPE=image/jpeg:https://beulahbaptistva.com/wp-content/uploads/2018/07/cropped-Beulah-Crown.jpg
END:VEVENT
BEGIN:VEVENT
DTSTART;TZID=America/New_York:20250120T000000
DTEND;TZID=America/New_York:20250120T235900
DTSTAMP:20260419T224100
CREATED:20250119T053417Z
LAST-MODIFIED:20250119T053417Z
UID:11901-1737331200-1737417540@beulahbaptistva.com
SUMMARY:Daily Scripture For Spiritual Growth & Outreach
DESCRIPTION:MONDAY:  1 Samuel 2:26 – And the boy Samuel continued to grow in stature and in favor with the Lord and with people.
URL:https://beulahbaptistva.com/event/daily-scripture-for-spiritual-growth-outreach-1880/
LOCATION:Beulah Baptist Church\, 320 South Washington Street\, Alexandria\, VA\, 22314
CATEGORIES:Community,Daily Scriptures,Outreach
ATTACH;FMTTYPE=image/jpeg:https://beulahbaptistva.com/wp-content/uploads/2018/07/cropped-Beulah-Crown.jpg
END:VEVENT
BEGIN:VEVENT
DTSTART;TZID=America/New_York:20250121T000000
DTEND;TZID=America/New_York:20250121T235900
DTSTAMP:20260419T224100
CREATED:20250119T053709Z
LAST-MODIFIED:20250119T053709Z
UID:11903-1737417600-1737503940@beulahbaptistva.com
SUMMARY:Daily Scripture For Spiritual Growth & Outreach
DESCRIPTION:TUESDAY:  2 Peter 3:18 – But grow in the grace and knowledge of our Lord and Savior Jesus Christ. To him be glory both now and forever! Amen.
URL:https://beulahbaptistva.com/event/daily-scripture-for-spiritual-growth-outreach-1881/
LOCATION:Beulah Baptist Church\, 320 South Washington Street\, Alexandria\, VA\, 22314
CATEGORIES:Community,Daily Scriptures,Outreach
ATTACH;FMTTYPE=image/jpeg:https://beulahbaptistva.com/wp-content/uploads/2018/07/cropped-Beulah-Crown.jpg
END:VEVENT
BEGIN:VEVENT
DTSTART;TZID=America/New_York:20250122T000000
DTEND;TZID=America/New_York:20250122T235900
DTSTAMP:20260419T224100
CREATED:20250119T054036Z
LAST-MODIFIED:20250119T054036Z
UID:11905-1737504000-1737590340@beulahbaptistva.com
SUMMARY:Daily Scripture For Spiritual Growth & Outreach
DESCRIPTION:WEDNESDAY:  Hebrews 6:1 – Therefore let us move beyond the elementary teachings about Christ and be taken forward to maturity\, not laying again the foundation of repentance from acts that lead to death\, and of faith in God\,
URL:https://beulahbaptistva.com/event/daily-scripture-for-spiritual-growth-outreach-1882/
LOCATION:Beulah Baptist Church\, 320 South Washington Street\, Alexandria\, VA\, 22314
CATEGORIES:Community,Daily Scriptures,Outreach
ATTACH;FMTTYPE=image/jpeg:https://beulahbaptistva.com/wp-content/uploads/2018/07/cropped-Beulah-Crown.jpg
END:VEVENT
BEGIN:VEVENT
DTSTART;TZID=America/New_York:20250122T120000
DTEND;TZID=America/New_York:20250122T130000
DTSTAMP:20260419T224100
CREATED:20250105T055656Z
LAST-MODIFIED:20250105T055656Z
UID:11823-1737547200-1737550800@beulahbaptistva.com
SUMMARY:Noonday Prayer Service
DESCRIPTION:Join Us Every Wednesday for our Dial-In Noonday Prayer Service – 1-267- 807-9605 & Enter Access Code:  647404.
URL:https://beulahbaptistva.com/event/noonday-prayer-service-115-2025-01-22/
LOCATION:Beulah Baptist Church\, 320 South Washington Street\, Alexandria\, VA\, 22314
CATEGORIES:Community,Outreach,Service
ATTACH;FMTTYPE=image/png:https://beulahbaptistva.com/wp-content/uploads/2023/12/Screenshot-2023-12-16-at-4.10.02 PM-6.png
END:VEVENT
BEGIN:VEVENT
DTSTART;TZID=America/New_York:20250123T000000
DTEND;TZID=America/New_York:20250123T235900
DTSTAMP:20260419T224100
CREATED:20250119T054748Z
LAST-MODIFIED:20250119T054748Z
UID:11907-1737590400-1737676740@beulahbaptistva.com
SUMMARY:Daily Scripture For Spiritual Growth & Outreach
DESCRIPTION:THURSDAY:  Jeremiah 12:2 – You have planted them\, and they have taken root; they grow and bear fruit.  You are always on their lips\n    but far from their hearts.
URL:https://beulahbaptistva.com/event/daily-scripture-for-spiritual-growth-outreach-1883/
LOCATION:Beulah Baptist Church\, 320 South Washington Street\, Alexandria\, VA\, 22314
CATEGORIES:Community,Daily Scriptures,Outreach
ATTACH;FMTTYPE=image/jpeg:https://beulahbaptistva.com/wp-content/uploads/2018/07/cropped-Beulah-Crown.jpg
END:VEVENT
BEGIN:VEVENT
DTSTART;TZID=America/New_York:20250123T183000
DTEND;TZID=America/New_York:20250123T183000
DTSTAMP:20260419T224100
CREATED:20250105T061000Z
LAST-MODIFIED:20250105T061000Z
UID:11878-1737657000-1737657000@beulahbaptistva.com
SUMMARY:Grief Support Ministry
DESCRIPTION:Grief Support Ministry Session – Join us via Zoom . \nZoom access :\n\nhttps://us02web.zoom.us/j/9666406165?pwd=LzdETFhzelhrNktkcGRsL21GUkQxdz09&omn=86731205805 \nMeeting ID: 966 640 6165\nPasscode: 916925 \nCall in: \n+1 301 715 8592 US (Washington DC)\nMeeting ID: 966 640 6165\nPasscode: 916925 \n\nFacilitator:  Linda Howard
URL:https://beulahbaptistva.com/event/grief-support-ministry-3/
LOCATION:Beulah Baptist Church\, 320 South Washington Street\, Alexandria\, VA\, 22314
CATEGORIES:Community,Meeting,Outreach
ATTACH;FMTTYPE=image/png:https://beulahbaptistva.com/wp-content/uploads/2023/12/Screenshot-2023-12-16-at-4.10.02 PM-6.png
END:VEVENT
BEGIN:VEVENT
DTSTART;TZID=America/New_York:20250124T000000
DTEND;TZID=America/New_York:20250124T235900
DTSTAMP:20260419T224100
CREATED:20250119T055353Z
LAST-MODIFIED:20250119T055353Z
UID:11909-1737676800-1737763140@beulahbaptistva.com
SUMMARY:Daily Scripture For Spiritual Growth & Outreach
DESCRIPTION:FRIDAY:  Luke 17:5 – The apostles said to the Lord\, “Increase our faith!”
URL:https://beulahbaptistva.com/event/daily-scripture-for-spiritual-growth-outreach-1884/
LOCATION:Beulah Baptist Church\, 320 South Washington Street\, Alexandria\, VA\, 22314
CATEGORIES:Community,Daily Scriptures,Outreach
ATTACH;FMTTYPE=image/jpeg:https://beulahbaptistva.com/wp-content/uploads/2018/07/cropped-Beulah-Crown.jpg
END:VEVENT
BEGIN:VEVENT
DTSTART;TZID=America/New_York:20250125T000000
DTEND;TZID=America/New_York:20250125T235900
DTSTAMP:20260419T224100
CREATED:20250119T055940Z
LAST-MODIFIED:20250119T055940Z
UID:11911-1737763200-1737849540@beulahbaptistva.com
SUMMARY:Daily Scripture For Spiritual Growth & Outreach
DESCRIPTION:SATURDAY:  Luke 8:14-15 – 14 The seed that fell among thorns stands for those who hear\, but as they go on their way they are choked by life’s worries\, riches and pleasures\, and they do not mature. 15 But the seed on good soil stands for those with a noble and good heart\, who hear the word\, retain it\, and by persevering produce a crop.
URL:https://beulahbaptistva.com/event/daily-scripture-for-spiritual-growth-outreach-1885/
LOCATION:Beulah Baptist Church\, 320 South Washington Street\, Alexandria\, VA\, 22314
CATEGORIES:Community,Daily Scriptures,Outreach
ATTACH;FMTTYPE=image/jpeg:https://beulahbaptistva.com/wp-content/uploads/2018/07/cropped-Beulah-Crown.jpg
END:VEVENT
BEGIN:VEVENT
DTSTART;TZID=America/New_York:20250126T000000
DTEND;TZID=America/New_York:20250126T235900
DTSTAMP:20260419T224100
CREATED:20250126T060304Z
LAST-MODIFIED:20250126T060304Z
UID:11917-1737849600-1737935940@beulahbaptistva.com
SUMMARY:Daily Scripture For Spiritual Growth & Outreach
DESCRIPTION:SUNDAY:  1 Thessalonians 5:14 – 14 And we urge you\, brothers and sisters\, warn those who are idle and disruptive\, encourage the disheartened\, help the weak\, be patient with everyone.
URL:https://beulahbaptistva.com/event/daily-scripture-for-spiritual-growth-outreach-1886/
LOCATION:Beulah Baptist Church\, 320 South Washington Street\, Alexandria\, VA\, 22314
CATEGORIES:Community,Daily Scriptures,Outreach
ATTACH;FMTTYPE=image/jpeg:https://beulahbaptistva.com/wp-content/uploads/2018/07/cropped-Beulah-Crown.jpg
END:VEVENT
BEGIN:VEVENT
DTSTART;TZID=America/New_York:20250126T103000
DTEND;TZID=America/New_York:20250126T123000
DTSTAMP:20260419T224100
CREATED:20240706T142807Z
LAST-MODIFIED:20241110T032129Z
UID:11063-1737887400-1737894600@beulahbaptistva.com
SUMMARY:Sunday Morning Worship
DESCRIPTION:Join Us Today for Worship!     View on https://www.facebook.com/beulahbaptistva  – Or on Beulah’s Official YouTube Channel 
URL:https://beulahbaptistva.com/event/sunday-morning-worship-2025-01-26/
LOCATION:Beulah Baptist Church\, 320 South Washington Street\, Alexandria\, VA\, 22314
CATEGORIES:Community,Outreach,Service
ATTACH;FMTTYPE=image/jpeg:https://beulahbaptistva.com/wp-content/uploads/2018/07/cropped-Beulah-Crown.jpg
END:VEVENT
BEGIN:VEVENT
DTSTART;TZID=America/New_York:20250126T103100
DTEND;TZID=America/New_York:20250126T123000
DTSTAMP:20260419T224100
CREATED:20250126T062936Z
LAST-MODIFIED:20250126T062936Z
UID:11931-1737887460-1737894600@beulahbaptistva.com
SUMMARY:Sunday Bulletin
DESCRIPTION:Bulletin for Sunday\, January 26\, 2025.  Join us today for Worship!
URL:https://beulahbaptistva.com/event/sunday-bulletin-138/
LOCATION:Beulah Baptist Church\, 320 South Washington Street\, Alexandria\, VA\, 22314
CATEGORIES:Community,Outreach,Service
ATTACH;FMTTYPE=image/jpeg:https://beulahbaptistva.com/wp-content/uploads/2025/01/Bulletin-1.26.25-scaled.jpg
END:VEVENT
BEGIN:VEVENT
DTSTART;TZID=America/New_York:20250127T000000
DTEND;TZID=America/New_York:20250127T235900
DTSTAMP:20260419T224100
CREATED:20250126T060804Z
LAST-MODIFIED:20250126T060804Z
UID:11919-1737936000-1738022340@beulahbaptistva.com
SUMMARY:Daily Scripture For Spiritual Growth & Outreach
DESCRIPTION:MONDAY:  Matthew 22:37-40 – 37 Jesus replied: “‘Love the Lord your God with all your heart and with all your soul and with all your mind.’ 38 This is the first and greatest commandment. 39 And the second is like it: ‘Love your neighbor as yourself.’ 40 All the Law and the Prophets hang on these two commandments.”
URL:https://beulahbaptistva.com/event/daily-scripture-for-spiritual-growth-outreach-1887/
LOCATION:Beulah Baptist Church\, 320 South Washington Street\, Alexandria\, VA\, 22314
CATEGORIES:Community,Daily Scriptures,Outreach
ATTACH;FMTTYPE=image/jpeg:https://beulahbaptistva.com/wp-content/uploads/2018/07/cropped-Beulah-Crown.jpg
END:VEVENT
BEGIN:VEVENT
DTSTART;TZID=America/New_York:20250128T000000
DTEND;TZID=America/New_York:20250128T235900
DTSTAMP:20260419T224100
CREATED:20250126T061115Z
LAST-MODIFIED:20250126T061115Z
UID:11921-1738022400-1738108740@beulahbaptistva.com
SUMMARY:Daily Scripture For Spiritual Growth & Outreach
DESCRIPTION:TUESDAY:  1 Corinthians 12:25-27 – 25 so that there should be no division in the body\, but that its parts should have equal concern for each other. 26 If one part suffers\, every part suffers with it; if one part is honored\, every part rejoices with it.  27 Now you are the body of Christ\, and each one of you is a part of it.
URL:https://beulahbaptistva.com/event/daily-scripture-for-spiritual-growth-outreach-1888/
LOCATION:Beulah Baptist Church\, 320 South Washington Street\, Alexandria\, VA\, 22314
CATEGORIES:Community,Daily Scriptures,Outreach
ATTACH;FMTTYPE=image/jpeg:https://beulahbaptistva.com/wp-content/uploads/2018/07/cropped-Beulah-Crown.jpg
END:VEVENT
BEGIN:VEVENT
DTSTART;TZID=America/New_York:20250129T000000
DTEND;TZID=America/New_York:20250129T235900
DTSTAMP:20260419T224100
CREATED:20250126T061455Z
LAST-MODIFIED:20250126T061455Z
UID:11923-1738108800-1738195140@beulahbaptistva.com
SUMMARY:Daily Scripture For Spiritual Growth & Outreach
DESCRIPTION:WEDNESDAY:  1 John 1:7 – 7 But if we walk in the light\, as he is in the light\, we have fellowship with one another\, and the blood of Jesus\, his Son\, purifies us from all sin.
URL:https://beulahbaptistva.com/event/daily-scripture-for-spiritual-growth-outreach-1889/
LOCATION:Beulah Baptist Church\, 320 South Washington Street\, Alexandria\, VA\, 22314
CATEGORIES:Community,Daily Scriptures,Outreach
ATTACH;FMTTYPE=image/jpeg:https://beulahbaptistva.com/wp-content/uploads/2018/07/cropped-Beulah-Crown.jpg
END:VEVENT
BEGIN:VEVENT
DTSTART;TZID=America/New_York:20250129T120000
DTEND;TZID=America/New_York:20250129T130000
DTSTAMP:20260419T224100
CREATED:20250105T055656Z
LAST-MODIFIED:20250105T055656Z
UID:11824-1738152000-1738155600@beulahbaptistva.com
SUMMARY:Noonday Prayer Service
DESCRIPTION:Join Us Every Wednesday for our Dial-In Noonday Prayer Service – 1-267- 807-9605 & Enter Access Code:  647404.
URL:https://beulahbaptistva.com/event/noonday-prayer-service-115-2025-01-29/
LOCATION:Beulah Baptist Church\, 320 South Washington Street\, Alexandria\, VA\, 22314
CATEGORIES:Community,Outreach,Service
ATTACH;FMTTYPE=image/png:https://beulahbaptistva.com/wp-content/uploads/2023/12/Screenshot-2023-12-16-at-4.10.02 PM-6.png
END:VEVENT
BEGIN:VEVENT
DTSTART;TZID=America/New_York:20250130T000000
DTEND;TZID=America/New_York:20250130T235900
DTSTAMP:20260419T224100
CREATED:20250126T061812Z
LAST-MODIFIED:20250126T061812Z
UID:11925-1738195200-1738281540@beulahbaptistva.com
SUMMARY:Daily Scripture For Spiritual Growth & Outreach
DESCRIPTION:THURSDAY:  1 Corinthians 1:10 – 10 I appeal to you\, brothers and sisters\, in the name of our Lord Jesus Christ\, that all of you agree with one another in what you say and that there be no divisions among you\, but that you be perfectly united in mind and thought.
URL:https://beulahbaptistva.com/event/daily-scripture-for-spiritual-growth-outreach-1890/
LOCATION:Beulah Baptist Church\, 320 South Washington Street\, Alexandria\, VA\, 22314
CATEGORIES:Community,Daily Scriptures,Outreach
ATTACH;FMTTYPE=image/jpeg:https://beulahbaptistva.com/wp-content/uploads/2018/07/cropped-Beulah-Crown.jpg
END:VEVENT
END:VCALENDAR