BEGIN:VCALENDAR
VERSION:2.0
PRODID:-//Beulah Baptist Church - ECPv6.15.20//NONSGML v1.0//EN
CALSCALE:GREGORIAN
METHOD:PUBLISH
X-ORIGINAL-URL:https://beulahbaptistva.com
X-WR-CALDESC:Events for Beulah Baptist Church
REFRESH-INTERVAL;VALUE=DURATION:PT1H
X-Robots-Tag:noindex
X-PUBLISHED-TTL:PT1H
BEGIN:VTIMEZONE
TZID:America/New_York
BEGIN:DAYLIGHT
TZOFFSETFROM:-0500
TZOFFSETTO:-0400
TZNAME:EDT
DTSTART:20180311T070000
END:DAYLIGHT
BEGIN:STANDARD
TZOFFSETFROM:-0400
TZOFFSETTO:-0500
TZNAME:EST
DTSTART:20181104T060000
END:STANDARD
BEGIN:DAYLIGHT
TZOFFSETFROM:-0500
TZOFFSETTO:-0400
TZNAME:EDT
DTSTART:20190310T070000
END:DAYLIGHT
BEGIN:STANDARD
TZOFFSETFROM:-0400
TZOFFSETTO:-0500
TZNAME:EST
DTSTART:20191103T060000
END:STANDARD
BEGIN:DAYLIGHT
TZOFFSETFROM:-0500
TZOFFSETTO:-0400
TZNAME:EDT
DTSTART:20200308T070000
END:DAYLIGHT
BEGIN:STANDARD
TZOFFSETFROM:-0400
TZOFFSETTO:-0500
TZNAME:EST
DTSTART:20201101T060000
END:STANDARD
END:VTIMEZONE
BEGIN:VEVENT
DTSTART;TZID=America/New_York:20190922T124500
DTEND;TZID=America/New_York:20190922T124500
DTSTAMP:20260419T221933
CREATED:20190913T172711Z
LAST-MODIFIED:20190915T034435Z
UID:3258-1569156300-1569156300@beulahbaptistva.com
SUMMARY:Beulah's Inspirational Journeys - Book Club
DESCRIPTION:Now Reading “Jesus and the Disinherited” by Howard Thurman.  Secure a copy of the book and join us for discussions.  Read the Foreword\, Chapters 1 and 2 if possible.
URL:https://beulahbaptistva.com/event/inspirational-journeys-book-club/
LOCATION:Beulah Baptist Church\, 320 South Washington Street\, Alexandria\, VA\, 22314
CATEGORIES:Training
END:VEVENT
BEGIN:VEVENT
DTSTART;TZID=America/New_York:20190915T124500
DTEND;TZID=America/New_York:20190915T124500
DTSTAMP:20260419T221933
CREATED:20190913T172238Z
LAST-MODIFIED:20190913T172238Z
UID:3256-1568551500-1568551500@beulahbaptistva.com
SUMMARY:Bible Study
DESCRIPTION:The Study of the Book of Daniel – The 7 C’s of leadership completed.  Individual Projects to be assigned.
URL:https://beulahbaptistva.com/event/bible-study-9/
LOCATION:Beulah Baptist Church\, 320 South Washington Street\, Alexandria\, VA\, 22314
CATEGORIES:Training
END:VEVENT
BEGIN:VEVENT
DTSTART;TZID=America/New_York:20190804T124500
DTEND;TZID=America/New_York:20190804T124500
DTSTAMP:20260419T221933
CREATED:20190803T181006Z
LAST-MODIFIED:20190803T181856Z
UID:3164-1564922700-1564922700@beulahbaptistva.com
SUMMARY:Bible Study
DESCRIPTION:Book of Daniel – The 7 C’s of Leadership \nAssignment:  Read Final Chapters 10\, 11\, & 12 of Daniel and focus and apply any of the 7 C’s as applicable. \n7 C’s:  Character\, Competence\, Conviction\, Courage\, Charisma\, Commitment\, & Compassion. \nPrevious Discussion was on Chapters 8 & 9 – Commitment and Compassion. \n 
URL:https://beulahbaptistva.com/event/bible-study-8/
LOCATION:Beulah Baptist Church\, 320 South Washington Street\, Alexandria\, VA\, 22314
CATEGORIES:Training
END:VEVENT
BEGIN:VEVENT
DTSTART;TZID=America/New_York:20190714T120000
DTEND;TZID=America/New_York:20190714T120000
DTSTAMP:20260419T221933
CREATED:20190618T022846Z
LAST-MODIFIED:20190618T025128Z
UID:3042-1563105600-1563105600@beulahbaptistva.com
SUMMARY:B.G.O.L.D. Lecture Series "Financial Literacy"
DESCRIPTION:B.G.O.L.D. Presents “Financial Literacy”  Come and learn about budgeting\, managing your finances\, investing and planned giving\, etc..; Presenter Jo Powell\, Zircon Financial\, Lincoln Financial Company.
URL:https://beulahbaptistva.com/event/b-g-o-l-d-lecture-series-financial-literacy/
LOCATION:Beulah Baptist Church\, 320 South Washington Street\, Alexandria\, VA\, 22314
CATEGORIES:Training
END:VEVENT
BEGIN:VEVENT
DTSTART;TZID=America/New_York:20190707T124500
DTEND;TZID=America/New_York:20190707T124500
DTSTAMP:20260419T221933
CREATED:20190628T144105Z
LAST-MODIFIED:20190628T144423Z
UID:3064-1562503500-1562503500@beulahbaptistva.com
SUMMARY:Bible Study
DESCRIPTION:The Study of the Book of Daniel; The 7 C’s of Leadership.  Current Assignment:  Read Daniel Chapters 7\, 8\, & 9 and be prepared to discuss the last 2 C’s – Commitment and Compassion. \nThe 7 C’s of Leadership are:  Character\, Competence\, Conviction\, Courage\, Charisma\, Commitment and Compassion. \nPrevious Discussions:  Chapters 1 and 2:  Discussed Character; Chapters 3 & 4:  Discussed Competence (and touched on Commitment); Chapters 5 & 6:  Discussed Courage\, Conviction & Charisma.
URL:https://beulahbaptistva.com/event/bible-study-7/
LOCATION:Beulah Baptist Church\, 320 South Washington Street\, Alexandria\, VA\, 22314
CATEGORIES:Training
END:VEVENT
BEGIN:VEVENT
DTSTART;TZID=America/New_York:20190630T124500
DTEND;TZID=America/New_York:20190630T124500
DTSTAMP:20260419T221933
CREATED:20190603T172459Z
LAST-MODIFIED:20190628T143908Z
UID:3000-1561898700-1561898700@beulahbaptistva.com
SUMMARY:Bible Study - Cancelled for June 30th
DESCRIPTION:The Study of the Book of Daniel; The 7 C’s of Leadership.  Current Assignment:  Read Daniel Chapters 7\, 8\, & 9 and be prepared to discuss the last 2 C’s – Commitment and Compassion. \nThe 7 C’s of Leadership are:  Character\, Competence\, Conviction\, Courage\, Charisma\, Commitment and Compassion. \nPrevious Discussions:  Chapters 1 and 2:  Discussed Character; Chapters 3 & 4:  Discussed Competence (and touched on Commitment); Chapters 5 & 6:  Discussed Courage\, Conviction & Charisma.
URL:https://beulahbaptistva.com/event/bible-study-6/
LOCATION:Beulah Baptist Church\, 320 South Washington Street\, Alexandria\, VA\, 22314
CATEGORIES:Training
END:VEVENT
BEGIN:VEVENT
DTSTART;TZID=America/New_York:20190526T123000
DTEND;TZID=America/New_York:20190526T123000
DTSTAMP:20260419T221933
CREATED:20190429T044651Z
LAST-MODIFIED:20190429T045015Z
UID:2891-1558873800-1558873800@beulahbaptistva.com
SUMMARY:Bible Study
DESCRIPTION:Bible Study – Study of the Book of Daniel “The Seven C’s of Leadership”. \nAssignment:  Read Chapters 5 and 6 and be prepared to discuss how Daniel displayed the next 3 C’s\, Courage\, Conviction and Charisma. \nThe 7 C’s of leadership:  Character\, Competence\, Conviction\, Courage\, Charisma\, Commitment & Compassion.  Seven qualities of effective leadership.  How they apply to us and to the church when we have a healthy relationship with God.
URL:https://beulahbaptistva.com/event/bible-study-5/
LOCATION:Beulah Baptist Church\, 320 South Washington Street\, Alexandria\, VA\, 22314
CATEGORIES:Training
END:VEVENT
BEGIN:VEVENT
DTSTART;TZID=America/New_York:20190406T133000
DTEND;TZID=America/New_York:20190406T163000
DTSTAMP:20260419T221933
CREATED:20190315T040320Z
LAST-MODIFIED:20190331T035150Z
UID:2662-1554557400-1554568200@beulahbaptistva.com
SUMMARY:CPR and First Aid Training
DESCRIPTION:Rescheduled from March 30th \nCPR and First Aid Training for Beulah nurses\, ushers\, teachers and other members.
URL:https://beulahbaptistva.com/event/cpr-and-first-aid-training/
LOCATION:Beulah Baptist Church\, 320 South Washington Street\, Alexandria\, VA\, 22314
CATEGORIES:Training
END:VEVENT
BEGIN:VEVENT
DTSTART;TZID=America/New_York:20190331T123000
DTEND;TZID=America/New_York:20190331T123000
DTSTAMP:20260419T221933
CREATED:20190315T031951Z
LAST-MODIFIED:20190320T035613Z
UID:2657-1554035400-1554035400@beulahbaptistva.com
SUMMARY:B.G.O.L.D Lecture Series and Women Who Tea Event - Women's History Month
DESCRIPTION:In honor of Women’s History Month.  The Beulah’s Growth & Outreach through Learning and Development (B.G.O.L.D) presents: \nGuest Lecturer/Facilitator:   Minister Donna Lawson of the AME Church\, a scholar from Howard University Divinity School. \nTopic :  The relationship between Ruth and Naomi.  In preparation for lecture Read Ruth Chapters 1-4. \nFor this event\, Women are asked to Wear All White and a Hat! \nJoin us for a “Women Who Tea” Event after the lecture.
URL:https://beulahbaptistva.com/event/b-g-o-l-d-lecture-series-womens-history-month/
LOCATION:Beulah Baptist Church\, 320 South Washington Street\, Alexandria\, VA\, 22314
CATEGORIES:Training
END:VEVENT
BEGIN:VEVENT
DTSTART;TZID=America/New_York:20190324T123000
DTEND;TZID=America/New_York:20190324T123000
DTSTAMP:20260419T221933
CREATED:20190320T032927Z
LAST-MODIFIED:20190320T040726Z
UID:2683-1553430600-1553430600@beulahbaptistva.com
SUMMARY:Safety Awareness for Women
DESCRIPTION:In Celebration of Women’s History Month – Officer Allie Eggers of the Fairfax County Police Department will facilitate a Safety Awareness presentation with tools and techniques geared specifically for Women.   Though some information will be tailored for women\, all are invited and encouraged to attend.  Wear comfortable shoes!
URL:https://beulahbaptistva.com/event/safety-awareness-for-women/
LOCATION:Beulah Baptist Church\, 320 South Washington Street\, Alexandria\, VA\, 22314
CATEGORIES:Training
END:VEVENT
BEGIN:VEVENT
DTSTART;TZID=America/New_York:20190317T123000
DTEND;TZID=America/New_York:20190317T123000
DTSTAMP:20260419T221933
CREATED:20190226T220445Z
LAST-MODIFIED:20190226T220633Z
UID:2564-1552825800-1552825800@beulahbaptistva.com
SUMMARY:Beulah's Inspirational Journeys - Book Club
DESCRIPTION:Now reading “Living a Life You Love (Embracing the Adventure of Being Led By The Holy Spirit) by Joyce Meyer. \nBe prepared to discuss the book in its entirety at our scheduled meeting on March 17th.
URL:https://beulahbaptistva.com/event/beulahs-inspirational-journeys-book-club-3/
LOCATION:Beulah Baptist Church\, 320 South Washington Street\, Alexandria\, VA\, 22314
CATEGORIES:Training
END:VEVENT
BEGIN:VEVENT
DTSTART;TZID=America/New_York:20190310T123000
DTEND;TZID=America/New_York:20190310T123000
DTSTAMP:20260419T221933
CREATED:20190218T070558Z
LAST-MODIFIED:20190218T070558Z
UID:2495-1552221000-1552221000@beulahbaptistva.com
SUMMARY:Bible Study
DESCRIPTION:The Book of Daniel – The Seven C’s of Leadership \n\nCharacter\nCompetence\nConvictions\nCourage\nCharisma\nCommitment\nCompassion\n\nCurrent Homework:  Read Daniel Chapters 3 and 4.  Be prepared to discuss how Daniel displayed the Second C – Competence. \nPrevious Homework:  Daniel Chapters 1 & 2 – Discussed how Daniel displayed the First C – Character.  Aspects of Character:  Integrity\, Empathy\, and Hope. \n 
URL:https://beulahbaptistva.com/event/bible-study-4/
LOCATION:Beulah Baptist Church\, 320 South Washington Street\, Alexandria\, VA\, 22314
CATEGORIES:Training
END:VEVENT
BEGIN:VEVENT
DTSTART;TZID=America/New_York:20190203T123000
DTEND;TZID=America/New_York:20190203T123000
DTSTAMP:20260419T221933
CREATED:20190202T215932Z
LAST-MODIFIED:20190202T220536Z
UID:2373-1549197000-1549197000@beulahbaptistva.com
SUMMARY:Bible Study
DESCRIPTION:Study of the Book of Daniel \nThe 7 C’s of Leadership \nHomework:  Read Daniel Chapters 1 & 2.
URL:https://beulahbaptistva.com/event/bible-study-3/
LOCATION:Beulah Baptist Church\, 320 South Washington Street\, Alexandria\, VA\, 22314
CATEGORIES:Training
END:VEVENT
BEGIN:VEVENT
DTSTART;TZID=America/New_York:20190127T120000
DTEND;TZID=America/New_York:20190127T120000
DTSTAMP:20260419T221933
CREATED:20181229T200602Z
LAST-MODIFIED:20181229T204045Z
UID:2223-1548590400-1548590400@beulahbaptistva.com
SUMMARY:Beulah - Emergency\, Preparedness Management and Training
DESCRIPTION:A Mandatory meeting for Beulah as we receive training on the behalf of Public Safety for Emergency and Preparedness Management.
URL:https://beulahbaptistva.com/event/beulah-emergency-preparedness-management-and-training/
LOCATION:Beulah Baptist Church\, 320 South Washington Street\, Alexandria\, VA\, 22314
CATEGORIES:Training
END:VEVENT
BEGIN:VEVENT
DTSTART;TZID=America/New_York:20190120T123000
DTEND;TZID=America/New_York:20190120T123000
DTSTAMP:20260419T221933
CREATED:20181229T211227Z
LAST-MODIFIED:20181229T211449Z
UID:2266-1547987400-1547987400@beulahbaptistva.com
SUMMARY:Bible Study
DESCRIPTION:We are studying the Book of Daniel — covering Chapters 1 and 2 noting how Daniel had displayed leadership (the seven C’s). \nThe seven C’s are: \n1) character \n2) competence \n3) conviction \n4) courage \n5) charisma \n6) commitment \n7) compassion \n 
URL:https://beulahbaptistva.com/event/bible-study-2/
LOCATION:VA
CATEGORIES:Training
END:VEVENT
BEGIN:VEVENT
DTSTART;TZID=America/New_York:20190119T090000
DTEND;TZID=America/New_York:20190119T090000
DTSTAMP:20260419T221933
CREATED:20181229T193454Z
LAST-MODIFIED:20181229T193454Z
UID:2218-1547888400-1547888400@beulahbaptistva.com
SUMMARY:Training for Deacons
DESCRIPTION:This is a mandatory training as a result of the evolution of the Diaconate.
URL:https://beulahbaptistva.com/event/training-for-deacons/
LOCATION:VA
CATEGORIES:Training
ATTACH;FMTTYPE=image/jpeg:https://beulahbaptistva.com/wp-content/uploads/2018/07/Beulah-Crown.jpg
END:VEVENT
BEGIN:VEVENT
DTSTART;TZID=America/New_York:20190113T123000
DTEND;TZID=America/New_York:20190113T123000
DTSTAMP:20260419T221933
CREATED:20181229T212430Z
LAST-MODIFIED:20181229T212430Z
UID:2270-1547382600-1547382600@beulahbaptistva.com
SUMMARY:Beulah's Inspirational Journeys - Book Club
DESCRIPTION:Now reading the book entitled “The Red Tent” by Anita Diamant.  Entire book should be read by this session.
URL:https://beulahbaptistva.com/event/beulahs-inspirational-journeys-book-club/
LOCATION:Beulah Baptist Church\, 320 South Washington Street\, Alexandria\, VA\, 22314
CATEGORIES:Training
END:VEVENT
END:VCALENDAR