BEGIN:VCALENDAR
VERSION:2.0
PRODID:-//Beulah Baptist Church - ECPv6.15.20//NONSGML v1.0//EN
CALSCALE:GREGORIAN
METHOD:PUBLISH
X-ORIGINAL-URL:https://beulahbaptistva.com
X-WR-CALDESC:Events for Beulah Baptist Church
REFRESH-INTERVAL;VALUE=DURATION:PT1H
X-Robots-Tag:noindex
X-PUBLISHED-TTL:PT1H
BEGIN:VTIMEZONE
TZID:America/New_York
BEGIN:DAYLIGHT
TZOFFSETFROM:-0500
TZOFFSETTO:-0400
TZNAME:EDT
DTSTART:20180311T070000
END:DAYLIGHT
BEGIN:STANDARD
TZOFFSETFROM:-0400
TZOFFSETTO:-0500
TZNAME:EST
DTSTART:20181104T060000
END:STANDARD
BEGIN:DAYLIGHT
TZOFFSETFROM:-0500
TZOFFSETTO:-0400
TZNAME:EDT
DTSTART:20190310T070000
END:DAYLIGHT
BEGIN:STANDARD
TZOFFSETFROM:-0400
TZOFFSETTO:-0500
TZNAME:EST
DTSTART:20191103T060000
END:STANDARD
BEGIN:DAYLIGHT
TZOFFSETFROM:-0500
TZOFFSETTO:-0400
TZNAME:EDT
DTSTART:20200308T070000
END:DAYLIGHT
BEGIN:STANDARD
TZOFFSETFROM:-0400
TZOFFSETTO:-0500
TZNAME:EST
DTSTART:20201101T060000
END:STANDARD
BEGIN:DAYLIGHT
TZOFFSETFROM:-0500
TZOFFSETTO:-0400
TZNAME:EDT
DTSTART:20210314T070000
END:DAYLIGHT
BEGIN:STANDARD
TZOFFSETFROM:-0400
TZOFFSETTO:-0500
TZNAME:EST
DTSTART:20211107T060000
END:STANDARD
BEGIN:DAYLIGHT
TZOFFSETFROM:-0500
TZOFFSETTO:-0400
TZNAME:EDT
DTSTART:20220313T070000
END:DAYLIGHT
BEGIN:STANDARD
TZOFFSETFROM:-0400
TZOFFSETTO:-0500
TZNAME:EST
DTSTART:20221106T060000
END:STANDARD
END:VTIMEZONE
BEGIN:VEVENT
DTSTART;TZID=America/New_York:20211210T093000
DTEND;TZID=America/New_York:20211210T103000
DTSTAMP:20260419T171236
CREATED:20211024T050616Z
LAST-MODIFIED:20211031T041013Z
UID:7455-1639128600-1639132200@beulahbaptistva.com
SUMMARY:Beulah's Bible Hour
DESCRIPTION:Dial-In and Join us for Bible Hour – 9:30-10:30am.  Call 1-267-807-9605  and Enter Access Code 647404.  Class starts promptly at 9:30am.
URL:https://beulahbaptistva.com/event/beulahs-bible-hour-10/
LOCATION:Beulah Baptist Church\, 320 South Washington Street\, Alexandria\, VA\, 22314
CATEGORIES:Community,Outreach,Training
END:VEVENT
BEGIN:VEVENT
DTSTART;TZID=America/New_York:20211203T093000
DTEND;TZID=America/New_York:20211203T103000
DTSTAMP:20260419T171236
CREATED:20211024T050025Z
LAST-MODIFIED:20211024T051604Z
UID:7451-1638523800-1638527400@beulahbaptistva.com
SUMMARY:Beulah's Bible Hour
DESCRIPTION:Dial-In and Join us for Bible Hour – 9:30-10:30am.  Call 1-267-807-9605  and Enter Access Code 647404.  Class starts promptly at 9:30am.
URL:https://beulahbaptistva.com/event/beulahs-bible-hour-8/
LOCATION:Beulah Baptist Church\, 320 South Washington Street\, Alexandria\, VA\, 22314
CATEGORIES:Community,Outreach,Training
END:VEVENT
BEGIN:VEVENT
DTSTART;TZID=America/New_York:20211126T093000
DTEND;TZID=America/New_York:20211126T103000
DTSTAMP:20260419T171236
CREATED:20211024T051054Z
LAST-MODIFIED:20211121T164327Z
UID:7459-1637919000-1637922600@beulahbaptistva.com
SUMMARY:Beulah's Bible Hour
DESCRIPTION:On hiatus for today only.  Will resume next Friday\, December 3rd at regularly scheduled time – 9:30am.  Plan to Dial-In!
URL:https://beulahbaptistva.com/event/beulahs-bible-hour-12/
LOCATION:Beulah Baptist Church\, 320 South Washington Street\, Alexandria\, VA\, 22314
CATEGORIES:Community,Outreach,Training
END:VEVENT
BEGIN:VEVENT
DTSTART;TZID=America/New_York:20211119T093000
DTEND;TZID=America/New_York:20211119T103000
DTSTAMP:20260419T171236
CREATED:20211024T050847Z
LAST-MODIFIED:20211024T050847Z
UID:7457-1637314200-1637317800@beulahbaptistva.com
SUMMARY:Beulah's Bible Hour
DESCRIPTION:Dial-In and Join us for Bible Hour – 9:30-10:30am.  Call 1-267-807-9605  and Enter Access Code 647404.  Class starts promptly at 9:30am.
URL:https://beulahbaptistva.com/event/beulahs-bible-hour-11/
LOCATION:Beulah Baptist Church\, 320 South Washington Street\, Alexandria\, VA\, 22314
CATEGORIES:Community,Outreach,Training
END:VEVENT
BEGIN:VEVENT
DTSTART;TZID=America/New_York:20211112T093000
DTEND;TZID=America/New_York:20211112T103000
DTSTAMP:20260419T171236
CREATED:20211024T050330Z
LAST-MODIFIED:20211024T050330Z
UID:7453-1636709400-1636713000@beulahbaptistva.com
SUMMARY:Beulah's Bible Hour
DESCRIPTION:Dial-In and Join us for Bible Hour – 9:30-10:30am.  Call 1-267-807-9605  and Enter Access Code 647404.  Class starts promptly at 9:30am.
URL:https://beulahbaptistva.com/event/beulahs-bible-hour-9/
LOCATION:Beulah Baptist Church\, 320 South Washington Street\, Alexandria\, VA\, 22314
CATEGORIES:Community,Outreach,Training
END:VEVENT
BEGIN:VEVENT
DTSTART;TZID=America/New_York:20211105T093000
DTEND;TZID=America/New_York:20211105T103000
DTSTAMP:20260419T171236
CREATED:20210926T001012Z
LAST-MODIFIED:20210926T002447Z
UID:7283-1636104600-1636108200@beulahbaptistva.com
SUMMARY:Beulah's Bible Hour
DESCRIPTION:Dial-In and Join us for Bible Hour – 9:30-10:30am.  Call 1-267-807-9605  and Enter Access Code 647404.  Class starts promptly at 9:30am.
URL:https://beulahbaptistva.com/event/beulahs-bible-hour-4/
LOCATION:Beulah Baptist Church\, 320 South Washington Street\, Alexandria\, VA\, 22314
CATEGORIES:Community,Outreach,Training
END:VEVENT
BEGIN:VEVENT
DTSTART;TZID=America/New_York:20211029T093000
DTEND;TZID=America/New_York:20211029T103000
DTSTAMP:20260419T171236
CREATED:20210926T001729Z
LAST-MODIFIED:20210926T001729Z
UID:7289-1635499800-1635503400@beulahbaptistva.com
SUMMARY:Beulah's Bible Hour
DESCRIPTION:Dial-In and Join us for Bible Hour – 9:30-10:30am.  Call 1-267-807-9605  and Enter Access Code 647404.  Class starts promptly at 9:30am.
URL:https://beulahbaptistva.com/event/beulahs-bible-hour-7/
LOCATION:Beulah Baptist Church\, 320 South Washington Street\, Alexandria\, VA\, 22314
CATEGORIES:Community,Outreach,Training
END:VEVENT
BEGIN:VEVENT
DTSTART;TZID=America/New_York:20211022T093000
DTEND;TZID=America/New_York:20211022T103000
DTSTAMP:20260419T171236
CREATED:20210926T001504Z
LAST-MODIFIED:20210926T001504Z
UID:7287-1634895000-1634898600@beulahbaptistva.com
SUMMARY:Beulah's Bible Hour
DESCRIPTION:Dial-In and Join us for Bible Hour – 9:30-10:30am.  Call 1-267-807-9605  and Enter Access Code 647404.  Class starts promptly at 9:30am.
URL:https://beulahbaptistva.com/event/beulahs-bible-hour-6/
LOCATION:Beulah Baptist Church\, 320 South Washington Street\, Alexandria\, VA\, 22314
CATEGORIES:Community,Outreach,Training
END:VEVENT
BEGIN:VEVENT
DTSTART;TZID=America/New_York:20211015T093000
DTEND;TZID=America/New_York:20211015T103000
DTSTAMP:20260419T171236
CREATED:20210926T001229Z
LAST-MODIFIED:20210926T001229Z
UID:7285-1634290200-1634293800@beulahbaptistva.com
SUMMARY:Beulah's Bible Hour
DESCRIPTION:Dial-In and Join us for Bible Hour – 9:30-10:30am.  Call 1-267-807-9605  and Enter Access Code 647404.  Class starts promptly at 9:30am.
URL:https://beulahbaptistva.com/event/beulahs-bible-hour-5/
LOCATION:Beulah Baptist Church\, 320 South Washington Street\, Alexandria\, VA\, 22314
CATEGORIES:Community,Outreach,Training
END:VEVENT
BEGIN:VEVENT
DTSTART;TZID=America/New_York:20211008T093000
DTEND;TZID=America/New_York:20211008T103000
DTSTAMP:20260419T171236
CREATED:20210926T000748Z
LAST-MODIFIED:20210926T000748Z
UID:7281-1633685400-1633689000@beulahbaptistva.com
SUMMARY:Beulah's Bible Hour
DESCRIPTION:Dial-In and Join us for Bible Hour – 9:30-10:30am.  Call 1-267-807-9605  and Enter Access Code 647404.  Class starts promptly at 9:30am.
URL:https://beulahbaptistva.com/event/beulahs-bible-hour-3/
LOCATION:Beulah Baptist Church\, 320 South Washington Street\, Alexandria\, VA\, 22314
CATEGORIES:Community,Outreach,Training
END:VEVENT
BEGIN:VEVENT
DTSTART;TZID=America/New_York:20211001T093000
DTEND;TZID=America/New_York:20211001T103000
DTSTAMP:20260419T171236
CREATED:20210926T000311Z
LAST-MODIFIED:20210926T000526Z
UID:7278-1633080600-1633084200@beulahbaptistva.com
SUMMARY:Beulah's Bible Hour
DESCRIPTION:Dial-In and Join us for Bible Hour – 9:30-10:30am.  Call 1-267-807-9605  and Enter Access Code 647404.  Class starts promptly at 9:30am.
URL:https://beulahbaptistva.com/event/beulahs-bible-hour-2/
LOCATION:Beulah Baptist Church\, 320 South Washington Street\, Alexandria\, VA\, 22314
CATEGORIES:Community,Outreach,Training
END:VEVENT
BEGIN:VEVENT
DTSTART;TZID=America/New_York:20210924T093000
DTEND;TZID=America/New_York:20210924T093000
DTSTAMP:20260419T171236
CREATED:20200419T030313Z
LAST-MODIFIED:20210912T061045Z
UID:6605-1632475800-1632475800@beulahbaptistva.com
SUMMARY:Beulah's Bible Hour
DESCRIPTION:Dial-In and Join us for Bible Hour – 9:30-10:30am.  Call 1-267-807-9605  and Enter Access Code 647404. \nPlease call in early-class starts promptly at 9:30am.
URL:https://beulahbaptistva.com/event/beulahs-bible-hour-2021-09-24/
LOCATION:Beulah Baptist Church\, 320 South Washington Street\, Alexandria\, VA\, 22314
CATEGORIES:Training
END:VEVENT
BEGIN:VEVENT
DTSTART;TZID=America/New_York:20210917T093000
DTEND;TZID=America/New_York:20210917T093000
DTSTAMP:20260419T171236
CREATED:20200419T030313Z
LAST-MODIFIED:20210912T055202Z
UID:6604-1631871000-1631871000@beulahbaptistva.com
SUMMARY:Beulah's Bible Hour
DESCRIPTION:Dial-In and Join us for Bible Hour – 9:30-10:30am.  Call 1-267-807-9605  and Enter Access Code 647404. \nPlease call in early-class starts promptly at 9:30am.
URL:https://beulahbaptistva.com/event/beulahs-bible-hour-2021-09-17/
LOCATION:Beulah Baptist Church\, 320 South Washington Street\, Alexandria\, VA\, 22314
CATEGORIES:Training
END:VEVENT
BEGIN:VEVENT
DTSTART;TZID=America/New_York:20201212T110000
DTEND;TZID=America/New_York:20201212T123000
DTSTAMP:20260419T171236
CREATED:20201107T050751Z
LAST-MODIFIED:20201107T052029Z
UID:5904-1607770800-1607776200@beulahbaptistva.com
SUMMARY:Beulah's Inspirational Journeys - Book Club
DESCRIPTION:Now Reading – White Tears/Brown Scars (How White Feminism Betrays Women of Color) by Ruby Hamad.  Join us via Zoom for discussion.  Please read and be prepared to discuss:  the Introduction:  White Tears and Chapter 1 for the  December meeting. \nMeeting ID:    472 121 0453; Password:  923574 \nOr Dial in 1-415-762-9988 or 1-646-568-7788 \n 
URL:https://beulahbaptistva.com/event/beulahs-inspirational-journeys-book-club-7/
LOCATION:Beulah Baptist Church\, 320 South Washington Street\, Alexandria\, VA\, 22314
CATEGORIES:Meeting,Training
END:VEVENT
BEGIN:VEVENT
DTSTART;TZID=America/New_York:20201127T090000
DTEND;TZID=America/New_York:20201127T223000
DTSTAMP:20260419T171236
CREATED:20201120T235522Z
LAST-MODIFIED:20201121T000125Z
UID:5942-1606467600-1606516200@beulahbaptistva.com
SUMMARY:Beulah's Bible Hour - Cancelled Today Only
DESCRIPTION:Bible Hour cancelled for today only.  Join us next Friday\, Dec. 4th\, at 9:30am.
URL:https://beulahbaptistva.com/event/beulah-bible-hour-cancelled-today-only/
LOCATION:Beulah Baptist Church\, 320 South Washington Street\, Alexandria\, VA\, 22314
CATEGORIES:Training
END:VEVENT
BEGIN:VEVENT
DTSTART;TZID=America/New_York:20200511T000000
DTEND;TZID=America/New_York:20200511T235900
DTSTAMP:20260419T171236
CREATED:20200504T030520Z
LAST-MODIFIED:20200504T030700Z
UID:4881-1589155200-1589241540@beulahbaptistva.com
SUMMARY:May Monday Meditations
DESCRIPTION:Monday Meditations (Every Monday during the month of May). \nHealth is Wealth:  Spiritual and Physical Health Awareness \nThen\, throughout the week be on the lookout for nutritional tips for diet and exercise for physical health.\n\nThese will be posted on Beulah’s Facebook and Youtube pages. \n\nStay healthy and blessed.
URL:https://beulahbaptistva.com/event/may-monday-meditations/
LOCATION:Beulah Baptist Church\, 320 South Washington Street\, Alexandria\, VA\, 22314
CATEGORIES:Community,Food,Outreach,Training
END:VEVENT
BEGIN:VEVENT
DTSTART;TZID=America/New_York:20200424T093000
DTEND;TZID=America/New_York:20200424T093000
DTSTAMP:20260419T171236
CREATED:20200419T030313Z
LAST-MODIFIED:20210327T184719Z
UID:4827-1587720600-1587720600@beulahbaptistva.com
SUMMARY:Beulah's Bible Hour
DESCRIPTION:Dial-In and Join us for Bible Hour – 9:30-10:30am.  Call 1-712-770-5505  and Enter Access Code 647404. \nPlease call in early-class starts promptly at 9:30am.
URL:https://beulahbaptistva.com/event/beulahs-bible-hour/
LOCATION:Beulah Baptist Church\, 320 South Washington Street\, Alexandria\, VA\, 22314
CATEGORIES:Training
END:VEVENT
BEGIN:VEVENT
DTSTART;TZID=America/New_York:20200223T124500
DTEND;TZID=America/New_York:20200223T124500
DTSTAMP:20260419T171236
CREATED:20200208T193402Z
LAST-MODIFIED:20200208T195200Z
UID:4262-1582461900-1582461900@beulahbaptistva.com
SUMMARY:Bible Study - A Joyful Noise:  Study of Scripture in Songs
DESCRIPTION:Study of Scripture in Songs continues. Unique “scripture in songs” as offered by Black folk in the Bible – beginning with Miriam\, who raised the question: “How shall we sing the Lord’s song in a strange land?”  Psalm 137:1-4.  In preparation read the Psalm.
URL:https://beulahbaptistva.com/event/bible-study-a-joyful-noise-study-of-scripture-in-songs/
LOCATION:Beulah Baptist Church\, 320 South Washington Street\, Alexandria\, VA\, 22314
CATEGORIES:Training
END:VEVENT
BEGIN:VEVENT
DTSTART;TZID=America/New_York:20200119T124500
DTEND;TZID=America/New_York:20200119T124500
DTSTAMP:20260419T171236
CREATED:20191228T052201Z
LAST-MODIFIED:20191228T052201Z
UID:3708-1579437900-1579437900@beulahbaptistva.com
SUMMARY:Bible Study
DESCRIPTION:Bible Study:  Make a Joyful Noise – Study of scripture in song.  Join Us!
URL:https://beulahbaptistva.com/event/bible-study-13/
LOCATION:Beulah Baptist Church\, 320 South Washington Street\, Alexandria\, VA\, 22314
CATEGORIES:Training
END:VEVENT
BEGIN:VEVENT
DTSTART;TZID=America/New_York:20191208T124500
DTEND;TZID=America/New_York:20191208T124500
DTSTAMP:20260419T171236
CREATED:20191120T050244Z
LAST-MODIFIED:20191202T045335Z
UID:3598-1575809100-1575809100@beulahbaptistva.com
SUMMARY:Bible Study
DESCRIPTION:Join Us for Bible Study.  Beginning of New Study – A Joyful Noise:  A Study of Scripture in Song \n 
URL:https://beulahbaptistva.com/event/bible-study-12/
LOCATION:Beulah Baptist Church\, 320 South Washington Street\, Alexandria\, VA\, 22314
CATEGORIES:Training
END:VEVENT
BEGIN:VEVENT
DTSTART;TZID=America/New_York:20191103T124500
DTEND;TZID=America/New_York:20191103T124500
DTSTAMP:20260419T171236
CREATED:20191026T181444Z
LAST-MODIFIED:20191026T181444Z
UID:3524-1572785100-1572785100@beulahbaptistva.com
SUMMARY:Bible Study
DESCRIPTION:Presentations due from the Study of the Book of Daniel.  The 7 C’s of leadership. \nAssignment:  Using the 7 C’s creatively outline how you can be a leader in your life and in the church using pictures to articulate a vision board for yourself or you can write it out\, or use magazines to tell the story of how you can be a leader in the church and life.  How can you use the 7 leadership traits to employ and use in your life and the life of the church? \nThe 7 C’s:  Character; Competence; Convictions; Courage; Charisma; Commitment; & Compassion.
URL:https://beulahbaptistva.com/event/bible-study-11/
LOCATION:Beulah Baptist Church\, 320 South Washington Street\, Alexandria\, VA\, 22314
CATEGORIES:Training
END:VEVENT
BEGIN:VEVENT
DTSTART;TZID=America/New_York:20191027T124500
DTEND;TZID=America/New_York:20191027T124500
DTSTAMP:20260419T171236
CREATED:20191006T015836Z
LAST-MODIFIED:20191026T181136Z
UID:3466-1572180300-1572180300@beulahbaptistva.com
SUMMARY:Bible Study - Rescheduled to Nov 3rd
DESCRIPTION:Presentations due from the Study of the Book of Daniel.  The 7 C’s of leadership. \nAssignment:  Using the 7 C’s creatively outline how you can be a leader in your life and in the church using pictures to articulate a vision board for yourself or you can write it out\, or use magazines to tell the story of how you can be a leader in the church and life.  How can you use the 7 leadership traits to employ and use in your life and the life of the church? \nThe 7 C’s:  Character; Competence; Convictions; Courage; Charisma; Commitment; & Compassion.
URL:https://beulahbaptistva.com/event/bible-study-10/
LOCATION:Beulah Baptist Church\, 320 South Washington Street\, Alexandria\, VA\, 22314
CATEGORIES:Training
END:VEVENT
BEGIN:VEVENT
DTSTART;TZID=America/New_York:20191027T103000
DTEND;TZID=America/New_York:20191027T123000
DTSTAMP:20260419T171236
CREATED:20191026T194756Z
LAST-MODIFIED:20191026T194756Z
UID:3538-1572172200-1572179400@beulahbaptistva.com
SUMMARY:Sunday Worship Services - Heritage Sunday
DESCRIPTION:Join Us for Heritage Sunday as we end our 156th Church Anniversary with a special recognition to members with 40+ years and Hearing from the Elders #Wisdom.
URL:https://beulahbaptistva.com/event/sunday-worship-services-heritage-sunday/
LOCATION:Beulah Baptist Church\, 320 South Washington Street\, Alexandria\, VA\, 22314
CATEGORIES:Training
ATTACH;FMTTYPE=image/jpeg:https://beulahbaptistva.com/wp-content/uploads/2018/07/Beulah-Crown.jpg
END:VEVENT
BEGIN:VEVENT
DTSTART;TZID=America/New_York:20191013T124500
DTEND;TZID=America/New_York:20191013T124500
DTSTAMP:20260419T171236
CREATED:20191006T010624Z
LAST-MODIFIED:20191006T010624Z
UID:3462-1570970700-1570970700@beulahbaptistva.com
SUMMARY:Beulah's Inspirational Journeys - Book Club
DESCRIPTION:Now Reading “Jesus and The Disinherited” by Howard Thurman.  Read Chapter 2 and be prepared to discuss. \n  \n 
URL:https://beulahbaptistva.com/event/beulahs-inspirational-journeys-book-club-6/
LOCATION:Beulah Baptist Church\, 320 South Washington Street\, Alexandria\, VA\, 22314
CATEGORIES:Meeting,Training
END:VEVENT
BEGIN:VEVENT
DTSTART;TZID=America/New_York:20190922T124500
DTEND;TZID=America/New_York:20190922T124500
DTSTAMP:20260419T171236
CREATED:20190913T172711Z
LAST-MODIFIED:20190915T034435Z
UID:3258-1569156300-1569156300@beulahbaptistva.com
SUMMARY:Beulah's Inspirational Journeys - Book Club
DESCRIPTION:Now Reading “Jesus and the Disinherited” by Howard Thurman.  Secure a copy of the book and join us for discussions.  Read the Foreword\, Chapters 1 and 2 if possible.
URL:https://beulahbaptistva.com/event/inspirational-journeys-book-club/
LOCATION:Beulah Baptist Church\, 320 South Washington Street\, Alexandria\, VA\, 22314
CATEGORIES:Training
END:VEVENT
BEGIN:VEVENT
DTSTART;TZID=America/New_York:20190915T124500
DTEND;TZID=America/New_York:20190915T124500
DTSTAMP:20260419T171236
CREATED:20190913T172238Z
LAST-MODIFIED:20190913T172238Z
UID:3256-1568551500-1568551500@beulahbaptistva.com
SUMMARY:Bible Study
DESCRIPTION:The Study of the Book of Daniel – The 7 C’s of leadership completed.  Individual Projects to be assigned.
URL:https://beulahbaptistva.com/event/bible-study-9/
LOCATION:Beulah Baptist Church\, 320 South Washington Street\, Alexandria\, VA\, 22314
CATEGORIES:Training
END:VEVENT
BEGIN:VEVENT
DTSTART;TZID=America/New_York:20190804T124500
DTEND;TZID=America/New_York:20190804T124500
DTSTAMP:20260419T171236
CREATED:20190803T181006Z
LAST-MODIFIED:20190803T181856Z
UID:3164-1564922700-1564922700@beulahbaptistva.com
SUMMARY:Bible Study
DESCRIPTION:Book of Daniel – The 7 C’s of Leadership \nAssignment:  Read Final Chapters 10\, 11\, & 12 of Daniel and focus and apply any of the 7 C’s as applicable. \n7 C’s:  Character\, Competence\, Conviction\, Courage\, Charisma\, Commitment\, & Compassion. \nPrevious Discussion was on Chapters 8 & 9 – Commitment and Compassion. \n 
URL:https://beulahbaptistva.com/event/bible-study-8/
LOCATION:Beulah Baptist Church\, 320 South Washington Street\, Alexandria\, VA\, 22314
CATEGORIES:Training
END:VEVENT
BEGIN:VEVENT
DTSTART;TZID=America/New_York:20190714T120000
DTEND;TZID=America/New_York:20190714T120000
DTSTAMP:20260419T171236
CREATED:20190618T022846Z
LAST-MODIFIED:20190618T025128Z
UID:3042-1563105600-1563105600@beulahbaptistva.com
SUMMARY:B.G.O.L.D. Lecture Series "Financial Literacy"
DESCRIPTION:B.G.O.L.D. Presents “Financial Literacy”  Come and learn about budgeting\, managing your finances\, investing and planned giving\, etc..; Presenter Jo Powell\, Zircon Financial\, Lincoln Financial Company.
URL:https://beulahbaptistva.com/event/b-g-o-l-d-lecture-series-financial-literacy/
LOCATION:Beulah Baptist Church\, 320 South Washington Street\, Alexandria\, VA\, 22314
CATEGORIES:Training
END:VEVENT
BEGIN:VEVENT
DTSTART;TZID=America/New_York:20190707T124500
DTEND;TZID=America/New_York:20190707T124500
DTSTAMP:20260419T171236
CREATED:20190628T144105Z
LAST-MODIFIED:20190628T144423Z
UID:3064-1562503500-1562503500@beulahbaptistva.com
SUMMARY:Bible Study
DESCRIPTION:The Study of the Book of Daniel; The 7 C’s of Leadership.  Current Assignment:  Read Daniel Chapters 7\, 8\, & 9 and be prepared to discuss the last 2 C’s – Commitment and Compassion. \nThe 7 C’s of Leadership are:  Character\, Competence\, Conviction\, Courage\, Charisma\, Commitment and Compassion. \nPrevious Discussions:  Chapters 1 and 2:  Discussed Character; Chapters 3 & 4:  Discussed Competence (and touched on Commitment); Chapters 5 & 6:  Discussed Courage\, Conviction & Charisma.
URL:https://beulahbaptistva.com/event/bible-study-7/
LOCATION:Beulah Baptist Church\, 320 South Washington Street\, Alexandria\, VA\, 22314
CATEGORIES:Training
END:VEVENT
BEGIN:VEVENT
DTSTART;TZID=America/New_York:20190630T124500
DTEND;TZID=America/New_York:20190630T124500
DTSTAMP:20260419T171236
CREATED:20190603T172459Z
LAST-MODIFIED:20190628T143908Z
UID:3000-1561898700-1561898700@beulahbaptistva.com
SUMMARY:Bible Study - Cancelled for June 30th
DESCRIPTION:The Study of the Book of Daniel; The 7 C’s of Leadership.  Current Assignment:  Read Daniel Chapters 7\, 8\, & 9 and be prepared to discuss the last 2 C’s – Commitment and Compassion. \nThe 7 C’s of Leadership are:  Character\, Competence\, Conviction\, Courage\, Charisma\, Commitment and Compassion. \nPrevious Discussions:  Chapters 1 and 2:  Discussed Character; Chapters 3 & 4:  Discussed Competence (and touched on Commitment); Chapters 5 & 6:  Discussed Courage\, Conviction & Charisma.
URL:https://beulahbaptistva.com/event/bible-study-6/
LOCATION:Beulah Baptist Church\, 320 South Washington Street\, Alexandria\, VA\, 22314
CATEGORIES:Training
END:VEVENT
END:VCALENDAR