BEGIN:VCALENDAR
VERSION:2.0
PRODID:-//Beulah Baptist Church - ECPv6.15.20//NONSGML v1.0//EN
CALSCALE:GREGORIAN
METHOD:PUBLISH
X-WR-CALNAME:Beulah Baptist Church
X-ORIGINAL-URL:https://beulahbaptistva.com
X-WR-CALDESC:Events for Beulah Baptist Church
REFRESH-INTERVAL;VALUE=DURATION:PT1H
X-Robots-Tag:noindex
X-PUBLISHED-TTL:PT1H
BEGIN:VTIMEZONE
TZID:America/New_York
BEGIN:DAYLIGHT
TZOFFSETFROM:-0500
TZOFFSETTO:-0400
TZNAME:EDT
DTSTART:20170312T070000
END:DAYLIGHT
BEGIN:STANDARD
TZOFFSETFROM:-0400
TZOFFSETTO:-0500
TZNAME:EST
DTSTART:20171105T060000
END:STANDARD
BEGIN:DAYLIGHT
TZOFFSETFROM:-0500
TZOFFSETTO:-0400
TZNAME:EDT
DTSTART:20180311T070000
END:DAYLIGHT
BEGIN:STANDARD
TZOFFSETFROM:-0400
TZOFFSETTO:-0500
TZNAME:EST
DTSTART:20181104T060000
END:STANDARD
BEGIN:DAYLIGHT
TZOFFSETFROM:-0500
TZOFFSETTO:-0400
TZNAME:EDT
DTSTART:20190310T070000
END:DAYLIGHT
BEGIN:STANDARD
TZOFFSETFROM:-0400
TZOFFSETTO:-0500
TZNAME:EST
DTSTART:20191103T060000
END:STANDARD
BEGIN:DAYLIGHT
TZOFFSETFROM:-0500
TZOFFSETTO:-0400
TZNAME:EDT
DTSTART:20200308T070000
END:DAYLIGHT
BEGIN:STANDARD
TZOFFSETFROM:-0400
TZOFFSETTO:-0500
TZNAME:EST
DTSTART:20201101T060000
END:STANDARD
BEGIN:DAYLIGHT
TZOFFSETFROM:-0500
TZOFFSETTO:-0400
TZNAME:EDT
DTSTART:20210314T070000
END:DAYLIGHT
BEGIN:STANDARD
TZOFFSETFROM:-0400
TZOFFSETTO:-0500
TZNAME:EST
DTSTART:20211107T060000
END:STANDARD
BEGIN:DAYLIGHT
TZOFFSETFROM:-0500
TZOFFSETTO:-0400
TZNAME:EDT
DTSTART:20220313T070000
END:DAYLIGHT
BEGIN:STANDARD
TZOFFSETFROM:-0400
TZOFFSETTO:-0500
TZNAME:EST
DTSTART:20221106T060000
END:STANDARD
BEGIN:DAYLIGHT
TZOFFSETFROM:-0500
TZOFFSETTO:-0400
TZNAME:EDT
DTSTART:20230312T070000
END:DAYLIGHT
BEGIN:STANDARD
TZOFFSETFROM:-0400
TZOFFSETTO:-0500
TZNAME:EST
DTSTART:20231105T060000
END:STANDARD
BEGIN:DAYLIGHT
TZOFFSETFROM:-0500
TZOFFSETTO:-0400
TZNAME:EDT
DTSTART:20240310T070000
END:DAYLIGHT
BEGIN:STANDARD
TZOFFSETFROM:-0400
TZOFFSETTO:-0500
TZNAME:EST
DTSTART:20241103T060000
END:STANDARD
BEGIN:DAYLIGHT
TZOFFSETFROM:-0500
TZOFFSETTO:-0400
TZNAME:EDT
DTSTART:20250309T070000
END:DAYLIGHT
BEGIN:STANDARD
TZOFFSETFROM:-0400
TZOFFSETTO:-0500
TZNAME:EST
DTSTART:20251102T060000
END:STANDARD
END:VTIMEZONE
BEGIN:VEVENT
DTSTART;TZID=America/New_York:20240320T000000
DTEND;TZID=America/New_York:20240320T235900
DTSTAMP:20260420T062833
CREATED:20240316T185209Z
LAST-MODIFIED:20240316T185209Z
UID:10679-1710892800-1710979140@beulahbaptistva.com
SUMMARY:Daily Scriptures For Spiritual Growth & Outreach
DESCRIPTION:WEDNESDAY: Acts 2:42-47 – 42They devoted themselves to the apostles’ teaching and to fellowship\, to the breaking of bread and to prayer. 43Everyone was filled with awe at the many wonders and signs performed by the apostles. 44All the believers were together and had everything in common. 45They sold property and possessions to give to anyone who had need. 46Every day they continued to meet together in the temple courts. They broke bread in their homes and ate together with glad and sincere hearts\, 47praising God and enjoying the favor of all the people. And the Lord added to their number daily those who were being saved.
URL:https://beulahbaptistva.com/event/daily-scriptures-for-spiritual-growth-outreach-22/
LOCATION:Beulah Baptist Church\, 320 South Washington Street\, Alexandria\, VA\, 22314
CATEGORIES:Community,Daily Scriptures,Rehearsal
ATTACH;FMTTYPE=image/png:https://beulahbaptistva.com/wp-content/uploads/2023/12/Screenshot-2023-12-16-at-4.10.02 PM-6.png
END:VEVENT
BEGIN:VEVENT
DTSTART;TZID=America/New_York:20200104T130000
DTEND;TZID=America/New_York:20200104T130000
DTSTAMP:20260420T062833
CREATED:20180820T113202Z
LAST-MODIFIED:20200105T061846Z
UID:1888-1578142800-1578142800@beulahbaptistva.com
SUMMARY:Gospel Ministry Choir Rehearsal
DESCRIPTION:
URL:https://beulahbaptistva.com/event/gospel-ministry-choir-rehearsal-2/
LOCATION:Beulah Baptist Church\, 320 South Washington Street\, Alexandria\, VA\, 22314
CATEGORIES:Rehearsal
ATTACH;FMTTYPE=image/jpeg:https://beulahbaptistva.com/wp-content/uploads/2018/07/Beulah-Crown.jpg
END:VEVENT
BEGIN:VEVENT
DTSTART;TZID=America/New_York:20180915T130000
DTEND;TZID=America/New_York:20180915T140000
DTSTAMP:20260420T062833
CREATED:20180913T231038Z
LAST-MODIFIED:20180913T231038Z
UID:1902-1537016400-1537020000@beulahbaptistva.com
SUMMARY:Gospel Ministry Choir Rehearsal
DESCRIPTION:
URL:https://beulahbaptistva.com/event/gospel-ministry-choir-rehearsal-3/
LOCATION:Beulah Baptist Church\, 320 South Washington Street\, Alexandria\, VA\, 22314
CATEGORIES:Rehearsal
END:VEVENT
BEGIN:VEVENT
DTSTART;TZID=America/New_York:20180804T130000
DTEND;TZID=America/New_York:20180804T150000
DTSTAMP:20260420T062833
CREATED:20180730T090837Z
LAST-MODIFIED:20180730T090837Z
UID:1854-1533387600-1533394800@beulahbaptistva.com
SUMMARY:Gospel Ministry Choir Rehearsal
DESCRIPTION:Gospel Ministry Choir Rehearsal
URL:https://beulahbaptistva.com/event/gospel-ministry-choir-rehearsal/
LOCATION:Beulah Baptist Church\, 320 South Washington Street\, Alexandria\, VA\, 22314
CATEGORIES:Rehearsal
ATTACH;FMTTYPE=image/jpeg:https://beulahbaptistva.com/wp-content/uploads/2018/07/Beulah-Crown.jpg
END:VEVENT
END:VCALENDAR