BEGIN:VCALENDAR
VERSION:2.0
PRODID:-//Beulah Baptist Church - ECPv6.15.20//NONSGML v1.0//EN
CALSCALE:GREGORIAN
METHOD:PUBLISH
X-WR-CALNAME:Beulah Baptist Church
X-ORIGINAL-URL:https://beulahbaptistva.com
X-WR-CALDESC:Events for Beulah Baptist Church
REFRESH-INTERVAL;VALUE=DURATION:PT1H
X-Robots-Tag:noindex
X-PUBLISHED-TTL:PT1H
BEGIN:VTIMEZONE
TZID:America/New_York
BEGIN:DAYLIGHT
TZOFFSETFROM:-0500
TZOFFSETTO:-0400
TZNAME:EDT
DTSTART:20200308T070000
END:DAYLIGHT
BEGIN:STANDARD
TZOFFSETFROM:-0400
TZOFFSETTO:-0500
TZNAME:EST
DTSTART:20201101T060000
END:STANDARD
BEGIN:DAYLIGHT
TZOFFSETFROM:-0500
TZOFFSETTO:-0400
TZNAME:EDT
DTSTART:20210314T070000
END:DAYLIGHT
BEGIN:STANDARD
TZOFFSETFROM:-0400
TZOFFSETTO:-0500
TZNAME:EST
DTSTART:20211107T060000
END:STANDARD
BEGIN:DAYLIGHT
TZOFFSETFROM:-0500
TZOFFSETTO:-0400
TZNAME:EDT
DTSTART:20220313T070000
END:DAYLIGHT
BEGIN:STANDARD
TZOFFSETFROM:-0400
TZOFFSETTO:-0500
TZNAME:EST
DTSTART:20221106T060000
END:STANDARD
BEGIN:DAYLIGHT
TZOFFSETFROM:-0500
TZOFFSETTO:-0400
TZNAME:EDT
DTSTART:20230312T070000
END:DAYLIGHT
BEGIN:STANDARD
TZOFFSETFROM:-0400
TZOFFSETTO:-0500
TZNAME:EST
DTSTART:20231105T060000
END:STANDARD
BEGIN:DAYLIGHT
TZOFFSETFROM:-0500
TZOFFSETTO:-0400
TZNAME:EDT
DTSTART:20240310T070000
END:DAYLIGHT
BEGIN:STANDARD
TZOFFSETFROM:-0400
TZOFFSETTO:-0500
TZNAME:EST
DTSTART:20241103T060000
END:STANDARD
END:VTIMEZONE
BEGIN:VEVENT
DTSTART;TZID=America/New_York:20230527T090000
DTEND;TZID=America/New_York:20230527T110000
DTSTAMP:20260419T223932
CREATED:20230514T041213Z
LAST-MODIFIED:20230514T042411Z
UID:9499-1685178000-1685185200@beulahbaptistva.com
SUMMARY:Walk & Praise
DESCRIPTION:Join Us Today for a Walk & Praise!  Last Saturday of the Month\, Every month!  Weather Permitting.
URL:https://beulahbaptistva.com/event/walk-praise-6/
LOCATION:Fort Ward Park\, 4301 W. Braddock Road\, Alexandria\, VA\, 22304\, United States
CATEGORIES:Community,Meeting,Outreach
END:VEVENT
BEGIN:VEVENT
DTSTART;TZID=America/New_York:20230513T110000
DTEND;TZID=America/New_York:20230513T123000
DTSTAMP:20260419T223932
CREATED:20230415T234507Z
LAST-MODIFIED:20230415T234507Z
UID:9400-1683975600-1683981000@beulahbaptistva.com
SUMMARY:Beulah's Inspirational Journeys
DESCRIPTION:Join us via Zoom as we continue with our new read\, “The Nickel Boys” by Colson Whitehead.  Read Chapters 4-7 for our next discussion. \nZoom Info: \nID:  472 121 0453 \nPassword:  923574 (if needed) \nDial-In:   (415) 762-9988 or (646) 568-7788
URL:https://beulahbaptistva.com/event/beulahs-inspirational-journeys-23/
LOCATION:Beulah Baptist Church\, 320 South Washington Street\, Alexandria\, VA\, 22314
CATEGORIES:Community,Meeting,Outreach
END:VEVENT
BEGIN:VEVENT
DTSTART;TZID=America/New_York:20230429T090000
DTEND;TZID=America/New_York:20230429T110000
DTSTAMP:20260419T223932
CREATED:20230415T232244Z
LAST-MODIFIED:20230415T232244Z
UID:9395-1682758800-1682766000@beulahbaptistva.com
SUMMARY:Walk & Praise
DESCRIPTION:Join Us at Fort Ward Park – Weather Permitting as we Walk & Praise!
URL:https://beulahbaptistva.com/event/walk-praise-5/
LOCATION:Fort Ward Park\, 4301 W. Braddock Road\, Alexandria\, VA\, 22304\, United States
CATEGORIES:Community,Meeting,Outreach
END:VEVENT
BEGIN:VEVENT
DTSTART;TZID=America/New_York:20230423T124500
DTEND;TZID=America/New_York:20230423T124500
DTSTAMP:20260419T223932
CREATED:20230409T050932Z
LAST-MODIFIED:20230409T050932Z
UID:9370-1682253900-1682253900@beulahbaptistva.com
SUMMARY:Bible Study
DESCRIPTION:Join Us for Bible Study immediately following the morning worship service.  Face Mask optional for in-person service.
URL:https://beulahbaptistva.com/event/bible-study-23/
LOCATION:Beulah Baptist Church\, 320 South Washington Street\, Alexandria\, VA\, 22314
CATEGORIES:Meeting
ATTACH;FMTTYPE=image/jpeg:https://beulahbaptistva.com/wp-content/uploads/2018/07/Experience-Beulah-bible.jpg
END:VEVENT
BEGIN:VEVENT
DTSTART;TZID=America/New_York:20230211T110000
DTEND;TZID=America/New_York:20230211T123000
DTSTAMP:20260419T223932
CREATED:20230122T040053Z
LAST-MODIFIED:20230122T040053Z
UID:9036-1676113200-1676118600@beulahbaptistva.com
SUMMARY:Beulah's Inspirational Journeys
DESCRIPTION:Join Us via Zoom as we continue with discussions on our current read\, “Lightning Strike”.  Read Chapters 41-50 in preparation. \nZoom Info: \nLog-in or Dial-in \nMeeting ID:  472 121 0453 \nPassword:  923574 \nDial – (415) 762-9988 or (646) 568-7788 \nMeeting ID:  472 121 0453
URL:https://beulahbaptistva.com/event/beulahs-inspirational-journeys-22/
LOCATION:Beulah Baptist Church\, 320 South Washington Street\, Alexandria\, VA\, 22314
CATEGORIES:Meeting
END:VEVENT
BEGIN:VEVENT
DTSTART;TZID=America/New_York:20230114T110000
DTEND;TZID=America/New_York:20230114T123000
DTSTAMP:20260419T223932
CREATED:20221204T055528Z
LAST-MODIFIED:20221204T055528Z
UID:8885-1673694000-1673699400@beulahbaptistva.com
SUMMARY:Beulah's Inspirational Journeys
DESCRIPTION:Join Us via Zoom as we continue with discussions on our current read\, “Lightning Strike”.  Read Chapters 31-40 in preparation. \nZoom Info: \nLog-in or Dial-in \nMeeting ID:  472 121 0453 \nPassword:  923574 \nDial – (415) 762-9988 or (646) 568-7788 \nMeeting ID:  472 121 0453
URL:https://beulahbaptistva.com/event/beulahs-inspirational-journeys-21/
LOCATION:Beulah Baptist Church\, 320 South Washington Street\, Alexandria\, VA\, 22314
CATEGORIES:Community,Meeting,Outreach
END:VEVENT
BEGIN:VEVENT
DTSTART;TZID=America/New_York:20221210T110000
DTEND;TZID=America/New_York:20221210T123000
DTSTAMP:20260419T223932
CREATED:20221204T055343Z
LAST-MODIFIED:20221204T055343Z
UID:8883-1670670000-1670675400@beulahbaptistva.com
SUMMARY:Beulah's Inspirational Journeys
DESCRIPTION:Join Us via Zoom as we continue with discussions on our current read\, “Lightning Strike”.  Read Chapters 21-30 in preparation. \nZoom Info: \nLog-in or Dial-in \nMeeting ID:  472 121 0453 \nPassword:  923574 \nDial – (415) 762-9988 or (646) 568-7788 \nMeeting ID:  472 121 0453
URL:https://beulahbaptistva.com/event/beulahs-inspirational-journeys-20/
LOCATION:Beulah Baptist Church\, 320 South Washington Street\, Alexandria\, VA\, 22314
CATEGORIES:Community,Meeting,Outreach
END:VEVENT
BEGIN:VEVENT
DTSTART;TZID=America/New_York:20221127T123000
DTEND;TZID=America/New_York:20221127T123000
DTSTAMP:20260419T223932
CREATED:20221120T003234Z
LAST-MODIFIED:20221120T003234Z
UID:8839-1669552200-1669552200@beulahbaptistva.com
SUMMARY:Bible Study
DESCRIPTION:Join Us for Bible Study immediately following the morning Worship Service.  Face Mask required for in-person service.
URL:https://beulahbaptistva.com/event/bible-study-21/
LOCATION:Beulah Baptist Church\, 320 South Washington Street\, Alexandria\, VA\, 22314
CATEGORIES:Community,Meeting,Outreach
ATTACH;FMTTYPE=image/jpeg:https://beulahbaptistva.com/wp-content/uploads/2018/07/Experience-Beulah-bible.jpg
END:VEVENT
BEGIN:VEVENT
DTSTART;TZID=America/New_York:20221112T110000
DTEND;TZID=America/New_York:20221112T123000
DTSTAMP:20260419T223932
CREATED:20221016T015933Z
LAST-MODIFIED:20221016T015933Z
UID:8709-1668250800-1668256200@beulahbaptistva.com
SUMMARY:Beulah's Inspirational Journeys
DESCRIPTION:Join Us via Zoom as we continue with discussions on our current read\, “Lightning Strike”.  Read Chapters 11-20 in preparation. \nZoom Info: \nLog-in or Dial-in \nMeeting ID:  472 121 0453 \nPassword:  923574 \nDial – (415) 762-9988 or (646) 568-7788 \nMeeting ID:  472 121 0453
URL:https://beulahbaptistva.com/event/beulahs-inspirational-journeys-19/
LOCATION:Beulah Baptist Church\, 320 South Washington Street\, Alexandria\, VA\, 22314
CATEGORIES:Community,Meeting,Outreach
END:VEVENT
BEGIN:VEVENT
DTSTART;TZID=America/New_York:20221029T090000
DTEND;TZID=America/New_York:20221029T110000
DTSTAMP:20260419T223932
CREATED:20221023T005340Z
LAST-MODIFIED:20221023T005340Z
UID:8728-1667034000-1667041200@beulahbaptistva.com
SUMMARY:Walk & Praise
DESCRIPTION:Join Us for our monthly Walk and Praise Event.  This will be our last meet of the year.  Weather Permitting!
URL:https://beulahbaptistva.com/event/walk-praise-4/
LOCATION:Fort Ward Park\, 4301 W. Braddock Road\, Alexandria\, VA\, 22304\, United States
CATEGORIES:Community,Meeting,Outreach
ATTACH;FMTTYPE=image/jpeg:https://beulahbaptistva.com/wp-content/uploads/2018/07/Beulah-Crown.jpg
END:VEVENT
BEGIN:VEVENT
DTSTART;TZID=America/New_York:20221015T110000
DTEND;TZID=America/New_York:20221015T123000
DTSTAMP:20260419T223932
CREATED:20220911T002751Z
LAST-MODIFIED:20220911T003401Z
UID:8590-1665831600-1665837000@beulahbaptistva.com
SUMMARY:Beulah's Inspirational Journeys
DESCRIPTION:Join Us via Zoom as we continue with discussions on our New Read – “Lightning Strike”.  Read Chapters 4-10 in preparation. \nZoom Info: \nLog-in or Dial-in \nMeeting ID:  472 121 0453 \nPassword:  923574 \nDial – (415) 762-9988 or (646) 568-7788 \nMeeting ID:  472 121 0453
URL:https://beulahbaptistva.com/event/beulahs-inspirational-journeys-18/
LOCATION:Beulah Baptist Church\, 320 South Washington Street\, Alexandria\, VA\, 22314
CATEGORIES:Meeting
END:VEVENT
BEGIN:VEVENT
DTSTART;TZID=America/New_York:20220910T110000
DTEND;TZID=America/New_York:20220910T123000
DTSTAMP:20260419T223932
CREATED:20220828T001611Z
LAST-MODIFIED:20220828T002856Z
UID:8548-1662807600-1662813000@beulahbaptistva.com
SUMMARY:Beulah's Inspirational Journeys
DESCRIPTION:Join Us via Zoom as we start our new read\, Lightning Strike by William Kent Krueger.  Be prepared by reading  Chapters 1-3 for our discussion. \nZoom Info: \nLog-in or Dial-in \nMeeting ID:  472 121 0453 \nPassword:  923574 \nDial – (415) 762-9988 or (646) 568-7788 \n 
URL:https://beulahbaptistva.com/event/beulahs-inspirational-journeys-17/
LOCATION:Beulah Baptist Church\, 320 South Washington Street\, Alexandria\, VA\, 22314
CATEGORIES:Meeting
END:VEVENT
BEGIN:VEVENT
DTSTART;TZID=America/New_York:20220626T124000
DTEND;TZID=America/New_York:20220626T124000
DTSTAMP:20260419T223932
CREATED:20220507T225351Z
LAST-MODIFIED:20220507T225351Z
UID:8185-1656247200-1656247200@beulahbaptistva.com
SUMMARY:Bible Study
DESCRIPTION:Join Us for Bible Study immediately following the Morning Worship Service.
URL:https://beulahbaptistva.com/event/bible-study-19/
LOCATION:Beulah Baptist Church\, 320 South Washington Street\, Alexandria\, VA\, 22314
CATEGORIES:Community,Meeting,Outreach
ATTACH;FMTTYPE=image/jpeg:https://beulahbaptistva.com/wp-content/uploads/2018/07/Experience-Beulah-bible.jpg
END:VEVENT
BEGIN:VEVENT
DTSTART;TZID=America/New_York:20220623T193000
DTEND;TZID=America/New_York:20220623T210000
DTSTAMP:20260419T223932
CREATED:20220522T030046Z
LAST-MODIFIED:20220522T030046Z
UID:8231-1656012600-1656018000@beulahbaptistva.com
SUMMARY:Grief Support Ministry
DESCRIPTION:NEW MINISTRY – Click on “more” below to view flyer.
URL:https://beulahbaptistva.com/event/grief-support-ministry/
LOCATION:Beulah Baptist Church\, 320 South Washington Street\, Alexandria\, VA\, 22314
CATEGORIES:Meeting
END:VEVENT
BEGIN:VEVENT
DTSTART;TZID=America/New_York:20220611T110000
DTEND;TZID=America/New_York:20220611T123000
DTSTAMP:20260419T223932
CREATED:20220507T221146Z
LAST-MODIFIED:20220507T221406Z
UID:8163-1654945200-1654950600@beulahbaptistva.com
SUMMARY:Beulah's Inspirational Journeys
DESCRIPTION:On hiatus for June.
URL:https://beulahbaptistva.com/event/beulahs-inspirational-journeys-2-2/
LOCATION:Beulah Baptist Church\, 320 South Washington Street\, Alexandria\, VA\, 22314
CATEGORIES:Community,Meeting,Outreach
END:VEVENT
BEGIN:VEVENT
DTSTART;TZID=America/New_York:20220522T124000
DTEND;TZID=America/New_York:20220522T124000
DTSTAMP:20260419T223932
CREATED:20220507T225142Z
LAST-MODIFIED:20220507T225142Z
UID:8183-1653223200-1653223200@beulahbaptistva.com
SUMMARY:Bible Study
DESCRIPTION:Join Us for Bible Study immediately following the Morning Worship Service.
URL:https://beulahbaptistva.com/event/bible-study-18/
LOCATION:Beulah Baptist Church\, 320 South Washington Street\, Alexandria\, VA\, 22314
CATEGORIES:Community,Meeting,Outreach
ATTACH;FMTTYPE=image/jpeg:https://beulahbaptistva.com/wp-content/uploads/2018/07/Experience-Beulah-bible.jpg
END:VEVENT
BEGIN:VEVENT
DTSTART;TZID=America/New_York:20220507T110000
DTEND;TZID=America/New_York:20220507T123000
DTSTAMP:20260419T223932
CREATED:20220417T052735Z
LAST-MODIFIED:20220417T052735Z
UID:8101-1651921200-1651926600@beulahbaptistva.com
SUMMARY:Beulah's Inspirational Journeys
DESCRIPTION:Join us as we conclude our discussion of our current read “The Stranger in the Lifeboat” by Mitch Albom via Zoom. \nZoom Info \nMeeting ID:  472 121 0453 \nPassword:  923574 \nDial-In:  (415) 762-9988 or (646) 568-7788 \nSame Meeting ID and Password if needed.
URL:https://beulahbaptistva.com/event/beulahs-inspirational-journeys-16/
LOCATION:Beulah Baptist Church\, 320 South Washington Street\, Alexandria\, VA\, 22314
CATEGORIES:Community,Meeting,Outreach
END:VEVENT
BEGIN:VEVENT
DTSTART;TZID=America/New_York:20220503T190000
DTEND;TZID=America/New_York:20220503T190000
DTSTAMP:20260419T223932
CREATED:20220501T052522Z
LAST-MODIFIED:20220501T052522Z
UID:8144-1651604400-1651604400@beulahbaptistva.com
SUMMARY:Wine and Wisdom (WAW)
DESCRIPTION:Wine and Wisdom now virtual and combined with Wine & Good News (WAGN)!  Interested in open discussions\, no judgements…Join Us via Zoom!  First Tuesday of the Month  \n\nAudio conferencing participants will need to call:  (415) 762-9988 or (646) 568-7788. AND follow the verbal instructions.\n\nEnter the Meeting ID: 472 121 0453 followed by the # key. \n\nYou will be asked to enter your participant ID. If you do not know your participant ID\, simply press the # key.\n\nFor those with a computer and webcam you use the URL: https://us04web.zoom.us/j/4721210453 \nPassword enter:  923574
URL:https://beulahbaptistva.com/event/wine-and-wisdom-waw-2/
LOCATION:Beulah Baptist Church\, 320 South Washington Street\, Alexandria\, VA\, 22314
CATEGORIES:Community,Meeting,Outreach
END:VEVENT
BEGIN:VEVENT
DTSTART;TZID=America/New_York:20220503T190000
DTEND;TZID=America/New_York:20220503T190000
DTSTAMP:20260419T223932
CREATED:20220501T051319Z
LAST-MODIFIED:20220501T051319Z
UID:8142-1651604400-1651604400@beulahbaptistva.com
SUMMARY:Wine and Good News (Millennials Ministry)
DESCRIPTION:Wine and Good News – WAGN will resumes today!  Join us via Zoom. \nLog In or Dial In \nID:  472 121 0453; Password:  923574 \nDial In:  415-762-9988 or 646-568-7788  same ID
URL:https://beulahbaptistva.com/event/wine-and-good-news-millennials-ministry/
LOCATION:Beulah Baptist Church\, 320 South Washington Street\, Alexandria\, VA\, 22314
CATEGORIES:Community,Meeting,Outreach
END:VEVENT
BEGIN:VEVENT
DTSTART;TZID=America/New_York:20220424T124000
DTEND;TZID=America/New_York:20220424T124000
DTSTAMP:20260419T223932
CREATED:20220424T010513Z
LAST-MODIFIED:20220424T010513Z
UID:8120-1650804000-1650804000@beulahbaptistva.com
SUMMARY:Bible Study
DESCRIPTION:Join Us today for Bible Study – immediately following the Morning Worship Service.
URL:https://beulahbaptistva.com/event/bible-study-17/
LOCATION:Beulah Baptist Church\, 320 South Washington Street\, Alexandria\, VA\, 22314
CATEGORIES:Community,Meeting,Outreach
ATTACH;FMTTYPE=image/jpeg:https://beulahbaptistva.com/wp-content/uploads/2018/07/Experience-Beulah-bible.jpg
END:VEVENT
BEGIN:VEVENT
DTSTART;TZID=America/New_York:20220409T110000
DTEND;TZID=America/New_York:20220409T123000
DTSTAMP:20260419T223932
CREATED:20220313T043703Z
LAST-MODIFIED:20220313T044250Z
UID:7960-1649502000-1649507400@beulahbaptistva.com
SUMMARY:Beulah's Inspirational Journeys
DESCRIPTION:Join Us as we continue our discussion of “The Stranger in the Lifeboat” by Mitch Albom via Zoom.  Next discussion will be on Chapters 6-10. \nZoom Info: \nLog-in or Dial-in \nMeeting ID:  472 121 0453 \nPassword:  923574 \nDial – (415) 762-9988 or (646) 568-7788 \n 
URL:https://beulahbaptistva.com/event/beulahs-inspirational-journeys-15/
LOCATION:Beulah Baptist Church\, 320 South Washington Street\, Alexandria\, VA\, 22314
CATEGORIES:Community,Meeting,Outreach
END:VEVENT
BEGIN:VEVENT
DTSTART;TZID=America/New_York:20220327T124000
DTEND;TZID=America/New_York:20220327T124000
DTSTAMP:20260419T223932
CREATED:20220320T051946Z
LAST-MODIFIED:20220320T051946Z
UID:7982-1648384800-1648384800@beulahbaptistva.com
SUMMARY:Bible Study
DESCRIPTION:Join Us today for Bible Study – immediately following the Morning Worship Service.
URL:https://beulahbaptistva.com/event/bible-study-16/
LOCATION:Beulah Baptist Church\, 320 South Washington Street\, Alexandria\, VA\, 22314
CATEGORIES:Community,Meeting,Outreach
ATTACH;FMTTYPE=image/jpeg:https://beulahbaptistva.com/wp-content/uploads/2018/07/Experience-Beulah-bible.jpg
END:VEVENT
BEGIN:VEVENT
DTSTART;TZID=America/New_York:20220312T110000
DTEND;TZID=America/New_York:20220312T123000
DTSTAMP:20260419T223932
CREATED:20220206T025727Z
LAST-MODIFIED:20220206T030434Z
UID:7839-1647082800-1647088200@beulahbaptistva.com
SUMMARY:Beulah's Inspirational Journeys
DESCRIPTION:Join Us as we begin our discussions on our new read – The Stranger in the Lifeboat by Mitch Albom via zoom. \nZoom Info: \nLog In or Dial In \nMeeting ID:  472 121 0453 \nPassword:  923574 \nDial 1-415- 762-9988 or 1- 646-568-7788
URL:https://beulahbaptistva.com/event/beulahs-inspirational-journeys-14/
LOCATION:Beulah Baptist Church\, 320 South Washington Street\, Alexandria\, VA\, 22314
CATEGORIES:Community,Meeting,Outreach
END:VEVENT
BEGIN:VEVENT
DTSTART;TZID=America/New_York:20220213T124500
DTEND;TZID=America/New_York:20220213T134500
DTSTAMP:20260419T223932
CREATED:20211212T014808Z
LAST-MODIFIED:20220206T024044Z
UID:7669-1644756300-1644759900@beulahbaptistva.com
SUMMARY:Beulah's Inspirational Journeys
DESCRIPTION:Join Us as we begin our discussion on our New Read in March – “The Stranger in the Lifeboat” by author Mitch Albom.
URL:https://beulahbaptistva.com/event/beulahs-inspirational-journeys-13/
LOCATION:Beulah Baptist Church\, 320 South Washington Street\, Alexandria\, VA\, 22314
CATEGORIES:Community,Meeting,Outreach
END:VEVENT
BEGIN:VEVENT
DTSTART;TZID=America/New_York:20220108T124500
DTEND;TZID=America/New_York:20220108T134500
DTSTAMP:20260419T223932
CREATED:20211212T014406Z
LAST-MODIFIED:20211212T015022Z
UID:7667-1641645900-1641649500@beulahbaptistva.com
SUMMARY:Beulah's Inspirational Journeys
DESCRIPTION:Stay tuned for the announcement of our next read in March 2022!
URL:https://beulahbaptistva.com/event/beulahs-inspirational-journeys-12/
LOCATION:Beulah Baptist Church\, 320 South Washington Street\, Alexandria\, VA\, 22314
CATEGORIES:Community,Meeting,Outreach
END:VEVENT
BEGIN:VEVENT
DTSTART;TZID=America/New_York:20211219T063000
DTEND;TZID=America/New_York:20211219T233000
DTSTAMP:20260419T223932
CREATED:20211114T021902Z
LAST-MODIFIED:20211114T021902Z
UID:7539-1639895400-1639956600@beulahbaptistva.com
SUMMARY:Stay Connected - Still Here for Her Members
DESCRIPTION:Please click below to view the Updated Connection Information.
URL:https://beulahbaptistva.com/event/stay-connected-still-here-for-her-members-24/
LOCATION:Beulah Baptist Church\, 320 South Washington Street\, Alexandria\, VA\, 22314
CATEGORIES:Community,Meeting,Outreach,Service
END:VEVENT
BEGIN:VEVENT
DTSTART;TZID=America/New_York:20211215T063000
DTEND;TZID=America/New_York:20211215T233000
DTSTAMP:20260419T223932
CREATED:20211114T021714Z
LAST-MODIFIED:20211114T021714Z
UID:7537-1639549800-1639611000@beulahbaptistva.com
SUMMARY:Stay Connected - Still Here for Her Members
DESCRIPTION:Please click below to view the Updated Connection Information.
URL:https://beulahbaptistva.com/event/stay-connected-still-here-for-her-members-23/
LOCATION:Beulah Baptist Church\, 320 South Washington Street\, Alexandria\, VA\, 22314
CATEGORIES:Community,Meeting,Outreach,Service
END:VEVENT
BEGIN:VEVENT
DTSTART;TZID=America/New_York:20211212T063000
DTEND;TZID=America/New_York:20211212T233000
DTSTAMP:20260419T223932
CREATED:20211114T021523Z
LAST-MODIFIED:20211114T021523Z
UID:7535-1639290600-1639351800@beulahbaptistva.com
SUMMARY:Stay Connected - Still Here for Her Members
DESCRIPTION:Please click below to view the Updated Connection Information.
URL:https://beulahbaptistva.com/event/stay-connected-still-here-for-her-members-22/
LOCATION:Beulah Baptist Church\, 320 South Washington Street\, Alexandria\, VA\, 22314
CATEGORIES:Community,Meeting,Outreach,Service
END:VEVENT
BEGIN:VEVENT
DTSTART;TZID=America/New_York:20211211T110000
DTEND;TZID=America/New_York:20211211T123000
DTSTAMP:20260419T223932
CREATED:20211114T022222Z
LAST-MODIFIED:20211114T022252Z
UID:7541-1639220400-1639225800@beulahbaptistva.com
SUMMARY:Beulah's Inspirational Journeys
DESCRIPTION:Join Us as we discuss our latest read\, “Mercy House” by Alena Dillon.  Discussion to start on Chapter 7 this month.
URL:https://beulahbaptistva.com/event/beulahs-inspirational-journeys-11/
LOCATION:Beulah Baptist Church\, 320 South Washington Street\, Alexandria\, VA\, 22314
CATEGORIES:Community,Meeting,Outreach
END:VEVENT
BEGIN:VEVENT
DTSTART;TZID=America/New_York:20211208T063000
DTEND;TZID=America/New_York:20211208T233000
DTSTAMP:20260419T223932
CREATED:20211114T015146Z
LAST-MODIFIED:20211114T015146Z
UID:7531-1638945000-1639006200@beulahbaptistva.com
SUMMARY:Stay Connected - Still Here for Her Members
DESCRIPTION:Please click below to view the Updated Connection Information.
URL:https://beulahbaptistva.com/event/stay-connected-still-here-for-her-members-20/
LOCATION:Beulah Baptist Church\, 320 South Washington Street\, Alexandria\, VA\, 22314
CATEGORIES:Community,Meeting,Outreach,Service
END:VEVENT
END:VCALENDAR