BEGIN:VCALENDAR
VERSION:2.0
PRODID:-//Beulah Baptist Church - ECPv6.15.20//NONSGML v1.0//EN
CALSCALE:GREGORIAN
METHOD:PUBLISH
X-WR-CALNAME:Beulah Baptist Church
X-ORIGINAL-URL:https://beulahbaptistva.com
X-WR-CALDESC:Events for Beulah Baptist Church
REFRESH-INTERVAL;VALUE=DURATION:PT1H
X-Robots-Tag:noindex
X-PUBLISHED-TTL:PT1H
BEGIN:VTIMEZONE
TZID:America/New_York
BEGIN:DAYLIGHT
TZOFFSETFROM:-0500
TZOFFSETTO:-0400
TZNAME:EDT
DTSTART:20220313T070000
END:DAYLIGHT
BEGIN:STANDARD
TZOFFSETFROM:-0400
TZOFFSETTO:-0500
TZNAME:EST
DTSTART:20221106T060000
END:STANDARD
BEGIN:DAYLIGHT
TZOFFSETFROM:-0500
TZOFFSETTO:-0400
TZNAME:EDT
DTSTART:20230312T070000
END:DAYLIGHT
BEGIN:STANDARD
TZOFFSETFROM:-0400
TZOFFSETTO:-0500
TZNAME:EST
DTSTART:20231105T060000
END:STANDARD
BEGIN:DAYLIGHT
TZOFFSETFROM:-0500
TZOFFSETTO:-0400
TZNAME:EDT
DTSTART:20240310T070000
END:DAYLIGHT
BEGIN:STANDARD
TZOFFSETFROM:-0400
TZOFFSETTO:-0500
TZNAME:EST
DTSTART:20241103T060000
END:STANDARD
BEGIN:DAYLIGHT
TZOFFSETFROM:-0500
TZOFFSETTO:-0400
TZNAME:EDT
DTSTART:20250309T070000
END:DAYLIGHT
BEGIN:STANDARD
TZOFFSETFROM:-0400
TZOFFSETTO:-0500
TZNAME:EST
DTSTART:20251102T060000
END:STANDARD
BEGIN:DAYLIGHT
TZOFFSETFROM:-0500
TZOFFSETTO:-0400
TZNAME:EDT
DTSTART:20260308T070000
END:DAYLIGHT
BEGIN:STANDARD
TZOFFSETFROM:-0400
TZOFFSETTO:-0500
TZNAME:EST
DTSTART:20261101T060000
END:STANDARD
END:VTIMEZONE
BEGIN:VEVENT
DTSTART;TZID=America/New_York:20250208T110000
DTEND;TZID=America/New_York:20250208T123000
DTSTAMP:20260419T151224
CREATED:20250105T054823Z
LAST-MODIFIED:20250105T054823Z
UID:11819-1739012400-1739017800@beulahbaptistva.com
SUMMARY:Beulah's Inspirational Journeys
DESCRIPTION:Join US Today\, as we continue our new read\, “Eve” by Author Wm. Paul Young.  Read  Chapters 5-8 for our discussion via Zoom. \nZoom Info: \nMeeting ID:  472 121 0453 \nDial In:  (415) 762-9988 or (646) 568-7788 (Use Meeting ID above)
URL:https://beulahbaptistva.com/event/beulahs-inspirational-journeys-32/
LOCATION:Beulah Baptist Church\, 320 South Washington Street\, Alexandria\, VA\, 22314
CATEGORIES:Meeting
ATTACH;FMTTYPE=image/jpeg:https://beulahbaptistva.com/wp-content/uploads/2024/10/Eve-Book-Cover.jpg
END:VEVENT
BEGIN:VEVENT
DTSTART;TZID=America/New_York:20250123T183000
DTEND;TZID=America/New_York:20250123T183000
DTSTAMP:20260419T151224
CREATED:20250105T061000Z
LAST-MODIFIED:20250105T061000Z
UID:11878-1737657000-1737657000@beulahbaptistva.com
SUMMARY:Grief Support Ministry
DESCRIPTION:Grief Support Ministry Session – Join us via Zoom . \nZoom access :\n\nhttps://us02web.zoom.us/j/9666406165?pwd=LzdETFhzelhrNktkcGRsL21GUkQxdz09&omn=86731205805 \nMeeting ID: 966 640 6165\nPasscode: 916925 \nCall in: \n+1 301 715 8592 US (Washington DC)\nMeeting ID: 966 640 6165\nPasscode: 916925 \n\nFacilitator:  Linda Howard
URL:https://beulahbaptistva.com/event/grief-support-ministry-3/
LOCATION:Beulah Baptist Church\, 320 South Washington Street\, Alexandria\, VA\, 22314
CATEGORIES:Community,Meeting,Outreach
ATTACH;FMTTYPE=image/png:https://beulahbaptistva.com/wp-content/uploads/2023/12/Screenshot-2023-12-16-at-4.10.02 PM-6.png
END:VEVENT
BEGIN:VEVENT
DTSTART;TZID=America/New_York:20250111T110000
DTEND;TZID=America/New_York:20250111T123000
DTSTAMP:20260419T151224
CREATED:20250105T054500Z
LAST-MODIFIED:20250105T054500Z
UID:11817-1736593200-1736598600@beulahbaptistva.com
SUMMARY:Beulah's Inspirational Journeys
DESCRIPTION:Join US Today\, as we start our new read\, “Eve” by Author Wm. Paul Young.  Read  Chapters 1-4 for our discussion via Zoom. \nZoom Info: \nMeeting ID:  472 121 0453 \nDial In:  (415) 762-9988 or (646) 568-7788 (Use Meeting ID above)
URL:https://beulahbaptistva.com/event/beulahs-inspirational-journeys-31/
LOCATION:Beulah Baptist Church\, 320 South Washington Street\, Alexandria\, VA\, 22314
CATEGORIES:Meeting
ATTACH;FMTTYPE=image/jpeg:https://beulahbaptistva.com/wp-content/uploads/2024/10/Eve-Book-Cover.jpg
END:VEVENT
BEGIN:VEVENT
DTSTART;TZID=America/New_York:20241222T123000
DTEND;TZID=America/New_York:20241222T133000
DTSTAMP:20260419T151224
CREATED:20240622T195750Z
LAST-MODIFIED:20240622T201027Z
UID:10991-1734870600-1734874200@beulahbaptistva.com
SUMMARY:Bible Study
DESCRIPTION:Join Us for Bible Study immediately following the Morning Worship Service.
URL:https://beulahbaptistva.com/event/bible-study-29-3-2024-12-22/
LOCATION:Beulah Baptist Church\, 320 South Washington Street\, Alexandria\, VA\, 22314
CATEGORIES:Meeting,Training
ATTACH;FMTTYPE=image/jpeg:https://beulahbaptistva.com/wp-content/uploads/2018/07/Experience-Beulah-bible.jpg
END:VEVENT
BEGIN:VEVENT
DTSTART;TZID=America/New_York:20241214T110000
DTEND;TZID=America/New_York:20241214T123000
DTSTAMP:20260419T151224
CREATED:20241027T020644Z
LAST-MODIFIED:20241208T033002Z
UID:11412-1734174000-1734179400@beulahbaptistva.com
SUMMARY:Beulah's Inspirational Journeys
DESCRIPTION:On Hiatus for December.  Join Us in the New Year as we begin our new read:  “Eve” by author Wm. Paul Young.
URL:https://beulahbaptistva.com/event/beulahs-inspirational-journeys-30/
LOCATION:Beulah Baptist Church\, 320 South Washington Street\, Alexandria\, VA\, 22314
CATEGORIES:Community,Meeting,Outreach
ATTACH;FMTTYPE=image/jpeg:https://beulahbaptistva.com/wp-content/uploads/2024/10/Eve-Book-Cover.jpg
END:VEVENT
BEGIN:VEVENT
DTSTART;TZID=America/New_York:20241124T123000
DTEND;TZID=America/New_York:20241124T133000
DTSTAMP:20260419T151224
CREATED:20240622T195750Z
LAST-MODIFIED:20240622T201026Z
UID:10990-1732451400-1732455000@beulahbaptistva.com
SUMMARY:Bible Study
DESCRIPTION:Join Us for Bible Study immediately following the Morning Worship Service.
URL:https://beulahbaptistva.com/event/bible-study-29-3-2024-11-24/
LOCATION:Beulah Baptist Church\, 320 South Washington Street\, Alexandria\, VA\, 22314
CATEGORIES:Meeting,Training
ATTACH;FMTTYPE=image/jpeg:https://beulahbaptistva.com/wp-content/uploads/2018/07/Experience-Beulah-bible.jpg
END:VEVENT
BEGIN:VEVENT
DTSTART;TZID=America/New_York:20241109T110000
DTEND;TZID=America/New_York:20241109T123000
DTSTAMP:20260419T151224
CREATED:20241025T181239Z
LAST-MODIFIED:20241027T015427Z
UID:11397-1731150000-1731155400@beulahbaptistva.com
SUMMARY:Beulah's Inspirational Journeys
DESCRIPTION:Join US Today\, as we conclude our reading of\, “More Than I Imagined” by Author John Blake.  Read  Chapters 7-9 & Epilogue for our discussion via Zoom. \nZoom Info: \nID:  472 121 0453 \nDial In:  (415) 762-9988 or (646) 568-7788 (Use ID above)
URL:https://beulahbaptistva.com/event/beulahs-inspirational-journeys-29/
LOCATION:Beulah Baptist Church\, 320 South Washington Street\, Alexandria\, VA\, 22314
CATEGORIES:Meeting
ATTACH;FMTTYPE=image/jpeg:https://beulahbaptistva.com/wp-content/uploads/2023/12/More-Than-I-Imagined.jpg
END:VEVENT
BEGIN:VEVENT
DTSTART;TZID=America/New_York:20241027T123000
DTEND;TZID=America/New_York:20241027T133000
DTSTAMP:20260419T151224
CREATED:20240622T195750Z
LAST-MODIFIED:20240622T201025Z
UID:10989-1730032200-1730035800@beulahbaptistva.com
SUMMARY:Bible Study
DESCRIPTION:Join Us for Bible Study immediately following the Morning Worship Service.
URL:https://beulahbaptistva.com/event/bible-study-29-3-2024-10-27/
LOCATION:Beulah Baptist Church\, 320 South Washington Street\, Alexandria\, VA\, 22314
CATEGORIES:Meeting,Training
ATTACH;FMTTYPE=image/jpeg:https://beulahbaptistva.com/wp-content/uploads/2018/07/Experience-Beulah-bible.jpg
END:VEVENT
BEGIN:VEVENT
DTSTART;TZID=America/New_York:20240929T103100
DTEND;TZID=America/New_York:20240929T123000
DTSTAMP:20260419T151224
CREATED:20240928T220701Z
LAST-MODIFIED:20240928T220701Z
UID:11329-1727605860-1727613000@beulahbaptistva.com
SUMMARY:Sunday Bulletin
DESCRIPTION:
URL:https://beulahbaptistva.com/event/sunday-bulletin-125/
LOCATION:Beulah Baptist Church\, 320 South Washington Street\, Alexandria\, VA\, 22314
CATEGORIES:Community,Meeting,Outreach
ATTACH;FMTTYPE=image/jpeg:https://beulahbaptistva.com/wp-content/uploads/2024/09/5th-Sunday-09.29.24_Page_1.jpg
END:VEVENT
BEGIN:VEVENT
DTSTART;TZID=America/New_York:20240922T123000
DTEND;TZID=America/New_York:20240922T133000
DTSTAMP:20260419T151224
CREATED:20240622T195750Z
LAST-MODIFIED:20240622T201024Z
UID:10988-1727008200-1727011800@beulahbaptistva.com
SUMMARY:Bible Study
DESCRIPTION:Join Us for Bible Study immediately following the Morning Worship Service.
URL:https://beulahbaptistva.com/event/bible-study-29-3-2024-09-22/
LOCATION:Beulah Baptist Church\, 320 South Washington Street\, Alexandria\, VA\, 22314
CATEGORIES:Meeting,Training
ATTACH;FMTTYPE=image/jpeg:https://beulahbaptistva.com/wp-content/uploads/2018/07/Experience-Beulah-bible.jpg
END:VEVENT
BEGIN:VEVENT
DTSTART;TZID=America/New_York:20240920T190000
DTEND;TZID=America/New_York:20240920T203000
DTSTAMP:20260419T151224
CREATED:20240914T223243Z
LAST-MODIFIED:20240914T223243Z
UID:11313-1726858800-1726864200@beulahbaptistva.com
SUMMARY:Church Business Meeting via Zoom
DESCRIPTION:
URL:https://beulahbaptistva.com/event/church-business-meeting-via-zoom/
LOCATION:Beulah Baptist Church\, 320 South Washington Street\, Alexandria\, VA\, 22314
CATEGORIES:Meeting
END:VEVENT
BEGIN:VEVENT
DTSTART;TZID=America/New_York:20240914T110000
DTEND;TZID=America/New_York:20240914T130000
DTSTAMP:20260419T151224
CREATED:20240908T001951Z
LAST-MODIFIED:20240908T001951Z
UID:10138-1726311600-1726318800@beulahbaptistva.com
SUMMARY:Beulah's Inspirational Journeys - Book Club
DESCRIPTION:Join US Today\, as we begin our new read! \nPlease purchase our next selection\, “More Than I Imagined” by John Blake and Read Prologue & Chapters 1-3 before our next meeting on \nSaturday\, September 14th @ 11am \nvia Zoom \nZoom Info: \nID:  472 121 0453 \nDial In:  (415) 762-9988 or (646) 568-7788 (Use ID above)
URL:https://beulahbaptistva.com/event/beulahs-inspirational-journeys-book-club-9/
LOCATION:Beulah Baptist Church\, 320 South Washington Street\, Alexandria\, VA\, 22314
CATEGORIES:Meeting,Outreach
ATTACH;FMTTYPE=image/jpeg:https://beulahbaptistva.com/wp-content/uploads/2023/12/More-Than-I-Imagined.jpg
END:VEVENT
BEGIN:VEVENT
DTSTART;TZID=America/New_York:20240810T110000
DTEND;TZID=America/New_York:20240810T123000
DTSTAMP:20260419T151224
CREATED:20240609T051142Z
LAST-MODIFIED:20240609T051142Z
UID:10944-1723287600-1723293000@beulahbaptistva.com
SUMMARY:Beulah's Inspirational Journeys
DESCRIPTION:On hiatus for the month of August.  We will resume in September with our new read– to be announced.
URL:https://beulahbaptistva.com/event/beulahs-inspirational-journeys-28/
LOCATION:Beulah Baptist Church\, 320 South Washington Street\, Alexandria\, VA\, 22314
CATEGORIES:Community,Meeting,Outreach
ATTACH;FMTTYPE=image/jpeg:https://beulahbaptistva.com/wp-content/uploads/2024/06/books-stack.jpg
END:VEVENT
BEGIN:VEVENT
DTSTART;TZID=America/New_York:20240713T110000
DTEND;TZID=America/New_York:20240713T123000
DTSTAMP:20260419T151224
CREATED:20240609T045644Z
LAST-MODIFIED:20240609T045644Z
UID:10941-1720868400-1720873800@beulahbaptistva.com
SUMMARY:Beulah's Inspirational Journeys
DESCRIPTION:Join Us for the conclusion of our current read\, “Living Water” by Obery Hendricks.  Read Chapters 38-44 for our final discussion.
URL:https://beulahbaptistva.com/event/beulahs-inspirational-journeys-27/
LOCATION:Beulah Baptist Church\, 320 South Washington Street\, Alexandria\, VA\, 22314
CATEGORIES:Meeting
ATTACH;FMTTYPE=image/jpeg:https://beulahbaptistva.com/wp-content/uploads/2024/06/Living-Water.jpg
END:VEVENT
BEGIN:VEVENT
DTSTART;TZID=America/New_York:20240623T123000
DTEND;TZID=America/New_York:20240623T133000
DTSTAMP:20260419T151224
CREATED:20240622T195750Z
LAST-MODIFIED:20240622T201023Z
UID:10984-1719145800-1719149400@beulahbaptistva.com
SUMMARY:Bible Study
DESCRIPTION:Join Us for Bible Study immediately following the Morning Worship Service.
URL:https://beulahbaptistva.com/event/bible-study-29-3/
LOCATION:Beulah Baptist Church\, 320 South Washington Street\, Alexandria\, VA\, 22314
CATEGORIES:Meeting,Training
ATTACH;FMTTYPE=image/jpeg:https://beulahbaptistva.com/wp-content/uploads/2018/07/Experience-Beulah-bible.jpg
END:VEVENT
BEGIN:VEVENT
DTSTART;TZID=America/New_York:20240225T124500
DTEND;TZID=America/New_York:20240225T134500
DTSTAMP:20260419T151224
CREATED:20240203T050432Z
LAST-MODIFIED:20240204T184337Z
UID:10454-1708865100-1708868700@beulahbaptistva.com
SUMMARY:Bible Study
DESCRIPTION:Join Us for Bible Study immediately following the Morning Worship Service.
URL:https://beulahbaptistva.com/event/bible-study-29-2/
LOCATION:Beulah Baptist Church\, 320 South Washington Street\, Alexandria\, VA\, 22314
CATEGORIES:Community,Meeting,Outreach
END:VEVENT
BEGIN:VEVENT
DTSTART;TZID=America/New_York:20240210T110000
DTEND;TZID=America/New_York:20240210T123000
DTSTAMP:20260419T151224
CREATED:20240113T181917Z
LAST-MODIFIED:20240113T181917Z
UID:10333-1707562800-1707568200@beulahbaptistva.com
SUMMARY:Beulah's Inspirational Journeys
DESCRIPTION:Join US Today\, as we continue our reading of\, “Living Water” by Author & Professor\, Rev. Dr. Obery Hendricks\,.  Read Introductory pages & Chapters 17-21 for our discussion via Zoom. \nZoom Info: \nID:  472 121 0453 \nDial In:  (415) 762-9988 or (646) 568-7788 (Use ID above)
URL:https://beulahbaptistva.com/event/beulahs-inspirational-journeys-26/
LOCATION:Beulah Baptist Church\, 320 South Washington Street\, Alexandria\, VA\, 22314
CATEGORIES:Community,Meeting,Service
END:VEVENT
BEGIN:VEVENT
DTSTART;TZID=America/New_York:20240204T093000
DTEND;TZID=America/New_York:20240204T102500
DTSTAMP:20260419T151224
CREATED:20240203T050613Z
LAST-MODIFIED:20240203T050613Z
UID:10456-1707039000-1707042300@beulahbaptistva.com
SUMMARY:Sunday School
DESCRIPTION:Join Us before Sunday Morning Worship at 9:30 for in-depth and insightful Sunday School led by Ms. Bonita Crawford.
URL:https://beulahbaptistva.com/event/sunday-school-5-2/
LOCATION:Beulah Baptist Church\, 320 South Washington Street\, Alexandria\, VA\, 22314
CATEGORIES:Community,Meeting,Outreach
ATTACH;FMTTYPE=image/png:https://beulahbaptistva.com/wp-content/uploads/2023/12/Screenshot-2023-12-16-at-4.10.02 PM-6.png
END:VEVENT
BEGIN:VEVENT
DTSTART;TZID=America/New_York:20240128T124500
DTEND;TZID=America/New_York:20240128T124500
DTSTAMP:20260419T151224
CREATED:20231228T192523Z
LAST-MODIFIED:20231228T192523Z
UID:10202-1706445900-1706445900@beulahbaptistva.com
SUMMARY:Bible Study
DESCRIPTION:Join Us for Bible Study immediately following the Morning Worship Service.
URL:https://beulahbaptistva.com/event/bible-study-28/
LOCATION:Beulah Baptist Church\, 320 South Washington Street\, Alexandria\, VA\, 22314
CATEGORIES:Community,Meeting,Outreach,Training
END:VEVENT
BEGIN:VEVENT
DTSTART;TZID=America/New_York:20240128T093000
DTEND;TZID=America/New_York:20240128T102500
DTSTAMP:20260419T151224
CREATED:20240111T232517Z
LAST-MODIFIED:20240111T232517Z
UID:10307-1706434200-1706437500@beulahbaptistva.com
SUMMARY:Sunday School
DESCRIPTION:Join Us before Sunday Morning Worship at 9:30 for in-depth and insightful Sunday School led by Ms. Bonita Crawford.
URL:https://beulahbaptistva.com/event/sunday-school-4/
LOCATION:Beulah Baptist Church\, 320 South Washington Street\, Alexandria\, VA\, 22314
CATEGORIES:Community,Meeting,Outreach
ATTACH;FMTTYPE=image/png:https://beulahbaptistva.com/wp-content/uploads/2023/12/Screenshot-2023-12-16-at-4.10.02 PM-6.png
END:VEVENT
BEGIN:VEVENT
DTSTART;TZID=America/New_York:20240125T183000
DTEND;TZID=America/New_York:20240125T200000
DTSTAMP:20260419T151224
CREATED:20240120T175919Z
LAST-MODIFIED:20240120T175919Z
UID:10373-1706207400-1706212800@beulahbaptistva.com
SUMMARY:Grief Support Ministry
DESCRIPTION:Please join us this Thursday\, January 25th at 6:30 PM via Zoom as we discuss “Grieving inUncertain Times\,” led by Sister Teresa Stubblefield and Sister Linda Howard. \nZoom Information below: \nDial-In: 1-301-715-8592 \nMeeting ID: 885-7673-9604 \nPasscode: 367636
URL:https://beulahbaptistva.com/event/grief-support-ministry-2/
LOCATION:Beulah Baptist Church\, 320 South Washington Street\, Alexandria\, VA\, 22314
CATEGORIES:Community,Meeting,Outreach
ATTACH;FMTTYPE=image/png:https://beulahbaptistva.com/wp-content/uploads/2023/12/Screenshot-2023-12-16-at-4.10.02 PM-6.png
END:VEVENT
BEGIN:VEVENT
DTSTART;TZID=America/New_York:20240121T093000
DTEND;TZID=America/New_York:20240121T102500
DTSTAMP:20260419T151224
CREATED:20240111T232335Z
LAST-MODIFIED:20240111T232335Z
UID:10303-1705829400-1705832700@beulahbaptistva.com
SUMMARY:Sunday School
DESCRIPTION:Join Us before Sunday Morning Worship at 9:30 for in-depth and insightful Sunday School led by Ms. Bonita Crawford.
URL:https://beulahbaptistva.com/event/sunday-school-3/
LOCATION:Beulah Baptist Church\, 320 South Washington Street\, Alexandria\, VA\, 22314
CATEGORIES:Community,Meeting,Outreach
ATTACH;FMTTYPE=image/png:https://beulahbaptistva.com/wp-content/uploads/2023/12/Screenshot-2023-12-16-at-4.10.02 PM-6.png
END:VEVENT
BEGIN:VEVENT
DTSTART;TZID=America/New_York:20240117T190000
DTEND;TZID=America/New_York:20240117T200000
DTSTAMP:20260419T151224
CREATED:20240105T175614Z
LAST-MODIFIED:20240105T175614Z
UID:10234-1705518000-1705521600@beulahbaptistva.com
SUMMARY:The Liturgical Year Virtual Class
DESCRIPTION:Join US with Rev. James Daniely on Zoom every WEDNESDAY evening from 7PM to 8PM to learn what is “The Liturgical Year\,” where it began and why it is important? \nZoom Info: \nID:  472 121 0453 \nDial In:  (415) 762-9988 or (646) 568-7788 (Use ID above)
URL:https://beulahbaptistva.com/event/the-liturgical-year-virtual-class-2/
LOCATION:Beulah Baptist Church\, 320 South Washington Street\, Alexandria\, VA\, 22314
CATEGORIES:Community,Meeting,Outreach
ATTACH;FMTTYPE=image/png:https://beulahbaptistva.com/wp-content/uploads/2023/12/Screenshot-2023-12-16-at-4.10.02 PM-6.png
END:VEVENT
BEGIN:VEVENT
DTSTART;TZID=America/New_York:20240114T093000
DTEND;TZID=America/New_York:20240114T222500
DTSTAMP:20260419T151224
CREATED:20240111T205439Z
LAST-MODIFIED:20240111T232341Z
UID:10285-1705224600-1705271100@beulahbaptistva.com
SUMMARY:Sunday School
DESCRIPTION:Join Us before Sunday Morning Worship at 9:30 for in-depth and insightful Sunday School led by Ms. Bonita Crawford.
URL:https://beulahbaptistva.com/event/sunday-school-2/
LOCATION:Beulah Baptist Church\, 320 South Washington Street\, Alexandria\, VA\, 22314
CATEGORIES:Community,Meeting,Service
ATTACH;FMTTYPE=image/png:https://beulahbaptistva.com/wp-content/uploads/2023/12/Screenshot-2023-12-16-at-4.10.02 PM-6.png
END:VEVENT
BEGIN:VEVENT
DTSTART;TZID=America/New_York:20240113T110000
DTEND;TZID=America/New_York:20240113T123000
DTSTAMP:20260419T151224
CREATED:20230805T214256Z
LAST-MODIFIED:20231216T220012Z
UID:9730-1705143600-1705149000@beulahbaptistva.com
SUMMARY:Beulah's Inspirational Journeys
DESCRIPTION:Join US Today\, as we continue our reading of\, “Living Water” by Author & Professor\, Rev. Dr. Obery Hendricks\,.  Read Introductory pages & Chapters 11-16 for our discussion via Zoom. \nZoom Info: \nID:  472 121 0453 \nDial In:  (415) 762-9988 or (646) 568-7788 (Use ID above)
URL:https://beulahbaptistva.com/event/beulahs-inspirational-journeys-25/
LOCATION:Beulah Baptist Church\, 320 South Washington Street\, Alexandria\, VA\, 22314
CATEGORIES:Community,Meeting,Outreach
END:VEVENT
BEGIN:VEVENT
DTSTART;TZID=America/New_York:20240110T190000
DTEND;TZID=America/New_York:20240110T200000
DTSTAMP:20260419T151224
CREATED:20240105T172925Z
LAST-MODIFIED:20240105T175603Z
UID:10232-1704913200-1704916800@beulahbaptistva.com
SUMMARY:The Liturgical Year Virtual Class
DESCRIPTION:Join US with Rev. James Daniely on Zoom every WEDNESDAY evening from 7PM to 8PM to learn what is “The Liturgical Year\,” where it began and why it is important? \nZoom Info: \nID:  472 121 0453 \nDial In:  (415) 762-9988 or (646) 568-7788 (Use ID above)
URL:https://beulahbaptistva.com/event/the-liturgical-year-virtual-class/
LOCATION:Beulah Baptist Church\, 320 South Washington Street\, Alexandria\, VA\, 22314
CATEGORIES:Community,Meeting,Outreach
ATTACH;FMTTYPE=image/png:https://beulahbaptistva.com/wp-content/uploads/2023/12/Screenshot-2023-12-16-at-4.10.02 PM-6.png
END:VEVENT
BEGIN:VEVENT
DTSTART;TZID=America/New_York:20231126T124500
DTEND;TZID=America/New_York:20231126T124500
DTSTAMP:20260419T151224
CREATED:20231028T204418Z
LAST-MODIFIED:20231112T033612Z
UID:10008-1701002700-1701002700@beulahbaptistva.com
SUMMARY:Bible Study
DESCRIPTION:Join Us for Bible Study immediately following the Morning Worship Service.
URL:https://beulahbaptistva.com/event/bible-study-27/
LOCATION:Beulah Baptist Church\, 320 South Washington Street\, Alexandria\, VA\, 22314
CATEGORIES:Community,Meeting,Outreach,Training
END:VEVENT
BEGIN:VEVENT
DTSTART;TZID=America/New_York:20230930T090000
DTEND;TZID=America/New_York:20230930T110000
DTSTAMP:20260419T151224
CREATED:20230924T033625Z
LAST-MODIFIED:20230924T033625Z
UID:9886-1696064400-1696071600@beulahbaptistva.com
SUMMARY:Walk & Praise
DESCRIPTION:Join Us Today!  Weather Permitting
URL:https://beulahbaptistva.com/event/walk-praise-9/
LOCATION:Fort Ward Park\, 4301 W. Braddock Road\, Alexandria\, VA\, 22304\, United States
CATEGORIES:Community,Meeting,Outreach
END:VEVENT
BEGIN:VEVENT
DTSTART;TZID=America/New_York:20230924T170000
DTEND;TZID=America/New_York:20230924T170000
DTSTAMP:20260419T151224
CREATED:20230604T033638Z
LAST-MODIFIED:20230924T033343Z
UID:9577-1695574800-1695574800@beulahbaptistva.com
SUMMARY:Bible Study
DESCRIPTION:Join Us for Bible Study Today via Zoom. \nZoom Info \nID:  472-121-0453 \nPasscode:  923574 (If Needed) \nDial-In:  (415) 762-9988 or (646) 568-7788
URL:https://beulahbaptistva.com/event/bible-study-26/
LOCATION:Beulah Baptist Church\, 320 South Washington Street\, Alexandria\, VA\, 22314
CATEGORIES:Community,Meeting,Outreach
ATTACH;FMTTYPE=image/jpeg:https://beulahbaptistva.com/wp-content/uploads/2018/07/Experience-Beulah-bible.jpg
END:VEVENT
BEGIN:VEVENT
DTSTART;TZID=America/New_York:20230906T120000
DTEND;TZID=America/New_York:20230906T130000
DTSTAMP:20260419T151224
CREATED:20230827T031847Z
LAST-MODIFIED:20230827T031847Z
UID:9783-1694001600-1694005200@beulahbaptistva.com
SUMMARY:NOONDAY PRAYER SERVICE
DESCRIPTION:Join Us Every Wednesday for our Dial-In Noonday Prayer Service – 1-267- 807-9605 & Enter Access Code:  647404.
URL:https://beulahbaptistva.com/event/noonday-prayer-service-91/
LOCATION:Beulah Baptist Church\, 320 South Washington Street\, Alexandria\, VA\, 22314
CATEGORIES:Community,Meeting,Outreach
ATTACH;FMTTYPE=image/jpeg:https://beulahbaptistva.com/wp-content/uploads/2018/07/Beulah-Crown.jpg
END:VEVENT
END:VCALENDAR