BEGIN:VCALENDAR
VERSION:2.0
PRODID:-//Beulah Baptist Church - ECPv6.15.20//NONSGML v1.0//EN
CALSCALE:GREGORIAN
METHOD:PUBLISH
X-ORIGINAL-URL:https://beulahbaptistva.com
X-WR-CALDESC:Events for Beulah Baptist Church
REFRESH-INTERVAL;VALUE=DURATION:PT1H
X-Robots-Tag:noindex
X-PUBLISHED-TTL:PT1H
BEGIN:VTIMEZONE
TZID:America/New_York
BEGIN:DAYLIGHT
TZOFFSETFROM:-0500
TZOFFSETTO:-0400
TZNAME:EDT
DTSTART:20230312T070000
END:DAYLIGHT
BEGIN:STANDARD
TZOFFSETFROM:-0400
TZOFFSETTO:-0500
TZNAME:EST
DTSTART:20231105T060000
END:STANDARD
BEGIN:DAYLIGHT
TZOFFSETFROM:-0500
TZOFFSETTO:-0400
TZNAME:EDT
DTSTART:20240310T070000
END:DAYLIGHT
BEGIN:STANDARD
TZOFFSETFROM:-0400
TZOFFSETTO:-0500
TZNAME:EST
DTSTART:20241103T060000
END:STANDARD
BEGIN:DAYLIGHT
TZOFFSETFROM:-0500
TZOFFSETTO:-0400
TZNAME:EDT
DTSTART:20250309T070000
END:DAYLIGHT
BEGIN:STANDARD
TZOFFSETFROM:-0400
TZOFFSETTO:-0500
TZNAME:EST
DTSTART:20251102T060000
END:STANDARD
END:VTIMEZONE
BEGIN:VEVENT
DTSTART;TZID=America/New_York:20240110T190000
DTEND;TZID=America/New_York:20240110T200000
DTSTAMP:20260421T221133
CREATED:20240105T172925Z
LAST-MODIFIED:20240105T175603Z
UID:10232-1704913200-1704916800@beulahbaptistva.com
SUMMARY:The Liturgical Year Virtual Class
DESCRIPTION:Join US with Rev. James Daniely on Zoom every WEDNESDAY evening from 7PM to 8PM to learn what is “The Liturgical Year\,” where it began and why it is important? \nZoom Info: \nID:  472 121 0453 \nDial In:  (415) 762-9988 or (646) 568-7788 (Use ID above)
URL:https://beulahbaptistva.com/event/the-liturgical-year-virtual-class/
LOCATION:Beulah Baptist Church\, 320 South Washington Street\, Alexandria\, VA\, 22314
CATEGORIES:Community,Meeting,Outreach
ATTACH;FMTTYPE=image/png:https://beulahbaptistva.com/wp-content/uploads/2023/12/Screenshot-2023-12-16-at-4.10.02 PM-6.png
END:VEVENT
BEGIN:VEVENT
DTSTART;TZID=America/New_York:20240113T110000
DTEND;TZID=America/New_York:20240113T123000
DTSTAMP:20260421T221133
CREATED:20230805T214256Z
LAST-MODIFIED:20231216T220012Z
UID:9730-1705143600-1705149000@beulahbaptistva.com
SUMMARY:Beulah's Inspirational Journeys
DESCRIPTION:Join US Today\, as we continue our reading of\, “Living Water” by Author & Professor\, Rev. Dr. Obery Hendricks\,.  Read Introductory pages & Chapters 11-16 for our discussion via Zoom. \nZoom Info: \nID:  472 121 0453 \nDial In:  (415) 762-9988 or (646) 568-7788 (Use ID above)
URL:https://beulahbaptistva.com/event/beulahs-inspirational-journeys-25/
LOCATION:Beulah Baptist Church\, 320 South Washington Street\, Alexandria\, VA\, 22314
CATEGORIES:Community,Meeting,Outreach
END:VEVENT
BEGIN:VEVENT
DTSTART;TZID=America/New_York:20240114T093000
DTEND;TZID=America/New_York:20240114T222500
DTSTAMP:20260421T221133
CREATED:20240111T205439Z
LAST-MODIFIED:20240111T232341Z
UID:10285-1705224600-1705271100@beulahbaptistva.com
SUMMARY:Sunday School
DESCRIPTION:Join Us before Sunday Morning Worship at 9:30 for in-depth and insightful Sunday School led by Ms. Bonita Crawford.
URL:https://beulahbaptistva.com/event/sunday-school-2/
LOCATION:Beulah Baptist Church\, 320 South Washington Street\, Alexandria\, VA\, 22314
CATEGORIES:Community,Meeting,Service
ATTACH;FMTTYPE=image/png:https://beulahbaptistva.com/wp-content/uploads/2023/12/Screenshot-2023-12-16-at-4.10.02 PM-6.png
END:VEVENT
BEGIN:VEVENT
DTSTART;TZID=America/New_York:20240117T190000
DTEND;TZID=America/New_York:20240117T200000
DTSTAMP:20260421T221133
CREATED:20240105T175614Z
LAST-MODIFIED:20240105T175614Z
UID:10234-1705518000-1705521600@beulahbaptistva.com
SUMMARY:The Liturgical Year Virtual Class
DESCRIPTION:Join US with Rev. James Daniely on Zoom every WEDNESDAY evening from 7PM to 8PM to learn what is “The Liturgical Year\,” where it began and why it is important? \nZoom Info: \nID:  472 121 0453 \nDial In:  (415) 762-9988 or (646) 568-7788 (Use ID above)
URL:https://beulahbaptistva.com/event/the-liturgical-year-virtual-class-2/
LOCATION:Beulah Baptist Church\, 320 South Washington Street\, Alexandria\, VA\, 22314
CATEGORIES:Community,Meeting,Outreach
ATTACH;FMTTYPE=image/png:https://beulahbaptistva.com/wp-content/uploads/2023/12/Screenshot-2023-12-16-at-4.10.02 PM-6.png
END:VEVENT
BEGIN:VEVENT
DTSTART;TZID=America/New_York:20240121T093000
DTEND;TZID=America/New_York:20240121T102500
DTSTAMP:20260421T221133
CREATED:20240111T232335Z
LAST-MODIFIED:20240111T232335Z
UID:10303-1705829400-1705832700@beulahbaptistva.com
SUMMARY:Sunday School
DESCRIPTION:Join Us before Sunday Morning Worship at 9:30 for in-depth and insightful Sunday School led by Ms. Bonita Crawford.
URL:https://beulahbaptistva.com/event/sunday-school-3/
LOCATION:Beulah Baptist Church\, 320 South Washington Street\, Alexandria\, VA\, 22314
CATEGORIES:Community,Meeting,Outreach
ATTACH;FMTTYPE=image/png:https://beulahbaptistva.com/wp-content/uploads/2023/12/Screenshot-2023-12-16-at-4.10.02 PM-6.png
END:VEVENT
BEGIN:VEVENT
DTSTART;TZID=America/New_York:20240125T183000
DTEND;TZID=America/New_York:20240125T200000
DTSTAMP:20260421T221133
CREATED:20240120T175919Z
LAST-MODIFIED:20240120T175919Z
UID:10373-1706207400-1706212800@beulahbaptistva.com
SUMMARY:Grief Support Ministry
DESCRIPTION:Please join us this Thursday\, January 25th at 6:30 PM via Zoom as we discuss “Grieving inUncertain Times\,” led by Sister Teresa Stubblefield and Sister Linda Howard. \nZoom Information below: \nDial-In: 1-301-715-8592 \nMeeting ID: 885-7673-9604 \nPasscode: 367636
URL:https://beulahbaptistva.com/event/grief-support-ministry-2/
LOCATION:Beulah Baptist Church\, 320 South Washington Street\, Alexandria\, VA\, 22314
CATEGORIES:Community,Meeting,Outreach
ATTACH;FMTTYPE=image/png:https://beulahbaptistva.com/wp-content/uploads/2023/12/Screenshot-2023-12-16-at-4.10.02 PM-6.png
END:VEVENT
BEGIN:VEVENT
DTSTART;TZID=America/New_York:20240128T093000
DTEND;TZID=America/New_York:20240128T102500
DTSTAMP:20260421T221133
CREATED:20240111T232517Z
LAST-MODIFIED:20240111T232517Z
UID:10307-1706434200-1706437500@beulahbaptistva.com
SUMMARY:Sunday School
DESCRIPTION:Join Us before Sunday Morning Worship at 9:30 for in-depth and insightful Sunday School led by Ms. Bonita Crawford.
URL:https://beulahbaptistva.com/event/sunday-school-4/
LOCATION:Beulah Baptist Church\, 320 South Washington Street\, Alexandria\, VA\, 22314
CATEGORIES:Community,Meeting,Outreach
ATTACH;FMTTYPE=image/png:https://beulahbaptistva.com/wp-content/uploads/2023/12/Screenshot-2023-12-16-at-4.10.02 PM-6.png
END:VEVENT
BEGIN:VEVENT
DTSTART;TZID=America/New_York:20240128T124500
DTEND;TZID=America/New_York:20240128T124500
DTSTAMP:20260421T221133
CREATED:20231228T192523Z
LAST-MODIFIED:20231228T192523Z
UID:10202-1706445900-1706445900@beulahbaptistva.com
SUMMARY:Bible Study
DESCRIPTION:Join Us for Bible Study immediately following the Morning Worship Service.
URL:https://beulahbaptistva.com/event/bible-study-28/
LOCATION:Beulah Baptist Church\, 320 South Washington Street\, Alexandria\, VA\, 22314
CATEGORIES:Community,Meeting,Outreach,Training
END:VEVENT
END:VCALENDAR