BEGIN:VCALENDAR
VERSION:2.0
PRODID:-//Beulah Baptist Church - ECPv6.15.20//NONSGML v1.0//EN
CALSCALE:GREGORIAN
METHOD:PUBLISH
X-ORIGINAL-URL:https://beulahbaptistva.com
X-WR-CALDESC:Events for Beulah Baptist Church
REFRESH-INTERVAL;VALUE=DURATION:PT1H
X-Robots-Tag:noindex
X-PUBLISHED-TTL:PT1H
BEGIN:VTIMEZONE
TZID:America/New_York
BEGIN:DAYLIGHT
TZOFFSETFROM:-0500
TZOFFSETTO:-0400
TZNAME:EDT
DTSTART:20190310T070000
END:DAYLIGHT
BEGIN:STANDARD
TZOFFSETFROM:-0400
TZOFFSETTO:-0500
TZNAME:EST
DTSTART:20191103T060000
END:STANDARD
BEGIN:DAYLIGHT
TZOFFSETFROM:-0500
TZOFFSETTO:-0400
TZNAME:EDT
DTSTART:20200308T070000
END:DAYLIGHT
BEGIN:STANDARD
TZOFFSETFROM:-0400
TZOFFSETTO:-0500
TZNAME:EST
DTSTART:20201101T060000
END:STANDARD
BEGIN:DAYLIGHT
TZOFFSETFROM:-0500
TZOFFSETTO:-0400
TZNAME:EDT
DTSTART:20210314T070000
END:DAYLIGHT
BEGIN:STANDARD
TZOFFSETFROM:-0400
TZOFFSETTO:-0500
TZNAME:EST
DTSTART:20211107T060000
END:STANDARD
BEGIN:DAYLIGHT
TZOFFSETFROM:-0500
TZOFFSETTO:-0400
TZNAME:EDT
DTSTART:20220313T070000
END:DAYLIGHT
BEGIN:STANDARD
TZOFFSETFROM:-0400
TZOFFSETTO:-0500
TZNAME:EST
DTSTART:20221106T060000
END:STANDARD
END:VTIMEZONE
BEGIN:VEVENT
DTSTART;TZID=America/New_York:20211218T100000
DTEND;TZID=America/New_York:20211218T100000
DTSTAMP:20260420T074813
CREATED:20211214T045345Z
LAST-MODIFIED:20211214T045744Z
UID:7674-1639821600-1639821600@beulahbaptistva.com
SUMMARY:Community Event - Food Distribution
DESCRIPTION:Christmas Drive Thru Food Giveaway sponsored by Mt. Olive Baptist Church – Olive Cart.  Walk-ups welcome.
URL:https://beulahbaptistva.com/event/community-event-food-distribution-5/
LOCATION:Mount Olive Baptist Church\, 1601 13th Road\, South\, Arlington\, VA\, 22204\, United States
CATEGORIES:Community,Food,Outreach
END:VEVENT
BEGIN:VEVENT
DTSTART;TZID=America/New_York:20211120T100000
DTEND;TZID=America/New_York:20211120T100000
DTSTAMP:20260420T074813
CREATED:20211114T010732Z
LAST-MODIFIED:20211114T010732Z
UID:7514-1637402400-1637402400@beulahbaptistva.com
SUMMARY:Community Event - Food Give Away
DESCRIPTION:Drive-Up Give Away Only – sponsored by Mt. Pleasant Baptist Church
URL:https://beulahbaptistva.com/event/community-event-food-give-away-2/
LOCATION:Mount Pleasant Baptist Church\, 6477 Lincolnia Road\, Alexandria\, VA\, 22312\, United States
CATEGORIES:Community,Food,Outreach
END:VEVENT
BEGIN:VEVENT
DTSTART;TZID=America/New_York:20211120T100000
DTEND;TZID=America/New_York:20211120T100000
DTSTAMP:20260420T074813
CREATED:20211107T021131Z
LAST-MODIFIED:20211107T021156Z
UID:7510-1637402400-1637402400@beulahbaptistva.com
SUMMARY:Community Event - Thanksgiving Food Distribution
DESCRIPTION:Drive-Thru Thanksgiving Food Distribution sponsored by Mt. Olive Baptist Church – OLIVE CART.
URL:https://beulahbaptistva.com/event/community-event-thanksgiving-food-distribution/
LOCATION:Mount Olive Baptist Church\, 1601 13th Road\, South\, Arlington\, VA\, 22204\, United States
CATEGORIES:Community,Food,Outreach
END:VEVENT
BEGIN:VEVENT
DTSTART;TZID=America/New_York:20211113T100000
DTEND;TZID=America/New_York:20211113T100000
DTSTAMP:20260420T074813
CREATED:20211107T020755Z
LAST-MODIFIED:20211107T020755Z
UID:7506-1636797600-1636797600@beulahbaptistva.com
SUMMARY:Community Event - Free Food Distribution
DESCRIPTION:DRIVE-THRU FREE BOX OF FOOD SPONSORED BY MT. CALVARY BAPTIST CHURCH while supplies last.
URL:https://beulahbaptistva.com/event/community-event-free-food-distribution-2/
LOCATION:Mt. Calvary Baptist Church\, 2221 Emmett Drive\, VA\, 22307\, United States
CATEGORIES:Community,Food,Outreach
END:VEVENT
BEGIN:VEVENT
DTSTART;TZID=America/New_York:20211016T100000
DTEND;TZID=America/New_York:20211016T100000
DTSTAMP:20260420T074813
CREATED:20211009T002933Z
LAST-MODIFIED:20211009T002933Z
UID:7349-1634378400-1634378400@beulahbaptistva.com
SUMMARY:Community Event - Food Distribution
DESCRIPTION:Food Give Away sponsored by Mt. Olive Baptist Church – Olive Cart.
URL:https://beulahbaptistva.com/event/community-event-food-distribution-4/
LOCATION:Mount Olive Baptist Church\, 1601 13th Road\, South\, Arlington\, VA\, 22204\, United States
CATEGORIES:Community,Food,Outreach
END:VEVENT
BEGIN:VEVENT
DTSTART;TZID=America/New_York:20211009T100000
DTEND;TZID=America/New_York:20211009T100000
DTSTAMP:20260420T074813
CREATED:20211009T002258Z
LAST-MODIFIED:20211009T002258Z
UID:7345-1633773600-1633773600@beulahbaptistva.com
SUMMARY:Community Event - Food Give-Away
DESCRIPTION:Free Box of food – Drive-Through Give-Away sponsored by Mt. Calvary Baptist Church. One box per car while supplies last.
URL:https://beulahbaptistva.com/event/community-event-food-give-away/
LOCATION:Mt. Calvary Baptist Church\, 2221 Emmett Drive\, VA\, 22307\, United States
CATEGORIES:Community,Food,Outreach
END:VEVENT
BEGIN:VEVENT
DTSTART;TZID=America/New_York:20210515T100000
DTEND;TZID=America/New_York:20210515T100000
DTSTAMP:20260420T074813
CREATED:20210510T012846Z
LAST-MODIFIED:20210510T014148Z
UID:6847-1621072800-1621072800@beulahbaptistva.com
SUMMARY:Community Event - Food Distribution
DESCRIPTION:Drive-Thru Distribution of food.  One box per vehicle and Walk-ups Welcome while supplies last.  Sponsored by Mt. Olive Baptist Church\, Arlington\, VA.
URL:https://beulahbaptistva.com/event/community-event-food-distribution-3/
LOCATION:Mount Olive Baptist Church\, 1601 13th Road\, South\, Arlington\, VA\, 22204\, United States
CATEGORIES:Community,Food
END:VEVENT
BEGIN:VEVENT
DTSTART;TZID=America/New_York:20210424T090000
DTEND;TZID=America/New_York:20210424T090000
DTSTAMP:20260420T074813
CREATED:20210420T023331Z
LAST-MODIFIED:20210420T023632Z
UID:6790-1619254800-1619254800@beulahbaptistva.com
SUMMARY:Community Event - Food Distribution
DESCRIPTION:Drive-Up Give Away Only – Must be in Car – One Box Per Family.  Sponsored by Mt. Pleasant Baptist Church.  Saturday\, April 24th at 9am while supplies last.
URL:https://beulahbaptistva.com/event/community-event-food-distribution-2/
LOCATION:Mount Pleasant Baptist Church\, 6477 Lincolnia Road\, Alexandria\, VA\, 22312\, United States
CATEGORIES:Community,Food
END:VEVENT
BEGIN:VEVENT
DTSTART;TZID=America/New_York:20210320T110000
DTEND;TZID=America/New_York:20210320T110000
DTSTAMP:20260420T074813
CREATED:20210314T054355Z
LAST-MODIFIED:20210314T054355Z
UID:6440-1616238000-1616238000@beulahbaptistva.com
SUMMARY:Community Event
DESCRIPTION:Drive Through Food Distribution – One box per car while supplies last.  Mt. Calvary Baptist Church\, MCBC Annex Parking Lot\, 2221 Emmett Drive\, Alexandria\, VA  22307
URL:https://beulahbaptistva.com/event/community-event-11/
LOCATION:VA
CATEGORIES:Community,Food
END:VEVENT
BEGIN:VEVENT
DTSTART;TZID=America/New_York:20210118T110000
DTEND;TZID=America/New_York:20210118T140000
DTSTAMP:20260420T074813
CREATED:20210116T190218Z
LAST-MODIFIED:20210116T190645Z
UID:6236-1610967600-1610978400@beulahbaptistva.com
SUMMARY:Community Food Distribution
DESCRIPTION:MLK Drive-Thru Free Food Distribution to the first 500 families.
URL:https://beulahbaptistva.com/event/community-food-distribution/
LOCATION:Shiloh Baptist Church Alexandria\, 1401 Duke Street\, Alexandria\, VA\, 22314\, United States
CATEGORIES:Community,Food
END:VEVENT
BEGIN:VEVENT
DTSTART;TZID=America/New_York:20201219T090000
DTEND;TZID=America/New_York:20201219T090000
DTSTAMP:20260420T074813
CREATED:20201213T040206Z
LAST-MODIFIED:20201213T040500Z
UID:5997-1608368400-1608368400@beulahbaptistva.com
SUMMARY:Community Food Give Away
DESCRIPTION:Drive-Up Give Away Only While Supplies last – Must be in Car – Must wear Mask.
URL:https://beulahbaptistva.com/event/community-food-give-away/
LOCATION:Mount Pleasant Baptist Church\, 6477 Lincolnia Road\, Alexandria\, VA\, 22312\, United States
CATEGORIES:Community,Food
END:VEVENT
BEGIN:VEVENT
DTSTART;TZID=America/New_York:20201121T090000
DTEND;TZID=America/New_York:20201121T090000
DTSTAMP:20260420T074813
CREATED:20201115T005924Z
LAST-MODIFIED:20201115T010511Z
UID:5918-1605949200-1605949200@beulahbaptistva.com
SUMMARY:Community Event - Food Distribution
DESCRIPTION:Drive Up Food Give Away – 9am – Must be in a car.  One Box per car as long as supplies last.
URL:https://beulahbaptistva.com/event/community-event-food-distribution/
LOCATION:Mount Pleasant Baptist Church\, 6477 Lincolnia Road\, Alexandria\, VA\, 22312\, United States
CATEGORIES:Community,Food
END:VEVENT
BEGIN:VEVENT
DTSTART;TZID=America/New_York:20201114T110000
DTEND;TZID=America/New_York:20201114T110000
DTSTAMP:20260420T074813
CREATED:20201107T034808Z
LAST-MODIFIED:20201107T034808Z
UID:5887-1605351600-1605351600@beulahbaptistva.com
SUMMARY:Community Event - Free Food Distribution
DESCRIPTION:Free Box of Food Drive Through Give-Away while supplies last sponsored by Mt. Calvary Baptist Church\, Alexandria\, VA.
URL:https://beulahbaptistva.com/event/community-event-free-food-distribution/
LOCATION:VA
CATEGORIES:Community,Food,Outreach
END:VEVENT
BEGIN:VEVENT
DTSTART;TZID=America/New_York:20200815T110000
DTEND;TZID=America/New_York:20200815T110000
DTSTAMP:20260420T074813
CREATED:20200813T235046Z
LAST-MODIFIED:20200813T235046Z
UID:5299-1597489200-1597489200@beulahbaptistva.com
SUMMARY:Community Event - Food Drive Thru
DESCRIPTION:Drive-Thru Food Distribution – One box per vehicle.  Mt. Olive\, Arlington VA.  Starting 11am while supplies last.
URL:https://beulahbaptistva.com/event/community-event-food-drive-thru/
LOCATION:VA
CATEGORIES:Community,Food,Outreach
END:VEVENT
BEGIN:VEVENT
DTSTART;TZID=America/New_York:20200814T110000
DTEND;TZID=America/New_York:20200814T130000
DTSTAMP:20260420T074813
CREATED:20200811T155754Z
LAST-MODIFIED:20200811T160531Z
UID:5275-1597402800-1597410000@beulahbaptistva.com
SUMMARY:Community Event - Food Distribution
DESCRIPTION:First Agape Baptist Church – Food Distribution Every 2nd Friday of the month.  Must remain in vehicle.  One box per vehicle while supplies last.
URL:https://beulahbaptistva.com/event/community-event-food-distribution-2nd-friday-of-the-month/
LOCATION:First Agape Baptist Community of Faith\, 2423 Mt. Vernon Ave\, Alexandria\, VA\, 22301\, United States
CATEGORIES:Community,Food,Outreach
END:VEVENT
BEGIN:VEVENT
DTSTART;TZID=America/New_York:20200511T000000
DTEND;TZID=America/New_York:20200511T235900
DTSTAMP:20260420T074813
CREATED:20200504T030520Z
LAST-MODIFIED:20200504T030700Z
UID:4881-1589155200-1589241540@beulahbaptistva.com
SUMMARY:May Monday Meditations
DESCRIPTION:Monday Meditations (Every Monday during the month of May). \nHealth is Wealth:  Spiritual and Physical Health Awareness \nThen\, throughout the week be on the lookout for nutritional tips for diet and exercise for physical health.\n\nThese will be posted on Beulah’s Facebook and Youtube pages. \n\nStay healthy and blessed.
URL:https://beulahbaptistva.com/event/may-monday-meditations/
LOCATION:Beulah Baptist Church\, 320 South Washington Street\, Alexandria\, VA\, 22314
CATEGORIES:Community,Food,Outreach,Training
END:VEVENT
BEGIN:VEVENT
DTSTART;TZID=America/New_York:20200504T000000
DTEND;TZID=America/New_York:20200504T235900
DTSTAMP:20260420T074813
CREATED:20200504T025245Z
LAST-MODIFIED:20200504T025245Z
UID:4878-1588550400-1588636740@beulahbaptistva.com
SUMMARY:May 2020 - Mental Health Awareness Month
DESCRIPTION:May is Mental Health Awareness Month and Beulah is kicking off this week with a 2 part meditation video by Pastor Driskell\, for spiritual health. He has called this May Monday Meditations (Every Monday during the month of May). \n\nThen\, throughout the week be on the lookout for nutritional tips for diet and exercise for physical health.\n\nThese will be posted on Beulah’s Facebook and Youtube pages. 
URL:https://beulahbaptistva.com/event/may-2020-mental-health-awareness-month/
LOCATION:Beulah Baptist Church\, 320 South Washington Street\, Alexandria\, VA\, 22314
CATEGORIES:Community,Food,Outreach
END:VEVENT
BEGIN:VEVENT
DTSTART;TZID=America/New_York:20200322T080000
DTEND;TZID=America/New_York:20200322T080000
DTSTAMP:20260420T074813
CREATED:20200319T062126Z
LAST-MODIFIED:20200319T062126Z
UID:4453-1584864000-1584864000@beulahbaptistva.com
SUMMARY:Lenten Season:  Fasting Schedule
DESCRIPTION:Beulah is asked to participate in a partial and normal fast  \nbeginning March 22 – April 11. \nFasting Guidelines \n  \n\n\n\nWeek\nWeek One:  \nMarch 22 – 28\nWeek Two:  \nMarch 29 – April 4\nWeek Three: Holy Week \nApril 5 – April 11\n\n\nFood Plan\nChicken (grilled or baked) \nFish \nLegumes (beans\, peas\, peanuts\, almonds\, lentils\, nuts etc.) \nVegetables \nFruits \nWhole grains \nFruit Juice \nTea \nWater\nLegumes \nVegetables \nFruit \nWhole grains  \n100% fruit juice (no added sugar) \nTea \nWater \nNo meat until 5:00p.m. \n \nVegetables \nLegumes \nWhole grains \nFruit \nNo juice\, water only.  \nNo meat at all.  \nNo eating after 9pm\n\n\nPrayer Focus\nSpiritual and physical growth for the church and yourself; deliverance/healing and spiritual health\nThe vision\, God’s will for your life; preparation for what God is calling you to do.  \n \nThe Power of God in the world.  \n \n\n\n\n 
URL:https://beulahbaptistva.com/event/lenten-season-fasting-schedule/
LOCATION:Beulah Baptist Church\, 320 South Washington Street\, Alexandria\, VA\, 22314
CATEGORIES:Food
END:VEVENT
END:VCALENDAR