BEGIN:VCALENDAR
VERSION:2.0
PRODID:-//Beulah Baptist Church - ECPv6.15.20//NONSGML v1.0//EN
CALSCALE:GREGORIAN
METHOD:PUBLISH
X-ORIGINAL-URL:https://beulahbaptistva.com
X-WR-CALDESC:Events for Beulah Baptist Church
REFRESH-INTERVAL;VALUE=DURATION:PT1H
X-Robots-Tag:noindex
X-PUBLISHED-TTL:PT1H
BEGIN:VTIMEZONE
TZID:America/New_York
BEGIN:DAYLIGHT
TZOFFSETFROM:-0500
TZOFFSETTO:-0400
TZNAME:EDT
DTSTART:20230312T070000
END:DAYLIGHT
BEGIN:STANDARD
TZOFFSETFROM:-0400
TZOFFSETTO:-0500
TZNAME:EST
DTSTART:20231105T060000
END:STANDARD
BEGIN:DAYLIGHT
TZOFFSETFROM:-0500
TZOFFSETTO:-0400
TZNAME:EDT
DTSTART:20240310T070000
END:DAYLIGHT
BEGIN:STANDARD
TZOFFSETFROM:-0400
TZOFFSETTO:-0500
TZNAME:EST
DTSTART:20241103T060000
END:STANDARD
BEGIN:DAYLIGHT
TZOFFSETFROM:-0500
TZOFFSETTO:-0400
TZNAME:EDT
DTSTART:20250309T070000
END:DAYLIGHT
BEGIN:STANDARD
TZOFFSETFROM:-0400
TZOFFSETTO:-0500
TZNAME:EST
DTSTART:20251102T060000
END:STANDARD
END:VTIMEZONE
BEGIN:VEVENT
DTSTART;TZID=America/New_York:20241014T000000
DTEND;TZID=America/New_York:20241014T235900
DTSTAMP:20260419T092925
CREATED:20241011T213952Z
LAST-MODIFIED:20241011T213952Z
UID:11350-1728864000-1728950340@beulahbaptistva.com
SUMMARY:Daily Scriptures For Spiritual Growth & Outreach
DESCRIPTION:MONDAY: Leviticus 19:9-18 – 9“ ‘When you reap the harvest of your land\, do not reap to the very edges of your field or gather the gleanings of your harvest. 10Do not go over your vineyard a second time or pick up the grapes that have fallen. Leave them for the poor and the foreigner. I am the Lord your God. 11“ ‘Do not steal. “ ‘Do not lie. “ ‘Do not deceive one another. 12“ ‘Do not swear falsely by my name and so profane the name of your God. I am the Lord. 13“ ‘Do not defraud or rob your neighbor. “ ‘Do not hold back the wages of a hired worker overnight. 14“ ‘Do not curse the deaf or put a stumbling block in front of the blind\, but fear your God. I am the Lord. 15“ ‘Do not pervert justice; do not show partiality to the poor or favoritism to the great\, but judge your neighbor fairly. 16“ ‘Do not go about spreading slander among your people. “ ‘Do not do anything that endangers your neighbor’s life. I am the Lord. 17“ ‘Do not hate a fellow Israelite in your heart. Rebuke your neighbor frankly so you will not share in their guilt. 18“ ‘Do not seek revenge or bear a grudge against anyone among your people\, but love your neighbor as yourself. I am the Lord.
URL:https://beulahbaptistva.com/event/daily-scriptures-for-spiritual-growth-outreach-180/
LOCATION:Beulah Baptist Church\, 320 South Washington Street\, Alexandria\, VA\, 22314
CATEGORIES:Community,Daily Scriptures,Outreach
ATTACH;FMTTYPE=image/jpeg:https://beulahbaptistva.com/wp-content/uploads/2018/07/cropped-Beulah-Crown.jpg
END:VEVENT
END:VCALENDAR